BEGIN:VCALENDAR
VERSION:2.0
PRODID:-//EZFacility.com, Inc.//EZL 2.5.5.28621
BEGIN:VEVENT
UID:17038393@ezleagues.ezfacility.com
DTSTAMP:20260426T033641Z
CREATED:20260426T033641Z
DTSTART:20260307T210000Z
DTEND:20260307T213000Z
LOCATION:Field B
CONTACT:
SUMMARY:Tigers VS. Wolves
DESCRIPTION:League Name: Youth Soccer 2026 - 1st and 2nd Grade\nGame Type: 
 Regular\nGame Status: Pending\nHome Team: Tigers\nAway Team: Wolves\n
END:VEVENT
BEGIN:VEVENT
UID:17038394@ezleagues.ezfacility.com
DTSTAMP:20260426T033641Z
CREATED:20260426T033641Z
DTSTART:20260307T213000Z
DTEND:20260307T220000Z
LOCATION:Field A
CONTACT:
SUMMARY:Hornets VS. Tigers
DESCRIPTION:League Name: Youth Soccer 2026 - 1st and 2nd Grade\nGame Type: 
 Regular\nGame Status: Pending\nHome Team: Hornets\nAway Team: Tigers\n
END:VEVENT
BEGIN:VEVENT
UID:17038401@ezleagues.ezfacility.com
DTSTAMP:20260426T033641Z
CREATED:20260426T033641Z
DTSTART:20260314T200000Z
DTEND:20260314T203000Z
LOCATION:Field B
CONTACT:
SUMMARY:Lions VS. Tigers
DESCRIPTION:League Name: Youth Soccer 2026 - 1st and 2nd Grade\nGame Type: 
 Regular\nGame Status: Pending\nHome Team: Lions\nAway Team: Tigers\n
END:VEVENT
BEGIN:VEVENT
UID:17038403@ezleagues.ezfacility.com
DTSTAMP:20260426T033641Z
CREATED:20260426T033641Z
DTSTART:20260314T203000Z
DTEND:20260314T210000Z
LOCATION:Field B
CONTACT:
SUMMARY:Tigers VS. Wolves
DESCRIPTION:League Name: Youth Soccer 2026 - 1st and 2nd Grade\nGame Type: 
 Regular\nGame Status: Pending\nHome Team: Tigers\nAway Team: Wolves\n
END:VEVENT
BEGIN:VEVENT
UID:17038448@ezleagues.ezfacility.com
DTSTAMP:20260426T033641Z
CREATED:20260426T033641Z
DTSTART:20260321T200000Z
DTEND:20260321T203000Z
LOCATION:Field A
CONTACT:
SUMMARY:Eagles VS. Tigers
DESCRIPTION:League Name: Youth Soccer 2026 - 1st and 2nd Grade\nGame Type: 
 Regular\nGame Status: Pending\nHome Team: Eagles\nAway Team: Tigers\n
END:VEVENT
BEGIN:VEVENT
UID:17038451@ezleagues.ezfacility.com
DTSTAMP:20260426T033641Z
CREATED:20260426T033641Z
DTSTART:20260321T203000Z
DTEND:20260321T210000Z
LOCATION:Field B
CONTACT:
SUMMARY:Foxes VS. Tigers
DESCRIPTION:League Name: Youth Soccer 2026 - 1st and 2nd Grade\nGame Type: 
 Regular\nGame Status: Pending\nHome Team: Foxes\nAway Team: Tigers\n
END:VEVENT
BEGIN:VEVENT
UID:17038421@ezleagues.ezfacility.com
DTSTAMP:20260426T033641Z
CREATED:20260426T033641Z
DTSTART:20260404T190000Z
DTEND:20260404T193000Z
LOCATION:Field B
CONTACT:
SUMMARY:Cobras VS. Tigers
DESCRIPTION:League Name: Youth Soccer 2026 - 1st and 2nd Grade\nGame Type: 
 Regular\nGame Status: Pending\nHome Team: Cobras\nAway Team: Tigers\n
END:VEVENT
BEGIN:VEVENT
UID:17038415@ezleagues.ezfacility.com
DTSTAMP:20260426T033641Z
CREATED:20260426T033641Z
DTSTART:20260404T193000Z
DTEND:20260404T200000Z
LOCATION:Field B
CONTACT:
SUMMARY:Dolphins VS. Tigers
DESCRIPTION:League Name: Youth Soccer 2026 - 1st and 2nd Grade\nGame Type: 
 Regular\nGame Status: Pending\nHome Team: Dolphins\nAway Team: Tigers\n
END:VEVENT
BEGIN:VEVENT
UID:17038433@ezleagues.ezfacility.com
DTSTAMP:20260426T033641Z
CREATED:20260426T033641Z
DTSTART:20260411T200000Z
DTEND:20260411T203000Z
LOCATION:Field B
CONTACT:
SUMMARY:Lions VS. Tigers
DESCRIPTION:League Name: Youth Soccer 2026 - 1st and 2nd Grade\nGame Type: 
 Regular\nGame Status: Pending\nHome Team: Lions\nAway Team: Tigers\n
END:VEVENT
BEGIN:VEVENT
UID:17038435@ezleagues.ezfacility.com
DTSTAMP:20260426T033641Z
CREATED:20260426T033641Z
DTSTART:20260411T203000Z
DTEND:20260411T210000Z
LOCATION:Field B
CONTACT:
SUMMARY:Tigers VS. Wolves
DESCRIPTION:League Name: Youth Soccer 2026 - 1st and 2nd Grade\nGame Type: 
 Regular\nGame Status: Pending\nHome Team: Tigers\nAway Team: Wolves\n
END:VEVENT
BEGIN:VEVENT
UID:17038440@ezleagues.ezfacility.com
DTSTAMP:20260426T033641Z
CREATED:20260426T033641Z
DTSTART:20260418T200000Z
DTEND:20260418T203000Z
LOCATION:Field A
CONTACT:
SUMMARY:Eagles VS. Tigers
DESCRIPTION:League Name: Youth Soccer 2026 - 1st and 2nd Grade\nGame Type: 
 Regular\nGame Status: Pending\nHome Team: Eagles\nAway Team: Tigers\n
END:VEVENT
BEGIN:VEVENT
UID:17038443@ezleagues.ezfacility.com
DTSTAMP:20260426T033641Z
CREATED:20260426T033641Z
DTSTART:20260418T203000Z
DTEND:20260418T210000Z
LOCATION:Field B
CONTACT:
SUMMARY:Foxes VS. Tigers
DESCRIPTION:League Name: Youth Soccer 2026 - 1st and 2nd Grade\nGame Type: 
 Regular\nGame Status: Pending\nHome Team: Foxes\nAway Team: Tigers\n
END:VEVENT
BEGIN:VEVENT
UID:17038408@ezleagues.ezfacility.com
DTSTAMP:20260426T033641Z
CREATED:20260426T033641Z
DTSTART:20260425T200000Z
DTEND:20260425T203000Z
LOCATION:Field A
CONTACT:
SUMMARY:Eagles VS. Tigers
DESCRIPTION:League Name: Youth Soccer 2026 - 1st and 2nd Grade\nGame Type: 
 Regular\nGame Status: Pending\nHome Team: Eagles\nAway Team: Tigers\n
END:VEVENT
BEGIN:VEVENT
UID:17038411@ezleagues.ezfacility.com
DTSTAMP:20260426T033641Z
CREATED:20260426T033641Z
DTSTART:20260425T203000Z
DTEND:20260425T210000Z
LOCATION:Field B
CONTACT:
SUMMARY:Foxes VS. Tigers
DESCRIPTION:League Name: Youth Soccer 2026 - 1st and 2nd Grade\nGame Type: 
 Regular\nGame Status: Pending\nHome Team: Foxes\nAway Team: Tigers\n
END:VEVENT
END:VCALENDAR
