BEGIN:VCALENDAR
VERSION:2.0
PRODID:-//EZFacility.com, Inc.//EZL 2.5.5.28621
BEGIN:VEVENT
UID:17062832@ezleagues.ezfacility.com
DTSTAMP:20260421T050556Z
CREATED:20260421T050556Z
DTSTART:20260313T040000Z
DTEND:20260313T050000Z
LOCATION:Large Field
CONTACT:
SUMMARY:300 VS. AGUACATEROS
DESCRIPTION:League Name: MENS - THURSDAYS\nGame Type: Regular\nGame Status:
  Complete\nHome Team: 300\nAway Team: AGUACATEROS\nHome Score: 8\nAway Sco
 re: 12
END:VEVENT
BEGIN:VEVENT
UID:17062836@ezleagues.ezfacility.com
DTSTAMP:20260421T050556Z
CREATED:20260421T050556Z
DTSTART:20260320T050000Z
DTEND:20260320T060000Z
LOCATION:Large Field
CONTACT:
SUMMARY:AGUACATEROS VS. MSC FC
DESCRIPTION:League Name: MENS - THURSDAYS\nGame Type: Regular\nGame Status:
  Complete\nHome Team: AGUACATEROS\nAway Team: MSC FC\nHome Score: 12\nAway
  Score: 3
END:VEVENT
BEGIN:VEVENT
UID:17062845@ezleagues.ezfacility.com
DTSTAMP:20260421T050556Z
CREATED:20260421T050556Z
DTSTART:20260327T050000Z
DTEND:20260327T060000Z
LOCATION:Large Field
CONTACT:
SUMMARY:AGUACATEROS VS. INDEPENDIENTE
DESCRIPTION:League Name: MENS - THURSDAYS\nGame Type: Regular\nGame Status:
  Complete\nHome Team: AGUACATEROS\nAway Team: INDEPENDIENTE\nHome Score: 1
 2\nAway Score: 18
END:VEVENT
BEGIN:VEVENT
UID:17062849@ezleagues.ezfacility.com
DTSTAMP:20260421T050556Z
CREATED:20260421T050556Z
DTSTART:20260403T040000Z
DTEND:20260403T050000Z
LOCATION:Large Field
CONTACT:
SUMMARY:AGUACATEROS VS. SPURS 209
DESCRIPTION:League Name: MENS - THURSDAYS\nGame Type: Regular\nGame Status:
  Complete\nHome Team: AGUACATEROS\nAway Team: SPURS 209\nHome Score: 6\nAw
 ay Score: 10
END:VEVENT
BEGIN:VEVENT
UID:17062854@ezleagues.ezfacility.com
DTSTAMP:20260421T050556Z
CREATED:20260421T050556Z
DTSTART:20260410T010000Z
DTEND:20260410T020000Z
LOCATION:Large Field
CONTACT:
SUMMARY:LDV VS. AGUACATEROS
DESCRIPTION:League Name: MENS - THURSDAYS\nGame Type: Regular\nGame Status:
  Complete\nHome Team: LDV\nAway Team: AGUACATEROS\nHome Score: 13\nAway Sc
 ore: 7
END:VEVENT
BEGIN:VEVENT
UID:17062859@ezleagues.ezfacility.com
DTSTAMP:20260421T050556Z
CREATED:20260421T050556Z
DTSTART:20260417T030000Z
DTEND:20260417T040000Z
LOCATION:Large Field
CONTACT:
SUMMARY:SHAKER FC VS. AGUACATEROS
DESCRIPTION:League Name: MENS - THURSDAYS\nGame Type: Regular\nGame Status:
  Complete\nHome Team: SHAKER FC\nAway Team: AGUACATEROS\nHome Score: 12\nA
 way Score: 7
END:VEVENT
BEGIN:VEVENT
UID:17062861@ezleagues.ezfacility.com
DTSTAMP:20260421T050556Z
CREATED:20260421T050556Z
DTSTART:20260424T040000Z
DTEND:20260424T050000Z
LOCATION:Large Field
CONTACT:
SUMMARY:300 VS. AGUACATEROS
DESCRIPTION:League Name: MENS - THURSDAYS\nGame Type: Regular\nGame Status:
  Pending\nHome Team: 300\nAway Team: AGUACATEROS\n
END:VEVENT
BEGIN:VEVENT
UID:17062869@ezleagues.ezfacility.com
DTSTAMP:20260421T050556Z
CREATED:20260421T050556Z
DTSTART:20260501T030000Z
DTEND:20260501T040000Z
LOCATION:Large Field
CONTACT:
SUMMARY:EK FC VS. AGUACATEROS
DESCRIPTION:League Name: MENS - THURSDAYS\nGame Type: Regular\nGame Status:
  Pending\nHome Team: EK FC\nAway Team: AGUACATEROS\n
END:VEVENT
END:VCALENDAR
