BEGIN:VCALENDAR
VERSION:2.0
PRODID:-//EZFacility.com, Inc.//EZL 2.5.5.28621
BEGIN:VEVENT
UID:17047219@ezleagues.ezfacility.com
DTSTAMP:20260426T033738Z
CREATED:20260426T033738Z
DTSTART:20260310T001000Z
DTEND:20260310T011000Z
LOCATION:Davidson Chevrolet - Court #1
CONTACT:
SUMMARY:Team 315 VS. Benchwarmers
DESCRIPTION:League Name: Adult COED Basketball\nGame Type: Regular\nGame St
 atus: Complete\nHome Team: Team 315\nAway Team: Benchwarmers\nHome Score: 
 69\nAway Score: 49
END:VEVENT
BEGIN:VEVENT
UID:17056254@ezleagues.ezfacility.com
DTSTAMP:20260426T033738Z
CREATED:20260426T033738Z
DTSTART:20260317T011000Z
DTEND:20260317T021000Z
LOCATION:Davidson Chevrolet - Court #1
CONTACT:
SUMMARY:The Sombor Shufflers VS. Benchwarmers
DESCRIPTION:League Name: Adult COED Basketball\nGame Type: Regular\nGame St
 atus: Complete\nHome Team: The Sombor Shufflers\nAway Team: Benchwarmers\n
 Home Score: 51\nAway Score: 43
END:VEVENT
BEGIN:VEVENT
UID:17066595@ezleagues.ezfacility.com
DTSTAMP:20260426T033738Z
CREATED:20260426T033738Z
DTSTART:20260324T011000Z
DTEND:20260324T021000Z
LOCATION:Davidson Chevrolet - Court #1
CONTACT:
SUMMARY:Accelerate Red - By Nissan VS. Benchwarmers
DESCRIPTION:League Name: Adult COED Basketball\nGame Type: Regular\nGame St
 atus: Complete\nHome Team: Accelerate Red - By Nissan\nAway Team: Benchwar
 mers\nHome Score: 41\nAway Score: 59
END:VEVENT
BEGIN:VEVENT
UID:17066795@ezleagues.ezfacility.com
DTSTAMP:20260426T033738Z
CREATED:20260426T033738Z
DTSTART:20260331T011000Z
DTEND:20260331T021000Z
LOCATION:Davidson Buick - Court #2
CONTACT:
SUMMARY:Cash Out Kings VS. Benchwarmers
DESCRIPTION:League Name: Adult COED Basketball\nGame Type: Regular\nGame St
 atus: Complete\nHome Team: Cash Out Kings\nAway Team: Benchwarmers\nHome S
 core: 80\nAway Score: 71
END:VEVENT
BEGIN:VEVENT
UID:17075664@ezleagues.ezfacility.com
DTSTAMP:20260426T033738Z
CREATED:20260426T033738Z
DTSTART:20260407T001000Z
DTEND:20260407T011000Z
LOCATION:Davidson Buick - Court #2
CONTACT:
SUMMARY:The Poets VS. Benchwarmers
DESCRIPTION:League Name: Adult COED Basketball\nGame Type: Regular\nGame St
 atus: Complete\nHome Team: The Poets\nAway Team: Benchwarmers\nHome Score:
  80\nAway Score: 51
END:VEVENT
BEGIN:VEVENT
UID:17094742@ezleagues.ezfacility.com
DTSTAMP:20260426T033738Z
CREATED:20260426T033738Z
DTSTART:20260414T001000Z
DTEND:20260414T011000Z
LOCATION:Davidson Buick - Court #2
CONTACT:
SUMMARY:Team Cliffs VS. Benchwarmers
DESCRIPTION:League Name: Adult COED Basketball\nGame Type: Regular\nGame St
 atus: Complete\nHome Team: Team Cliffs\nAway Team: Benchwarmers\nHome Scor
 e: 43\nAway Score: 44
END:VEVENT
BEGIN:VEVENT
UID:17094749@ezleagues.ezfacility.com
DTSTAMP:20260426T033738Z
CREATED:20260426T033738Z
DTSTART:20260421T001000Z
DTEND:20260421T011000Z
LOCATION:Davidson Chevrolet - Court #1
CONTACT:
SUMMARY:Team 315 VS. Benchwarmers
DESCRIPTION:League Name: Adult COED Basketball\nGame Type: Regular\nGame St
 atus: Complete\nHome Team: Team 315\nAway Team: Benchwarmers\nHome Score: 
 115\nAway Score: 70
END:VEVENT
BEGIN:VEVENT
UID:17094750@ezleagues.ezfacility.com
DTSTAMP:20260426T033738Z
CREATED:20260426T033738Z
DTSTART:20260421T011000Z
DTEND:20260421T021000Z
LOCATION:Davidson Chevrolet - Court #1
CONTACT:
SUMMARY:Benchwarmers VS. The Munches
DESCRIPTION:League Name: Adult COED Basketball\nGame Type: Regular\nGame St
 atus: Complete\nHome Team: Benchwarmers\nAway Team: The Munches\nHome Scor
 e: 59\nAway Score: 61
END:VEVENT
END:VCALENDAR
