BEGIN:VCALENDAR
VERSION:2.0
PRODID:-//EZFacility.com, Inc.//EZL 2.5.5.28621
BEGIN:VEVENT
UID:16993219@ezleagues.ezfacility.com
DTSTAMP:20260426T033854Z
CREATED:20260426T033854Z
DTSTART:20260307T200000Z
DTEND:20260307T210000Z
LOCATION:Field 3
CONTACT:
SUMMARY:2. World Class U8 VS. Maroons Red Winter 1
DESCRIPTION:League Name: Superdome Sports 2026 Girls Under 9 Youth League\n
 Game Type: Regular\nGame Status: Complete\nHome Team: 2. World Class U8\nA
 way Team: Maroons Red Winter 1\nHome Score: 0\nAway Score: 5
END:VEVENT
END:VCALENDAR
