BEGIN:VCALENDAR
VERSION:2.0
PRODID:-//EZFacility.com, Inc.//EZL 2.5.5.28621
BEGIN:VEVENT
UID:17042133@ezleagues.ezfacility.com
DTSTAMP:20260426T034938Z
CREATED:20260426T034938Z
DTSTART:20260307T013000Z
DTEND:20260307T023000Z
LOCATION:Indoor Field #1
CONTACT:
SUMMARY:The Chaotic Mess VS. Shooters
DESCRIPTION:League Name: Winter Session III Coed 30+ Division\nGame Type: R
 egular\nGame Status: Complete\nHome Team: The Chaotic Mess\nAway Team: Sho
 oters\nHome Score: 2\nAway Score: 8
END:VEVENT
BEGIN:VEVENT
UID:17042150@ezleagues.ezfacility.com
DTSTAMP:20260426T034938Z
CREATED:20260426T034938Z
DTSTART:20260321T013000Z
DTEND:20260321T023000Z
LOCATION:Indoor Field #1
CONTACT:
SUMMARY:Shooters VS. The Chaotic Mess
DESCRIPTION:League Name: Winter Session III Coed 30+ Division\nGame Type: R
 egular\nGame Status: Complete\nHome Team: Shooters\nAway Team: The Chaotic
  Mess\nHome Score: 4\nAway Score: 0
END:VEVENT
BEGIN:VEVENT
UID:17042156@ezleagues.ezfacility.com
DTSTAMP:20260426T034938Z
CREATED:20260426T034938Z
DTSTART:20260328T003000Z
DTEND:20260328T013000Z
LOCATION:Indoor Field #3
CONTACT:
SUMMARY:Shooters VS. Net Results
DESCRIPTION:League Name: Winter Session III Coed 30+ Division\nGame Type: R
 egular\nGame Status: Complete\nHome Team: Shooters\nAway Team: Net Results
 \nHome Score: 11\nAway Score: 1
END:VEVENT
BEGIN:VEVENT
UID:17042161@ezleagues.ezfacility.com
DTSTAMP:20260426T034938Z
CREATED:20260426T034938Z
DTSTART:20260404T003000Z
DTEND:20260404T013000Z
LOCATION:Indoor Field #1
CONTACT:
SUMMARY:The Fuzzy Bandits VS. Shooters
DESCRIPTION:League Name: Winter Session III Coed 30+ Division\nGame Type: R
 egular\nGame Status: Complete\nHome Team: The Fuzzy Bandits\nAway Team: Sh
 ooters\nHome Score: 5\nAway Score: 13
END:VEVENT
BEGIN:VEVENT
UID:17042171@ezleagues.ezfacility.com
DTSTAMP:20260426T034938Z
CREATED:20260426T034938Z
DTSTART:20260410T233000Z
DTEND:20260411T003000Z
LOCATION:Indoor Field #1
CONTACT:
SUMMARY:Wolfpack VS. Shooters
DESCRIPTION:League Name: Winter Session III Coed 30+ Division\nGame Type: R
 egular\nGame Status: Complete\nHome Team: Wolfpack\nAway Team: Shooters\nH
 ome Score: 1\nAway Score: 12
END:VEVENT
BEGIN:VEVENT
UID:17042166@ezleagues.ezfacility.com
DTSTAMP:20260426T034938Z
CREATED:20260426T034938Z
DTSTART:20260418T000000Z
DTEND:20260418T010000Z
LOCATION:Indoor Field #1
CONTACT:
SUMMARY:Shooters VS. Shotz at FLBs
DESCRIPTION:League Name: Winter Session III Coed 30+ Division\nGame Type: R
 egular\nGame Status: Complete\nHome Team: Shooters\nAway Team: Shotz at FL
 Bs\nHome Score: 7\nAway Score: 4
END:VEVENT
BEGIN:VEVENT
UID:17042176@ezleagues.ezfacility.com
DTSTAMP:20260426T034938Z
CREATED:20260426T034938Z
DTSTART:20260425T010000Z
DTEND:20260425T020000Z
LOCATION:Indoor Field #1
CONTACT:
SUMMARY:Shooters VS. Green Means Go
DESCRIPTION:League Name: Winter Session III Coed 30+ Division\nGame Type: R
 egular\nGame Status: Complete\nHome Team: Shooters\nAway Team: Green Means
  Go\nHome Score: 9\nAway Score: 1
END:VEVENT
END:VCALENDAR
