BEGIN:VCALENDAR
VERSION:2.0
PRODID:-//EZFacility.com, Inc.//EZL 2.5.5.28621
BEGIN:VEVENT
UID:17042937@ezleagues.ezfacility.com
DTSTAMP:20260424T041451Z
CREATED:20260424T041451Z
DTSTART:20260326T213000Z
DTEND:20260326T221500Z
LOCATION:Big Field
CONTACT:
SUMMARY:Rankin VS. Foster
DESCRIPTION:League Name: AESL League (B)\nGame Type: Regular\nGame Status: 
 Complete\nHome Team: Rankin\nAway Team: Foster\nHome Score: 11\nAway Score
 : 0
END:VEVENT
BEGIN:VEVENT
UID:17042940@ezleagues.ezfacility.com
DTSTAMP:20260424T041451Z
CREATED:20260424T041451Z
DTSTART:20260402T221500Z
DTEND:20260402T230000Z
LOCATION:Big Field
CONTACT:
SUMMARY:Sherrod VS. Foster
DESCRIPTION:League Name: AESL League (B)\nGame Type: Regular\nGame Status: 
 Complete\nHome Team: Sherrod\nAway Team: Foster\nHome Score: 4\nAway Score
 : 1
END:VEVENT
BEGIN:VEVENT
UID:17042955@ezleagues.ezfacility.com
DTSTAMP:20260424T041451Z
CREATED:20260424T041451Z
DTSTART:20260423T221500Z
DTEND:20260423T230000Z
LOCATION:Big Field
CONTACT:
SUMMARY:Foster VS. Miller
DESCRIPTION:League Name: AESL League (B)\nGame Type: Regular\nGame Status: 
 Pending\nHome Team: Foster\nAway Team: Miller\n
END:VEVENT
BEGIN:VEVENT
UID:17042959@ezleagues.ezfacility.com
DTSTAMP:20260424T041451Z
CREATED:20260424T041451Z
DTSTART:20260429T213000Z
DTEND:20260429T221500Z
LOCATION:Big Field
CONTACT:
SUMMARY:Foster VS. Larson
DESCRIPTION:League Name: AESL League (B)\nGame Type: Regular\nGame Status: 
 Pending\nHome Team: Foster\nAway Team: Larson\n
END:VEVENT
BEGIN:VEVENT
UID:17042962@ezleagues.ezfacility.com
DTSTAMP:20260424T041451Z
CREATED:20260424T041451Z
DTSTART:20260507T213000Z
DTEND:20260507T221500Z
LOCATION:Big Field
CONTACT:
SUMMARY:Foster VS. Remynse 
DESCRIPTION:League Name: AESL League (B)\nGame Type: Regular\nGame Status: 
 Pending\nHome Team: Foster\nAway Team: Remynse \n
END:VEVENT
BEGIN:VEVENT
UID:17042950@ezleagues.ezfacility.com
DTSTAMP:20260424T041451Z
CREATED:20260424T041451Z
DTSTART:20260514T221500Z
DTEND:20260514T230000Z
LOCATION:Big Field
CONTACT:
SUMMARY:Thornton VS. Foster
DESCRIPTION:League Name: AESL League (B)\nGame Type: Regular\nGame Status: 
 Pending\nHome Team: Thornton\nAway Team: Foster\n
END:VEVENT
END:VCALENDAR
