BEGIN:VCALENDAR
VERSION:2.0
PRODID:-//EZFacility.com, Inc.//EZL 2.5.5.28621
BEGIN:VEVENT
UID:17100394@ezleagues.ezfacility.com
DTSTAMP:20260424T172609Z
CREATED:20260424T172609Z
DTSTART:20260421T030000Z
DTEND:20260421T040000Z
LOCATION:Harmans Premier Field #4
CONTACT:
SUMMARY:Sporting Furia CF VS. Madrid FC
DESCRIPTION:League Name: Mon Mens Open 1st div \nGame Type: Regular\nGame S
 tatus: Complete\nHome Team: Sporting Furia CF\nAway Team: Madrid FC\nHome 
 Score: 4\nAway Score: 5
END:VEVENT
BEGIN:VEVENT
UID:17100403@ezleagues.ezfacility.com
DTSTAMP:20260424T172609Z
CREATED:20260424T172609Z
DTSTART:20260428T022000Z
DTEND:20260428T030000Z
LOCATION:Harmans Premier Field #5
CONTACT:
SUMMARY:Los Parceros  VS. Sporting Furia CF
DESCRIPTION:League Name: Mon Mens Open 1st div \nGame Type: Regular\nGame S
 tatus: Pending\nHome Team: Los Parceros \nAway Team: Sporting Furia CF\n
END:VEVENT
BEGIN:VEVENT
UID:17100414@ezleagues.ezfacility.com
DTSTAMP:20260424T172609Z
CREATED:20260424T172609Z
DTSTART:20260505T000000Z
DTEND:20260505T010000Z
LOCATION:Harmans Premier Field #4
CONTACT:
SUMMARY:Sporting Furia CF VS. Chelsea FC
DESCRIPTION:League Name: Mon Mens Open 1st div \nGame Type: Regular\nGame S
 tatus: Pending\nHome Team: Sporting Furia CF\nAway Team: Chelsea FC\n
END:VEVENT
BEGIN:VEVENT
UID:17100425@ezleagues.ezfacility.com
DTSTAMP:20260424T172609Z
CREATED:20260424T172609Z
DTSTART:20260512T013000Z
DTEND:20260512T022000Z
LOCATION:Harmans Premier Field #5
CONTACT:
SUMMARY:Sporting Furia CF VS. LDU
DESCRIPTION:League Name: Mon Mens Open 1st div \nGame Type: Regular\nGame S
 tatus: Pending\nHome Team: Sporting Furia CF\nAway Team: LDU\n
END:VEVENT
BEGIN:VEVENT
UID:17100435@ezleagues.ezfacility.com
DTSTAMP:20260424T172609Z
CREATED:20260424T172609Z
DTSTART:20260519T010000Z
DTEND:20260519T020000Z
LOCATION:Harmans Premier Field #4
CONTACT:
SUMMARY:Vargas VS. Sporting Furia CF
DESCRIPTION:League Name: Mon Mens Open 1st div \nGame Type: Regular\nGame S
 tatus: Pending\nHome Team: Vargas\nAway Team: Sporting Furia CF\n
END:VEVENT
BEGIN:VEVENT
UID:17100453@ezleagues.ezfacility.com
DTSTAMP:20260424T172609Z
CREATED:20260424T172609Z
DTSTART:20260602T020000Z
DTEND:20260602T030000Z
LOCATION:Harmans Premier Field #4
CONTACT:
SUMMARY:Sporting Furia CF VS. Los Parceros 
DESCRIPTION:League Name: Mon Mens Open 1st div \nGame Type: Regular\nGame S
 tatus: Pending\nHome Team: Sporting Furia CF\nAway Team: Los Parceros \n
END:VEVENT
BEGIN:VEVENT
UID:17100444@ezleagues.ezfacility.com
DTSTAMP:20260424T172609Z
CREATED:20260424T172609Z
DTSTART:20260609T030000Z
DTEND:20260609T040000Z
LOCATION:Harmans Premier Field #4
CONTACT:
SUMMARY:Madrid FC VS. Sporting Furia CF
DESCRIPTION:League Name: Mon Mens Open 1st div \nGame Type: Regular\nGame S
 tatus: Pending\nHome Team: Madrid FC\nAway Team: Sporting Furia CF\n
END:VEVENT
END:VCALENDAR
