BEGIN:VCALENDAR
VERSION:2.0
PRODID:-//EZFacility.com, Inc.//EZL 2.5.5.28621
BEGIN:VEVENT
UID:17046938@ezleagues.ezfacility.com
DTSTAMP:20260426T035133Z
CREATED:20260426T035133Z
DTSTART:20260315T115500Z
DTEND:20260315T125000Z
LOCATION:Main Field 
CONTACT:
SUMMARY:Yarema A VS. Red Run FC
DESCRIPTION:League Name: O40 Men A 3rd '26\nGame Type: Regular\nGame Status
 : Complete\nHome Team: Yarema A\nAway Team: Red Run FC\nHome Score: 8\nAwa
 y Score: 6
END:VEVENT
BEGIN:VEVENT
UID:17046942@ezleagues.ezfacility.com
DTSTAMP:20260426T035133Z
CREATED:20260426T035133Z
DTSTART:20260322T110000Z
DTEND:20260322T115500Z
LOCATION:Main Field 
CONTACT:
SUMMARY:Yarema B VS. Yarema A
DESCRIPTION:League Name: O40 Men A 3rd '26\nGame Type: Regular\nGame Status
 : Complete\nHome Team: Yarema B\nAway Team: Yarema A\nHome Score: 2\nAway 
 Score: 5
END:VEVENT
BEGIN:VEVENT
UID:17046945@ezleagues.ezfacility.com
DTSTAMP:20260426T035133Z
CREATED:20260426T035133Z
DTSTART:20260329T125000Z
DTEND:20260329T134500Z
LOCATION:Main Field 
CONTACT:
SUMMARY:SOP 40   VS. Yarema A
DESCRIPTION:League Name: O40 Men A 3rd '26\nGame Type: Regular\nGame Status
 : Complete\nHome Team: SOP 40  \nAway Team: Yarema A\nHome Score: 4\nAway 
 Score: 8
END:VEVENT
BEGIN:VEVENT
UID:17046949@ezleagues.ezfacility.com
DTSTAMP:20260426T035133Z
CREATED:20260426T035133Z
DTSTART:20260412T134500Z
DTEND:20260412T144000Z
LOCATION:Main Field 
CONTACT:
SUMMARY:Yarema A VS. Sodecia FC 
DESCRIPTION:League Name: O40 Men A 3rd '26\nGame Type: Regular\nGame Status
 : Complete\nHome Team: Yarema A\nAway Team: Sodecia FC \nHome Score: 6\nAw
 ay Score: 2
END:VEVENT
END:VCALENDAR
