BEGIN:VCALENDAR
VERSION:2.0
PRODID:-//EZFacility.com, Inc.//EZL 2.5.5.28621
BEGIN:VEVENT
UID:17047459@ezleagues.ezfacility.com
DTSTAMP:20260424T154612Z
CREATED:20260424T154612Z
DTSTART:20260411T180000Z
DTEND:20260411T200000Z
LOCATION:Field 2
CONTACT:
SUMMARY:CT Titans 10U Green VS. Cheshire Aviators
DESCRIPTION:League Name: HSC Spring Smash 2026-HSC Spring Smash 2026 - 10U\
 nGame Type: Regular\nGame Status: Complete\nHome Team: CT Titans 10U Green
 \nAway Team: Cheshire Aviators\nHome Score: 2\nAway Score: 12
END:VEVENT
BEGIN:VEVENT
UID:17047493@ezleagues.ezfacility.com
DTSTAMP:20260424T154612Z
CREATED:20260424T154612Z
DTSTART:20260411T200000Z
DTEND:20260411T220000Z
LOCATION:Field 2
CONTACT:
SUMMARY:Cheshire Aviators VS. Wappingers Storm 10U
DESCRIPTION:League Name: HSC Spring Smash 2026-HSC Spring Smash 2026 - 10U\
 nGame Type: Regular\nGame Status: Complete\nHome Team: Cheshire Aviators\n
 Away Team: Wappingers Storm 10U\nHome Score: 5\nAway Score: 12
END:VEVENT
BEGIN:VEVENT
UID:17047465@ezleagues.ezfacility.com
DTSTAMP:20260424T154612Z
CREATED:20260424T154612Z
DTSTART:20260412T180000Z
DTEND:20260412T200000Z
LOCATION:Field 2
CONTACT:
SUMMARY:Cheshire Aviators VS. OC Bombers 10U Blackout
DESCRIPTION:League Name: HSC Spring Smash 2026-HSC Spring Smash 2026 - 10U\
 nGame Type: Postseason\nGame Status: Complete\nHome Team: Cheshire Aviator
 s\nAway Team: OC Bombers 10U Blackout\nHome Score: 7\nAway Score: 6
END:VEVENT
BEGIN:VEVENT
UID:17047468@ezleagues.ezfacility.com
DTSTAMP:20260424T154612Z
CREATED:20260424T154612Z
DTSTART:20260412T200000Z
DTEND:20260412T220000Z
LOCATION:Field 2
CONTACT:
SUMMARY:Wappingers Storm 10U VS. Cheshire Aviators
DESCRIPTION:League Name: HSC Spring Smash 2026-HSC Spring Smash 2026 - 10U\
 nGame Type: Postseason\nGame Status: Complete\nHome Team: Wappingers Storm
  10U\nAway Team: Cheshire Aviators\nHome Score: 7\nAway Score: 6
END:VEVENT
END:VCALENDAR
