BEGIN:VCALENDAR
VERSION:2.0
PRODID:-//EZFacility.com, Inc.//EZL 2.5.5.28621
BEGIN:VEVENT
UID:17047453@ezleagues.ezfacility.com
DTSTAMP:20260424T123438Z
CREATED:20260424T123438Z
DTSTART:20260410T220000Z
DTEND:20260411T000000Z
LOCATION:Field 3
CONTACT:
SUMMARY:OC Smash 10U VS. OC Bombers 10U Blackout
DESCRIPTION:League Name: HSC Spring Smash 2026-HSC Spring Smash 2026 - 10U\
 nGame Type: Regular\nGame Status: Complete\nHome Team: OC Smash 10U\nAway 
 Team: OC Bombers 10U Blackout\nHome Score: 11\nAway Score: 6
END:VEVENT
BEGIN:VEVENT
UID:17047455@ezleagues.ezfacility.com
DTSTAMP:20260424T123438Z
CREATED:20260424T123438Z
DTSTART:20260411T160000Z
DTEND:20260411T180000Z
LOCATION:Field 2
CONTACT:
SUMMARY:Newtown 10U Blue VS. OC Bombers 10U Blackout
DESCRIPTION:League Name: HSC Spring Smash 2026-HSC Spring Smash 2026 - 10U\
 nGame Type: Regular\nGame Status: Complete\nHome Team: Newtown 10U Blue\nA
 way Team: OC Bombers 10U Blackout\nHome Score: 5\nAway Score: 6
END:VEVENT
BEGIN:VEVENT
UID:17047465@ezleagues.ezfacility.com
DTSTAMP:20260424T123438Z
CREATED:20260424T123438Z
DTSTART:20260412T180000Z
DTEND:20260412T200000Z
LOCATION:Field 2
CONTACT:
SUMMARY:Cheshire Aviators VS. OC Bombers 10U Blackout
DESCRIPTION:League Name: HSC Spring Smash 2026-HSC Spring Smash 2026 - 10U\
 nGame Type: Postseason\nGame Status: Complete\nHome Team: Cheshire Aviator
 s\nAway Team: OC Bombers 10U Blackout\nHome Score: 7\nAway Score: 6
END:VEVENT
END:VCALENDAR
