BEGIN:VCALENDAR
VERSION:2.0
PRODID:-//EZFacility.com, Inc.//EZL 2.5.5.28621
BEGIN:VEVENT
UID:17047809@ezleagues.ezfacility.com
DTSTAMP:20260426T034837Z
CREATED:20260426T034837Z
DTSTART:20260316T031000Z
DTEND:20260316T040000Z
LOCATION:Large Field
CONTACT:
SUMMARY:Goal Diggers VS. FC Cholula
DESCRIPTION:League Name: Men's Sunday League Spring '26\nGame Type: Regular
 \nGame Status: Complete\nHome Team: Goal Diggers\nAway Team: FC Cholula\nH
 ome Score: 19\nAway Score: 11
END:VEVENT
BEGIN:VEVENT
UID:17047816@ezleagues.ezfacility.com
DTSTAMP:20260426T034837Z
CREATED:20260426T034837Z
DTSTART:20260323T031000Z
DTEND:20260323T040000Z
LOCATION:Large Field
CONTACT:
SUMMARY:Goal Diggers VS. Los Yarderos
DESCRIPTION:League Name: Men's Sunday League Spring '26\nGame Type: Regular
 \nGame Status: Complete\nHome Team: Goal Diggers\nAway Team: Los Yarderos\
 nHome Score: 0\nAway Score: 3
END:VEVENT
BEGIN:VEVENT
UID:17047822@ezleagues.ezfacility.com
DTSTAMP:20260426T034837Z
CREATED:20260426T034837Z
DTSTART:20260330T004000Z
DTEND:20260330T013000Z
LOCATION:Large Field
CONTACT:
SUMMARY:District VII VS. Goal Diggers
DESCRIPTION:League Name: Men's Sunday League Spring '26\nGame Type: Regular
 \nGame Status: Complete\nHome Team: District VII\nAway Team: Goal Diggers\
 nHome Score: 22\nAway Score: 8
END:VEVENT
BEGIN:VEVENT
UID:17047827@ezleagues.ezfacility.com
DTSTAMP:20260426T034837Z
CREATED:20260426T034837Z
DTSTART:20260405T230000Z
DTEND:20260405T235000Z
LOCATION:Large Field
CONTACT:
SUMMARY:Goal Diggers VS. Cancuns FC
DESCRIPTION:League Name: Men's Sunday League Spring '26\nGame Type: Regular
 \nGame Status: Complete\nHome Team: Goal Diggers\nAway Team: Cancuns FC\nH
 ome Score: 15\nAway Score: 11
END:VEVENT
BEGIN:VEVENT
UID:17047832@ezleagues.ezfacility.com
DTSTAMP:20260426T034837Z
CREATED:20260426T034837Z
DTSTART:20260412T235000Z
DTEND:20260413T004000Z
LOCATION:Large Field
CONTACT:
SUMMARY:Guate Cs VS. Goal Diggers
DESCRIPTION:League Name: Men's Sunday League Spring '26\nGame Type: Regular
 \nGame Status: Complete\nHome Team: Guate Cs\nAway Team: Goal Diggers\nHom
 e Score: 18\nAway Score: 13
END:VEVENT
BEGIN:VEVENT
UID:17047837@ezleagues.ezfacility.com
DTSTAMP:20260426T034837Z
CREATED:20260426T034837Z
DTSTART:20260420T013000Z
DTEND:20260420T022000Z
LOCATION:Large Field
CONTACT:
SUMMARY:TSS Agents VS. Goal Diggers
DESCRIPTION:League Name: Men's Sunday League Spring '26\nGame Type: Regular
 \nGame Status: Complete\nHome Team: TSS Agents\nAway Team: Goal Diggers\nH
 ome Score: 15\nAway Score: 14
END:VEVENT
BEGIN:VEVENT
UID:17047842@ezleagues.ezfacility.com
DTSTAMP:20260426T034837Z
CREATED:20260426T034837Z
DTSTART:20260427T004000Z
DTEND:20260427T013000Z
LOCATION:Large Field
CONTACT:
SUMMARY:Los Chivos VS. Goal Diggers
DESCRIPTION:League Name: Men's Sunday League Spring '26\nGame Type: Regular
 \nGame Status: Pending\nHome Team: Los Chivos\nAway Team: Goal Diggers\n
END:VEVENT
BEGIN:VEVENT
UID:17047847@ezleagues.ezfacility.com
DTSTAMP:20260426T034837Z
CREATED:20260426T034837Z
DTSTART:20260503T230000Z
DTEND:20260503T235000Z
LOCATION:Large Field
CONTACT:
SUMMARY:Goal Diggers VS. Catalan
DESCRIPTION:League Name: Men's Sunday League Spring '26\nGame Type: Regular
 \nGame Status: Pending\nHome Team: Goal Diggers\nAway Team: Catalan\n
END:VEVENT
END:VCALENDAR
