BEGIN:VCALENDAR
VERSION:2.0
PRODID:-//EZFacility.com, Inc.//EZL 2.5.5.28621
BEGIN:VEVENT
UID:17048407@ezleagues.ezfacility.com
DTSTAMP:20260424T041512Z
CREATED:20260424T041512Z
DTSTART:20260331T013000Z
DTEND:20260331T022000Z
LOCATION:Large Field
CONTACT:
SUMMARY:Bandidos VS. 77 United
DESCRIPTION:League Name: Men's Monday League Spring '26\nGame Type: Regular
 \nGame Status: Complete\nHome Team: Bandidos\nAway Team: 77 United\nHome S
 core: 9\nAway Score: 11
END:VEVENT
BEGIN:VEVENT
UID:17048413@ezleagues.ezfacility.com
DTSTAMP:20260424T041512Z
CREATED:20260424T041512Z
DTSTART:20260407T031000Z
DTEND:20260407T040000Z
LOCATION:Large Field
CONTACT:
SUMMARY:77 United VS. Tazos Dorados
DESCRIPTION:League Name: Men's Monday League Spring '26\nGame Type: Regular
 \nGame Status: Complete\nHome Team: 77 United\nAway Team: Tazos Dorados\nH
 ome Score: 13\nAway Score: 5
END:VEVENT
BEGIN:VEVENT
UID:17048419@ezleagues.ezfacility.com
DTSTAMP:20260424T041512Z
CREATED:20260424T041512Z
DTSTART:20260413T235000Z
DTEND:20260414T004000Z
LOCATION:Large Field
CONTACT:
SUMMARY:Los Futballers VS. 77 United
DESCRIPTION:League Name: Men's Monday League Spring '26\nGame Type: Regular
 \nGame Status: Complete\nHome Team: Los Futballers\nAway Team: 77 United\n
 Home Score: 11\nAway Score: 22
END:VEVENT
BEGIN:VEVENT
UID:17048425@ezleagues.ezfacility.com
DTSTAMP:20260424T041512Z
CREATED:20260424T041512Z
DTSTART:20260421T013000Z
DTEND:20260421T022000Z
LOCATION:Large Field
CONTACT:
SUMMARY:77 United VS. Atletico Joga Bonito
DESCRIPTION:League Name: Men's Monday League Spring '26\nGame Type: Regular
 \nGame Status: Complete\nHome Team: 77 United\nAway Team: Atletico Joga Bo
 nito\nHome Score: 10\nAway Score: 8
END:VEVENT
BEGIN:VEVENT
UID:17048431@ezleagues.ezfacility.com
DTSTAMP:20260424T041512Z
CREATED:20260424T041512Z
DTSTART:20260428T013000Z
DTEND:20260428T022000Z
LOCATION:Large Field
CONTACT:
SUMMARY:La Onda VS. 77 United
DESCRIPTION:League Name: Men's Monday League Spring '26\nGame Type: Regular
 \nGame Status: Pending\nHome Team: La Onda\nAway Team: 77 United\n
END:VEVENT
BEGIN:VEVENT
UID:17048437@ezleagues.ezfacility.com
DTSTAMP:20260424T041512Z
CREATED:20260424T041512Z
DTSTART:20260505T013000Z
DTEND:20260505T022000Z
LOCATION:Large Field
CONTACT:
SUMMARY:Wavey VS. 77 United
DESCRIPTION:League Name: Men's Monday League Spring '26\nGame Type: Regular
 \nGame Status: Pending\nHome Team: Wavey\nAway Team: 77 United\n
END:VEVENT
BEGIN:VEVENT
UID:17048443@ezleagues.ezfacility.com
DTSTAMP:20260424T041512Z
CREATED:20260424T041512Z
DTSTART:20260512T013000Z
DTEND:20260512T022000Z
LOCATION:Large Field
CONTACT:
SUMMARY:77 United VS. TMB
DESCRIPTION:League Name: Men's Monday League Spring '26\nGame Type: Regular
 \nGame Status: Pending\nHome Team: 77 United\nAway Team: TMB\n
END:VEVENT
BEGIN:VEVENT
UID:17048401@ezleagues.ezfacility.com
DTSTAMP:20260424T041512Z
CREATED:20260424T041512Z
DTSTART:20260519T022000Z
DTEND:20260519T031000Z
LOCATION:Large Field
CONTACT:
SUMMARY:77 United VS. Washed Up Has Beens
DESCRIPTION:League Name: Men's Monday League Spring '26\nGame Type: Regular
 \nGame Status: Pending\nHome Team: 77 United\nAway Team: Washed Up Has Bee
 ns\n
END:VEVENT
END:VCALENDAR
