BEGIN:VCALENDAR
VERSION:2.0
PRODID:-//EZFacility.com, Inc.//EZL 2.5.5.28621
BEGIN:VEVENT
UID:17048402@ezleagues.ezfacility.com
DTSTAMP:20260424T041436Z
CREATED:20260424T041436Z
DTSTART:20260323T235000Z
DTEND:20260324T004000Z
LOCATION:Large Field
CONTACT:
SUMMARY:La Onda VS. Wavey
DESCRIPTION:League Name: Men's Monday League Spring '26\nGame Type: Regular
 \nGame Status: Complete\nHome Team: La Onda\nAway Team: Wavey\nHome Score:
  9\nAway Score: 10
END:VEVENT
BEGIN:VEVENT
UID:17048408@ezleagues.ezfacility.com
DTSTAMP:20260424T041436Z
CREATED:20260424T041436Z
DTSTART:20260331T004000Z
DTEND:20260331T013000Z
LOCATION:Large Field
CONTACT:
SUMMARY:Washed Up Has Beens VS. Wavey
DESCRIPTION:League Name: Men's Monday League Spring '26\nGame Type: Regular
 \nGame Status: Complete\nHome Team: Washed Up Has Beens\nAway Team: Wavey\
 nHome Score: 8\nAway Score: 12
END:VEVENT
BEGIN:VEVENT
UID:17048415@ezleagues.ezfacility.com
DTSTAMP:20260424T041436Z
CREATED:20260424T041436Z
DTSTART:20260407T004000Z
DTEND:20260407T013000Z
LOCATION:Large Field
CONTACT:
SUMMARY:Wavey VS. TMB
DESCRIPTION:League Name: Men's Monday League Spring '26\nGame Type: Regular
 \nGame Status: Complete\nHome Team: Wavey\nAway Team: TMB\nHome Score: 7\n
 Away Score: 15
END:VEVENT
BEGIN:VEVENT
UID:17048429@ezleagues.ezfacility.com
DTSTAMP:20260424T041436Z
CREATED:20260424T041436Z
DTSTART:20260421T004000Z
DTEND:20260421T013000Z
LOCATION:Large Field
CONTACT:
SUMMARY:Wavey VS. Panchos Team
DESCRIPTION:League Name: Men's Monday League Spring '26\nGame Type: Regular
 \nGame Status: Complete\nHome Team: Wavey\nAway Team: Panchos Team\nHome S
 core: 19\nAway Score: 11
END:VEVENT
BEGIN:VEVENT
UID:17048436@ezleagues.ezfacility.com
DTSTAMP:20260424T041436Z
CREATED:20260424T041436Z
DTSTART:20260428T022000Z
DTEND:20260428T031000Z
LOCATION:Large Field
CONTACT:
SUMMARY:Jarritos VS. Wavey
DESCRIPTION:League Name: Men's Monday League Spring '26\nGame Type: Regular
 \nGame Status: Pending\nHome Team: Jarritos\nAway Team: Wavey\n
END:VEVENT
BEGIN:VEVENT
UID:17048437@ezleagues.ezfacility.com
DTSTAMP:20260424T041436Z
CREATED:20260424T041436Z
DTSTART:20260505T013000Z
DTEND:20260505T022000Z
LOCATION:Large Field
CONTACT:
SUMMARY:Wavey VS. 77 United
DESCRIPTION:League Name: Men's Monday League Spring '26\nGame Type: Regular
 \nGame Status: Pending\nHome Team: Wavey\nAway Team: 77 United\n
END:VEVENT
BEGIN:VEVENT
UID:17048448@ezleagues.ezfacility.com
DTSTAMP:20260424T041436Z
CREATED:20260424T041436Z
DTSTART:20260511T235000Z
DTEND:20260512T004000Z
LOCATION:Large Field
CONTACT:
SUMMARY:Wavey VS. Bandidos
DESCRIPTION:League Name: Men's Monday League Spring '26\nGame Type: Regular
 \nGame Status: Pending\nHome Team: Wavey\nAway Team: Bandidos\n
END:VEVENT
BEGIN:VEVENT
UID:17048451@ezleagues.ezfacility.com
DTSTAMP:20260424T041436Z
CREATED:20260424T041436Z
DTSTART:20260518T235000Z
DTEND:20260519T003500Z
LOCATION:Large Field
CONTACT:
SUMMARY:Wavey VS. Atletico Joga Bonito
DESCRIPTION:League Name: Men's Monday League Spring '26\nGame Type: Regular
 \nGame Status: Pending\nHome Team: Wavey\nAway Team: Atletico Joga Bonito\
 n
END:VEVENT
END:VCALENDAR
