BEGIN:VCALENDAR
VERSION:2.0
PRODID:-//EZFacility.com, Inc.//EZL 2.5.5.28621
BEGIN:VEVENT
UID:17048404@ezleagues.ezfacility.com
DTSTAMP:20260424T041504Z
CREATED:20260424T041504Z
DTSTART:20260324T004000Z
DTEND:20260324T013000Z
LOCATION:Large Field
CONTACT:
SUMMARY:TMB VS. Atletico Joga Bonito
DESCRIPTION:League Name: Men's Monday League Spring '26\nGame Type: Regular
 \nGame Status: Complete\nHome Team: TMB\nAway Team: Atletico Joga Bonito\n
 Home Score: 10\nAway Score: 15
END:VEVENT
BEGIN:VEVENT
UID:17048409@ezleagues.ezfacility.com
DTSTAMP:20260424T041504Z
CREATED:20260424T041504Z
DTSTART:20260330T235000Z
DTEND:20260331T004000Z
LOCATION:Large Field
CONTACT:
SUMMARY:TMB VS. La Onda
DESCRIPTION:League Name: Men's Monday League Spring '26\nGame Type: Regular
 \nGame Status: Complete\nHome Team: TMB\nAway Team: La Onda\nHome Score: 7
 \nAway Score: 9
END:VEVENT
BEGIN:VEVENT
UID:17048415@ezleagues.ezfacility.com
DTSTAMP:20260424T041504Z
CREATED:20260424T041504Z
DTSTART:20260407T004000Z
DTEND:20260407T013000Z
LOCATION:Large Field
CONTACT:
SUMMARY:Wavey VS. TMB
DESCRIPTION:League Name: Men's Monday League Spring '26\nGame Type: Regular
 \nGame Status: Complete\nHome Team: Wavey\nAway Team: TMB\nHome Score: 7\n
 Away Score: 15
END:VEVENT
BEGIN:VEVENT
UID:17048420@ezleagues.ezfacility.com
DTSTAMP:20260424T041504Z
CREATED:20260424T041504Z
DTSTART:20260414T022000Z
DTEND:20260414T031000Z
LOCATION:Large Field
CONTACT:
SUMMARY:Washed Up Has Beens VS. TMB
DESCRIPTION:League Name: Men's Monday League Spring '26\nGame Type: Regular
 \nGame Status: Complete\nHome Team: Washed Up Has Beens\nAway Team: TMB\nH
 ome Score: 17\nAway Score: 20
END:VEVENT
BEGIN:VEVENT
UID:17048434@ezleagues.ezfacility.com
DTSTAMP:20260424T041504Z
CREATED:20260424T041504Z
DTSTART:20260427T235000Z
DTEND:20260428T004000Z
LOCATION:Large Field
CONTACT:
SUMMARY:Panchos Team VS. TMB
DESCRIPTION:League Name: Men's Monday League Spring '26\nGame Type: Regular
 \nGame Status: Pending\nHome Team: Panchos Team\nAway Team: TMB\n
END:VEVENT
BEGIN:VEVENT
UID:17048441@ezleagues.ezfacility.com
DTSTAMP:20260424T041504Z
CREATED:20260424T041504Z
DTSTART:20260505T022000Z
DTEND:20260505T031000Z
LOCATION:Large Field
CONTACT:
SUMMARY:TMB VS. Jarritos
DESCRIPTION:League Name: Men's Monday League Spring '26\nGame Type: Regular
 \nGame Status: Pending\nHome Team: TMB\nAway Team: Jarritos\n
END:VEVENT
BEGIN:VEVENT
UID:17048443@ezleagues.ezfacility.com
DTSTAMP:20260424T041504Z
CREATED:20260424T041504Z
DTSTART:20260512T013000Z
DTEND:20260512T022000Z
LOCATION:Large Field
CONTACT:
SUMMARY:77 United VS. TMB
DESCRIPTION:League Name: Men's Monday League Spring '26\nGame Type: Regular
 \nGame Status: Pending\nHome Team: 77 United\nAway Team: TMB\n
END:VEVENT
BEGIN:VEVENT
UID:17048452@ezleagues.ezfacility.com
DTSTAMP:20260424T041504Z
CREATED:20260424T041504Z
DTSTART:20260519T004000Z
DTEND:20260519T012500Z
LOCATION:Large Field
CONTACT:
SUMMARY:Panchos Team VS. TMB
DESCRIPTION:League Name: Men's Monday League Spring '26\nGame Type: Regular
 \nGame Status: Pending\nHome Team: Panchos Team\nAway Team: TMB\n
END:VEVENT
END:VCALENDAR
