BEGIN:VCALENDAR
VERSION:2.0
PRODID:-//EZFacility.com, Inc.//EZL 2.5.5.28621
BEGIN:VEVENT
UID:17048405@ezleagues.ezfacility.com
DTSTAMP:20260424T041344Z
CREATED:20260424T041344Z
DTSTART:20260324T031000Z
DTEND:20260324T040000Z
LOCATION:Large Field
CONTACT:
SUMMARY:Panchos Team VS. Tazos Dorados
DESCRIPTION:League Name: Men's Monday League Spring '26\nGame Type: Regular
 \nGame Status: Complete\nHome Team: Panchos Team\nAway Team: Tazos Dorados
 \nHome Score: 12\nAway Score: 9
END:VEVENT
BEGIN:VEVENT
UID:17048410@ezleagues.ezfacility.com
DTSTAMP:20260424T041344Z
CREATED:20260424T041344Z
DTSTART:20260331T031000Z
DTEND:20260331T040000Z
LOCATION:Large Field
CONTACT:
SUMMARY:Tazos Dorados VS. Jarritos
DESCRIPTION:League Name: Men's Monday League Spring '26\nGame Type: Regular
 \nGame Status: Complete\nHome Team: Tazos Dorados\nAway Team: Jarritos\nHo
 me Score: 7\nAway Score: 20
END:VEVENT
BEGIN:VEVENT
UID:17048413@ezleagues.ezfacility.com
DTSTAMP:20260424T041344Z
CREATED:20260424T041344Z
DTSTART:20260407T031000Z
DTEND:20260407T040000Z
LOCATION:Large Field
CONTACT:
SUMMARY:77 United VS. Tazos Dorados
DESCRIPTION:League Name: Men's Monday League Spring '26\nGame Type: Regular
 \nGame Status: Complete\nHome Team: 77 United\nAway Team: Tazos Dorados\nH
 ome Score: 13\nAway Score: 5
END:VEVENT
BEGIN:VEVENT
UID:17048421@ezleagues.ezfacility.com
DTSTAMP:20260424T041344Z
CREATED:20260424T041344Z
DTSTART:20260414T031000Z
DTEND:20260414T040000Z
LOCATION:Large Field
CONTACT:
SUMMARY:Tazos Dorados VS. Bandidos
DESCRIPTION:League Name: Men's Monday League Spring '26\nGame Type: Regular
 \nGame Status: Complete\nHome Team: Tazos Dorados\nAway Team: Bandidos\nHo
 me Score: 6\nAway Score: 15
END:VEVENT
BEGIN:VEVENT
UID:17048426@ezleagues.ezfacility.com
DTSTAMP:20260424T041344Z
CREATED:20260424T041344Z
DTSTART:20260421T031000Z
DTEND:20260421T040000Z
LOCATION:Large Field
CONTACT:
SUMMARY:Tazos Dorados VS. Washed Up Has Beens
DESCRIPTION:League Name: Men's Monday League Spring '26\nGame Type: Regular
 \nGame Status: Complete\nHome Team: Tazos Dorados\nAway Team: Washed Up Ha
 s Beens\nHome Score: 6\nAway Score: 9
END:VEVENT
BEGIN:VEVENT
UID:17048433@ezleagues.ezfacility.com
DTSTAMP:20260424T041344Z
CREATED:20260424T041344Z
DTSTART:20260428T031000Z
DTEND:20260428T040000Z
LOCATION:Large Field
CONTACT:
SUMMARY:Los Futballers VS. Tazos Dorados
DESCRIPTION:League Name: Men's Monday League Spring '26\nGame Type: Regular
 \nGame Status: Pending\nHome Team: Los Futballers\nAway Team: Tazos Dorado
 s\n
END:VEVENT
BEGIN:VEVENT
UID:17048440@ezleagues.ezfacility.com
DTSTAMP:20260424T041344Z
CREATED:20260424T041344Z
DTSTART:20260505T031000Z
DTEND:20260505T040000Z
LOCATION:Large Field
CONTACT:
SUMMARY:Tazos Dorados VS. Atletico Joga Bonito
DESCRIPTION:League Name: Men's Monday League Spring '26\nGame Type: Regular
 \nGame Status: Pending\nHome Team: Tazos Dorados\nAway Team: Atletico Joga
  Bonito\n
END:VEVENT
BEGIN:VEVENT
UID:17048447@ezleagues.ezfacility.com
DTSTAMP:20260424T041344Z
CREATED:20260424T041344Z
DTSTART:20260512T031000Z
DTEND:20260512T040000Z
LOCATION:Large Field
CONTACT:
SUMMARY:La Onda VS. Tazos Dorados
DESCRIPTION:League Name: Men's Monday League Spring '26\nGame Type: Regular
 \nGame Status: Pending\nHome Team: La Onda\nAway Team: Tazos Dorados\n
END:VEVENT
END:VCALENDAR
