BEGIN:VCALENDAR
VERSION:2.0
PRODID:-//EZFacility.com, Inc.//EZL 2.5.5.28621
BEGIN:VEVENT
UID:17049287@ezleagues.ezfacility.com
DTSTAMP:20260424T041421Z
CREATED:20260424T041421Z
DTSTART:20260313T233000Z
DTEND:20260314T003000Z
LOCATION:6v6 Field 2
CONTACT:
SUMMARY:Easily Distracted VS. Killa Bees
DESCRIPTION:League Name: 3rd session 2026- O30 Coed Friday Boarded\nGame Ty
 pe: Regular\nGame Status: Complete\nHome Team: Easily Distracted\nAway Tea
 m: Killa Bees\nHome Score: 8\nAway Score: 9
END:VEVENT
BEGIN:VEVENT
UID:17049294@ezleagues.ezfacility.com
DTSTAMP:20260424T041421Z
CREATED:20260424T041421Z
DTSTART:20260321T000000Z
DTEND:20260321T010000Z
LOCATION:6v6 Field 1
CONTACT:
SUMMARY:House Team O-30 VS. Easily Distracted
DESCRIPTION:League Name: 3rd session 2026- O30 Coed Friday Boarded\nGame Ty
 pe: Regular\nGame Status: Complete\nHome Team: House Team O-30\nAway Team:
  Easily Distracted\nHome Score: 5\nAway Score: 13
END:VEVENT
BEGIN:VEVENT
UID:17049301@ezleagues.ezfacility.com
DTSTAMP:20260424T041421Z
CREATED:20260424T041421Z
DTSTART:20260327T233000Z
DTEND:20260328T003000Z
LOCATION:6v6 Field 2
CONTACT:
SUMMARY:Easily Distracted VS. Kane You Kick It
DESCRIPTION:League Name: 3rd session 2026- O30 Coed Friday Boarded\nGame Ty
 pe: Regular\nGame Status: Complete\nHome Team: Easily Distracted\nAway Tea
 m: Kane You Kick It\nHome Score: 7\nAway Score: 13
END:VEVENT
BEGIN:VEVENT
UID:17049335@ezleagues.ezfacility.com
DTSTAMP:20260424T041421Z
CREATED:20260424T041421Z
DTSTART:20260403T230000Z
DTEND:20260404T000000Z
LOCATION:6v6 Field 1
CONTACT:
SUMMARY:Scrubstitution VS. Easily Distracted
DESCRIPTION:League Name: 3rd session 2026- O30 Coed Friday Boarded\nGame Ty
 pe: Regular\nGame Status: Complete\nHome Team: Scrubstitution\nAway Team: 
 Easily Distracted\nHome Score: 13\nAway Score: 4
END:VEVENT
BEGIN:VEVENT
UID:17049314@ezleagues.ezfacility.com
DTSTAMP:20260424T041421Z
CREATED:20260424T041421Z
DTSTART:20260411T003000Z
DTEND:20260411T013000Z
LOCATION:6v6 Field 2
CONTACT:
SUMMARY:CO Jones VS. Easily Distracted
DESCRIPTION:League Name: 3rd session 2026- O30 Coed Friday Boarded\nGame Ty
 pe: Regular\nGame Status: Complete\nHome Team: CO Jones\nAway Team: Easily
  Distracted\nHome Score: 8\nAway Score: 10
END:VEVENT
BEGIN:VEVENT
UID:17049315@ezleagues.ezfacility.com
DTSTAMP:20260424T041421Z
CREATED:20260424T041421Z
DTSTART:20260418T010000Z
DTEND:20260418T020000Z
LOCATION:6v6 Field 1
CONTACT:
SUMMARY:Easily Distracted VS. From Behind
DESCRIPTION:League Name: 3rd session 2026- O30 Coed Friday Boarded\nGame Ty
 pe: Regular\nGame Status: Complete\nHome Team: Easily Distracted\nAway Tea
 m: From Behind\nHome Score: 5\nAway Score: 9
END:VEVENT
BEGIN:VEVENT
UID:17049331@ezleagues.ezfacility.com
DTSTAMP:20260424T041421Z
CREATED:20260424T041421Z
DTSTART:20260425T000000Z
DTEND:20260425T010000Z
LOCATION:6v6 Field 1
CONTACT:
SUMMARY:CO Jones VS. Easily Distracted
DESCRIPTION:League Name: 3rd session 2026- O30 Coed Friday Boarded\nGame Ty
 pe: Regular\nGame Status: Pending\nHome Team: CO Jones\nAway Team: Easily 
 Distracted\n
END:VEVENT
BEGIN:VEVENT
UID:17049325@ezleagues.ezfacility.com
DTSTAMP:20260424T041421Z
CREATED:20260424T041421Z
DTSTART:20260502T000000Z
DTEND:20260502T010000Z
LOCATION:6v6 Field 1
CONTACT:
SUMMARY:House Team O-30 VS. Easily Distracted
DESCRIPTION:League Name: 3rd session 2026- O30 Coed Friday Boarded\nGame Ty
 pe: Regular\nGame Status: Pending\nHome Team: House Team O-30\nAway Team: 
 Easily Distracted\n
END:VEVENT
END:VCALENDAR
