BEGIN:VCALENDAR
VERSION:2.0
PRODID:-//EZFacility.com, Inc.//EZL 2.5.5.28621
BEGIN:VEVENT
UID:17049285@ezleagues.ezfacility.com
DTSTAMP:20260424T041401Z
CREATED:20260424T041401Z
DTSTART:20260314T010000Z
DTEND:20260314T020000Z
LOCATION:6v6 Field 1
CONTACT:
SUMMARY:CO Jones VS. From Behind
DESCRIPTION:League Name: 3rd session 2026- O30 Coed Friday Boarded\nGame Ty
 pe: Regular\nGame Status: Complete\nHome Team: CO Jones\nAway Team: From B
 ehind\nHome Score: 7\nAway Score: 9
END:VEVENT
BEGIN:VEVENT
UID:17049291@ezleagues.ezfacility.com
DTSTAMP:20260424T041401Z
CREATED:20260424T041401Z
DTSTART:20260321T010000Z
DTEND:20260321T020000Z
LOCATION:6v6 Field 1
CONTACT:
SUMMARY:Blood\, Sweat\, + Beers VS. From Behind
DESCRIPTION:League Name: 3rd session 2026- O30 Coed Friday Boarded\nGame Ty
 pe: Regular\nGame Status: Complete\nHome Team: Blood, Sweat, + Beers\nAway
  Team: From Behind\nHome Score: 11\nAway Score: 8
END:VEVENT
BEGIN:VEVENT
UID:17049297@ezleagues.ezfacility.com
DTSTAMP:20260424T041401Z
CREATED:20260424T041401Z
DTSTART:20260328T010000Z
DTEND:20260328T020000Z
LOCATION:6v6 Field 1
CONTACT:
SUMMARY:From Behind VS. House Team O-30
DESCRIPTION:League Name: 3rd session 2026- O30 Coed Friday Boarded\nGame Ty
 pe: Regular\nGame Status: Complete\nHome Team: From Behind\nAway Team: Hou
 se Team O-30\nHome Score: 14\nAway Score: 6
END:VEVENT
BEGIN:VEVENT
UID:17049333@ezleagues.ezfacility.com
DTSTAMP:20260424T041401Z
CREATED:20260424T041401Z
DTSTART:20260404T010000Z
DTEND:20260404T020000Z
LOCATION:6v6 Field 1
CONTACT:
SUMMARY:Dirty 30s VS. From Behind
DESCRIPTION:League Name: 3rd session 2026- O30 Coed Friday Boarded\nGame Ty
 pe: Regular\nGame Status: Complete\nHome Team: Dirty 30s\nAway Team: From 
 Behind\nHome Score: 4\nAway Score: 13
END:VEVENT
BEGIN:VEVENT
UID:17049309@ezleagues.ezfacility.com
DTSTAMP:20260424T041401Z
CREATED:20260424T041401Z
DTSTART:20260411T010000Z
DTEND:20260411T020000Z
LOCATION:6v6 Field 1
CONTACT:
SUMMARY:From Behind VS. Scrubstitution
DESCRIPTION:League Name: 3rd session 2026- O30 Coed Friday Boarded\nGame Ty
 pe: Regular\nGame Status: Complete\nHome Team: From Behind\nAway Team: Scr
 ubstitution\nHome Score: 9\nAway Score: 6
END:VEVENT
BEGIN:VEVENT
UID:17049315@ezleagues.ezfacility.com
DTSTAMP:20260424T041401Z
CREATED:20260424T041401Z
DTSTART:20260418T010000Z
DTEND:20260418T020000Z
LOCATION:6v6 Field 1
CONTACT:
SUMMARY:Easily Distracted VS. From Behind
DESCRIPTION:League Name: 3rd session 2026- O30 Coed Friday Boarded\nGame Ty
 pe: Regular\nGame Status: Complete\nHome Team: Easily Distracted\nAway Tea
 m: From Behind\nHome Score: 5\nAway Score: 9
END:VEVENT
BEGIN:VEVENT
UID:17049327@ezleagues.ezfacility.com
DTSTAMP:20260424T041401Z
CREATED:20260424T041401Z
DTSTART:20260425T010000Z
DTEND:20260425T020000Z
LOCATION:6v6 Field 1
CONTACT:
SUMMARY:From Behind VS. Killa Bees
DESCRIPTION:League Name: 3rd session 2026- O30 Coed Friday Boarded\nGame Ty
 pe: Regular\nGame Status: Pending\nHome Team: From Behind\nAway Team: Kill
 a Bees\n
END:VEVENT
BEGIN:VEVENT
UID:17049321@ezleagues.ezfacility.com
DTSTAMP:20260424T041401Z
CREATED:20260424T041401Z
DTSTART:20260502T013000Z
DTEND:20260502T023000Z
LOCATION:6v6 Field 2
CONTACT:
SUMMARY:From Behind VS. Scrubstitution
DESCRIPTION:League Name: 3rd session 2026- O30 Coed Friday Boarded\nGame Ty
 pe: Regular\nGame Status: Pending\nHome Team: From Behind\nAway Team: Scru
 bstitution\n
END:VEVENT
END:VCALENDAR
