BEGIN:VCALENDAR
VERSION:2.0
PRODID:-//EZFacility.com, Inc.//EZL 2.5.5.28621
BEGIN:VEVENT
UID:17049296@ezleagues.ezfacility.com
DTSTAMP:20260424T041508Z
CREATED:20260424T041508Z
DTSTART:20260321T003000Z
DTEND:20260321T013000Z
LOCATION:6v6 Field 2
CONTACT:
SUMMARY:Kane You Kick It VS. Scrubstitution
DESCRIPTION:League Name: 3rd session 2026- O30 Coed Friday Boarded\nGame Ty
 pe: Regular\nGame Status: Complete\nHome Team: Kane You Kick It\nAway Team
 : Scrubstitution\nHome Score: 8\nAway Score: 15
END:VEVENT
BEGIN:VEVENT
UID:17049301@ezleagues.ezfacility.com
DTSTAMP:20260424T041508Z
CREATED:20260424T041508Z
DTSTART:20260327T233000Z
DTEND:20260328T003000Z
LOCATION:6v6 Field 2
CONTACT:
SUMMARY:Easily Distracted VS. Kane You Kick It
DESCRIPTION:League Name: 3rd session 2026- O30 Coed Friday Boarded\nGame Ty
 pe: Regular\nGame Status: Complete\nHome Team: Easily Distracted\nAway Tea
 m: Kane You Kick It\nHome Score: 7\nAway Score: 13
END:VEVENT
BEGIN:VEVENT
UID:17049336@ezleagues.ezfacility.com
DTSTAMP:20260424T041508Z
CREATED:20260424T041508Z
DTSTART:20260403T233000Z
DTEND:20260404T003000Z
LOCATION:6v6 Field 2
CONTACT:
SUMMARY:Kane You Kick It VS. CO Jones
DESCRIPTION:League Name: 3rd session 2026- O30 Coed Friday Boarded\nGame Ty
 pe: Regular\nGame Status: Complete\nHome Team: Kane You Kick It\nAway Team
 : CO Jones\nHome Score: 10\nAway Score: 3
END:VEVENT
BEGIN:VEVENT
UID:17049312@ezleagues.ezfacility.com
DTSTAMP:20260424T041508Z
CREATED:20260424T041508Z
DTSTART:20260411T000000Z
DTEND:20260411T010000Z
LOCATION:6v6 Field 1
CONTACT:
SUMMARY:Killa Bees VS. Kane You Kick It
DESCRIPTION:League Name: 3rd session 2026- O30 Coed Friday Boarded\nGame Ty
 pe: Regular\nGame Status: Complete\nHome Team: Killa Bees\nAway Team: Kane
  You Kick It\nHome Score: 6\nAway Score: 10
END:VEVENT
BEGIN:VEVENT
UID:17049317@ezleagues.ezfacility.com
DTSTAMP:20260424T041508Z
CREATED:20260424T041508Z
DTSTART:20260418T003000Z
DTEND:20260418T013000Z
LOCATION:6v6 Field 2
CONTACT:
SUMMARY:Kane You Kick It VS. Blood\, Sweat\, + Beers
DESCRIPTION:League Name: 3rd session 2026- O30 Coed Friday Boarded\nGame Ty
 pe: Regular\nGame Status: Complete\nHome Team: Kane You Kick It\nAway Team
 : Blood, Sweat, + Beers\nHome Score: 6\nAway Score: 5
END:VEVENT
BEGIN:VEVENT
UID:17049329@ezleagues.ezfacility.com
DTSTAMP:20260424T041508Z
CREATED:20260424T041508Z
DTSTART:20260424T230000Z
DTEND:20260425T000000Z
LOCATION:6v6 Field 1
CONTACT:
SUMMARY:Too Easy VS. Kane You Kick It
DESCRIPTION:League Name: 3rd session 2026- O30 Coed Friday Boarded\nGame Ty
 pe: Regular\nGame Status: Pending\nHome Team: Too Easy\nAway Team: Kane Yo
 u Kick It\n
END:VEVENT
BEGIN:VEVENT
UID:17049322@ezleagues.ezfacility.com
DTSTAMP:20260424T041508Z
CREATED:20260424T041508Z
DTSTART:20260501T233000Z
DTEND:20260502T003000Z
LOCATION:6v6 Field 2
CONTACT:
SUMMARY:Kane You Kick It VS. Blood\, Sweat\, + Beers
DESCRIPTION:League Name: 3rd session 2026- O30 Coed Friday Boarded\nGame Ty
 pe: Regular\nGame Status: Pending\nHome Team: Kane You Kick It\nAway Team:
  Blood, Sweat, + Beers\n
END:VEVENT
BEGIN:VEVENT
UID:17058720@ezleagues.ezfacility.com
DTSTAMP:20260424T041508Z
CREATED:20260424T041508Z
DTSTART:20260502T003000Z
DTEND:20260502T013000Z
LOCATION:6v6 Field 2
CONTACT:
SUMMARY:Scrubstitution VS. Kane You Kick It
DESCRIPTION:League Name: 3rd session 2026- O30 Coed Friday Boarded\nGame Ty
 pe: Regular\nGame Status: Pending\nHome Team: Scrubstitution\nAway Team: K
 ane You Kick It\n
END:VEVENT
END:VCALENDAR
