BEGIN:VCALENDAR
VERSION:2.0
PRODID:-//EZFacility.com, Inc.//EZL 2.5.5.28621
BEGIN:VEVENT
UID:17051177@ezleagues.ezfacility.com
DTSTAMP:20260426T035104Z
CREATED:20260426T035104Z
DTSTART:20260320T010000Z
DTEND:20260320T015000Z
LOCATION:Fieldhouse 2 (Left)
CONTACT:
SUMMARY:Sea Hag Strikers VS. Brass City Turf Burns
DESCRIPTION:League Name: 2025/26 Leagues-Coed League-Session 4\nGame Type: 
 Regular\nGame Status: Complete\nHome Team: Sea Hag Strikers\nAway Team: Br
 ass City Turf Burns\nHome Score: 3\nAway Score: 3
END:VEVENT
BEGIN:VEVENT
UID:17051178@ezleagues.ezfacility.com
DTSTAMP:20260426T035104Z
CREATED:20260426T035104Z
DTSTART:20260327T000000Z
DTEND:20260327T005000Z
LOCATION:Fieldhouse 2 (Left)
CONTACT:
SUMMARY:Brass City Turf Burns VS. Rancho # 2
DESCRIPTION:League Name: 2025/26 Leagues-Coed League-Session 4\nGame Type: 
 Regular\nGame Status: Complete\nHome Team: Brass City Turf Burns\nAway Tea
 m: Rancho # 2\nHome Score: 9\nAway Score: 3
END:VEVENT
BEGIN:VEVENT
UID:17051172@ezleagues.ezfacility.com
DTSTAMP:20260426T035104Z
CREATED:20260426T035104Z
DTSTART:20260403T020000Z
DTEND:20260403T025000Z
LOCATION:Fieldhouse 2 (Left)
CONTACT:
SUMMARY:Brass City Turf Burns VS. Hasbulla FC
DESCRIPTION:League Name: 2025/26 Leagues-Coed League-Session 4\nGame Type: 
 Regular\nGame Status: Complete\nHome Team: Brass City Turf Burns\nAway Tea
 m: Hasbulla FC\nHome Score: 7\nAway Score: 8
END:VEVENT
BEGIN:VEVENT
UID:17051184@ezleagues.ezfacility.com
DTSTAMP:20260426T035104Z
CREATED:20260426T035104Z
DTSTART:20260410T000000Z
DTEND:20260410T005000Z
LOCATION:Fieldhouse 2 (Left)
CONTACT:
SUMMARY:Cancelled FC VS. Brass City Turf Burns
DESCRIPTION:League Name: 2025/26 Leagues-Coed League-Session 4\nGame Type: 
 Regular\nGame Status: Complete\nHome Team: Cancelled FC\nAway Team: Brass 
 City Turf Burns\nHome Score: 7\nAway Score: 7
END:VEVENT
BEGIN:VEVENT
UID:17051187@ezleagues.ezfacility.com
DTSTAMP:20260426T035104Z
CREATED:20260426T035104Z
DTSTART:20260417T020000Z
DTEND:20260417T025000Z
LOCATION:Fieldhouse 2 (Left)
CONTACT:
SUMMARY:Hasbulla FC VS. Brass City Turf Burns
DESCRIPTION:League Name: 2025/26 Leagues-Coed League-Session 4\nGame Type: 
 Regular\nGame Status: Complete\nHome Team: Hasbulla FC\nAway Team: Brass C
 ity Turf Burns\nHome Score: 8\nAway Score: 3
END:VEVENT
BEGIN:VEVENT
UID:17051190@ezleagues.ezfacility.com
DTSTAMP:20260426T035104Z
CREATED:20260426T035104Z
DTSTART:20260424T010000Z
DTEND:20260424T015000Z
LOCATION:Fieldhouse 2 (Left)
CONTACT:
SUMMARY:Rancho #1 VS. Brass City Turf Burns
DESCRIPTION:League Name: 2025/26 Leagues-Coed League-Session 4\nGame Type: 
 Regular\nGame Status: Complete\nHome Team: Rancho #1\nAway Team: Brass Cit
 y Turf Burns\nHome Score: 9\nAway Score: 12
END:VEVENT
BEGIN:VEVENT
UID:17051195@ezleagues.ezfacility.com
DTSTAMP:20260426T035104Z
CREATED:20260426T035104Z
DTSTART:20260501T000000Z
DTEND:20260501T005000Z
LOCATION:Fieldhouse 2 (Left)
CONTACT:
SUMMARY:Hasbulla FC VS. Brass City Turf Burns
DESCRIPTION:League Name: 2025/26 Leagues-Coed League-Session 4\nGame Type: 
 Postseason\nGame Status: Pending\nHome Team: Hasbulla FC\nAway Team: Brass
  City Turf Burns\n
END:VEVENT
END:VCALENDAR
