BEGIN:VCALENDAR
VERSION:2.0
PRODID:-//EZFacility.com, Inc.//EZL 2.5.5.28621
BEGIN:VEVENT
UID:17050112@ezleagues.ezfacility.com
DTSTAMP:20260424T044218Z
CREATED:20260424T044218Z
DTSTART:20260406T200000Z
DTEND:20260406T210000Z
LOCATION:Venue1
CONTACT:
SUMMARY:Team 05 VS. Team 04
DESCRIPTION:League Name: Baseball SPring\nGame Type: Regular\nGame Status: 
 Pending\nHome Team: Team 05\nAway Team: Team 04\n
END:VEVENT
BEGIN:VEVENT
UID:17050119@ezleagues.ezfacility.com
DTSTAMP:20260424T044218Z
CREATED:20260424T044218Z
DTSTART:20260413T200000Z
DTEND:20260413T210000Z
LOCATION:Venue1
CONTACT:
SUMMARY:Team 05 VS. Team 03
DESCRIPTION:League Name: Baseball SPring\nGame Type: Regular\nGame Status: 
 Pending\nHome Team: Team 05\nAway Team: Team 03\n
END:VEVENT
BEGIN:VEVENT
UID:17050123@ezleagues.ezfacility.com
DTSTAMP:20260424T044218Z
CREATED:20260424T044218Z
DTSTART:20260420T200000Z
DTEND:20260420T210000Z
LOCATION:Venue1
CONTACT:
SUMMARY:Team 07 VS. Team 05
DESCRIPTION:League Name: Baseball SPring\nGame Type: Regular\nGame Status: 
 Pending\nHome Team: Team 07\nAway Team: Team 05\n
END:VEVENT
BEGIN:VEVENT
UID:17050126@ezleagues.ezfacility.com
DTSTAMP:20260424T044218Z
CREATED:20260424T044218Z
DTSTART:20260422T200000Z
DTEND:20260422T210000Z
LOCATION:Venue1
CONTACT:
SUMMARY:Team 06 VS. Team 05
DESCRIPTION:League Name: Baseball SPring\nGame Type: Regular\nGame Status: 
 Pending\nHome Team: Team 06\nAway Team: Team 05\n
END:VEVENT
END:VCALENDAR
