BEGIN:VCALENDAR
VERSION:2.0
PRODID:-//EZFacility.com, Inc.//EZL 2.5.5.28621
BEGIN:VEVENT
UID:17056282@ezleagues.ezfacility.com
DTSTAMP:20260424T041420Z
CREATED:20260424T041420Z
DTSTART:20260319T023000Z
DTEND:20260319T033000Z
LOCATION:6v6 Field 2
CONTACT:
SUMMARY:Ballbusters VS. House Team Wed
DESCRIPTION:League Name: 3rd Session 2026- Coed Open Wednesday Board White\
 nGame Type: Regular\nGame Status: Complete\nHome Team: Ballbusters\nAway T
 eam: House Team Wed\nHome Score: 7\nAway Score: 7
END:VEVENT
BEGIN:VEVENT
UID:17056284@ezleagues.ezfacility.com
DTSTAMP:20260424T041420Z
CREATED:20260424T041420Z
DTSTART:20260326T013000Z
DTEND:20260326T023000Z
LOCATION:6v6 Field 2
CONTACT:
SUMMARY:Ferndale F.C. VS. Ballbusters
DESCRIPTION:League Name: 3rd Session 2026- Coed Open Wednesday Board White\
 nGame Type: Regular\nGame Status: Complete\nHome Team: Ferndale F.C.\nAway
  Team: Ballbusters\nHome Score: 5\nAway Score: 5
END:VEVENT
BEGIN:VEVENT
UID:17056286@ezleagues.ezfacility.com
DTSTAMP:20260424T041420Z
CREATED:20260424T041420Z
DTSTART:20260402T003000Z
DTEND:20260402T013000Z
LOCATION:6v6 Field 2
CONTACT:
SUMMARY:Zoinks! VS. Ballbusters
DESCRIPTION:League Name: 3rd Session 2026- Coed Open Wednesday Board White\
 nGame Type: Regular\nGame Status: Complete\nHome Team: Zoinks!\nAway Team:
  Ballbusters\nHome Score: 6\nAway Score: 7
END:VEVENT
BEGIN:VEVENT
UID:17056290@ezleagues.ezfacility.com
DTSTAMP:20260424T041420Z
CREATED:20260424T041420Z
DTSTART:20260409T003000Z
DTEND:20260409T013000Z
LOCATION:6v6 Field 2
CONTACT:
SUMMARY:Ballbusters VS. FC Beercelona
DESCRIPTION:League Name: 3rd Session 2026- Coed Open Wednesday Board White\
 nGame Type: Regular\nGame Status: Complete\nHome Team: Ballbusters\nAway T
 eam: FC Beercelona\nHome Score: 9\nAway Score: 7
END:VEVENT
BEGIN:VEVENT
UID:17056294@ezleagues.ezfacility.com
DTSTAMP:20260424T041420Z
CREATED:20260424T041420Z
DTSTART:20260415T233000Z
DTEND:20260416T003000Z
LOCATION:6v6 Field 2
CONTACT:
SUMMARY:Ballbusters VS. That Team!
DESCRIPTION:League Name: 3rd Session 2026- Coed Open Wednesday Board White\
 nGame Type: Regular\nGame Status: Complete\nHome Team: Ballbusters\nAway T
 eam: That Team!\nHome Score: 9\nAway Score: 8
END:VEVENT
BEGIN:VEVENT
UID:17056297@ezleagues.ezfacility.com
DTSTAMP:20260424T041420Z
CREATED:20260424T041420Z
DTSTART:20260422T233000Z
DTEND:20260423T003000Z
LOCATION:6v6 Field 2
CONTACT:
SUMMARY:House Team Wed VS. Ballbusters
DESCRIPTION:League Name: 3rd Session 2026- Coed Open Wednesday Board White\
 nGame Type: Regular\nGame Status: Complete\nHome Team: House Team Wed\nAwa
 y Team: Ballbusters\nHome Score: 5\nAway Score: 7
END:VEVENT
BEGIN:VEVENT
UID:17056299@ezleagues.ezfacility.com
DTSTAMP:20260424T041420Z
CREATED:20260424T041420Z
DTSTART:20260430T013000Z
DTEND:20260430T023000Z
LOCATION:6v6 Field 2
CONTACT:
SUMMARY:Ferndale F.C. VS. Ballbusters
DESCRIPTION:League Name: 3rd Session 2026- Coed Open Wednesday Board White\
 nGame Type: Regular\nGame Status: Pending\nHome Team: Ferndale F.C.\nAway 
 Team: Ballbusters\n
END:VEVENT
BEGIN:VEVENT
UID:17056301@ezleagues.ezfacility.com
DTSTAMP:20260424T041420Z
CREATED:20260424T041420Z
DTSTART:20260506T233000Z
DTEND:20260507T003000Z
LOCATION:6v6 Field 2
CONTACT:
SUMMARY:Ballbusters VS. Zoinks!
DESCRIPTION:League Name: 3rd Session 2026- Coed Open Wednesday Board White\
 nGame Type: Regular\nGame Status: Pending\nHome Team: Ballbusters\nAway Te
 am: Zoinks!\n
END:VEVENT
END:VCALENDAR
