BEGIN:VCALENDAR
VERSION:2.0
PRODID:-//EZFacility.com, Inc.//EZL 2.5.5.28621
BEGIN:VEVENT
UID:17059913@ezleagues.ezfacility.com
DTSTAMP:20260424T044400Z
CREATED:20260424T044400Z
DTSTART:20260328T191500Z
DTEND:20260328T200000Z
LOCATION:Soccer Pups Lubbock
CONTACT:
SUMMARY:Select Black VS. Soccer Pups Purple
DESCRIPTION:League Name: 2026 Spring League U7-U8\nGame Type: Regular\nGame
  Status: Complete\nHome Team: Select Black\nAway Team: Soccer Pups Purple\
 nHome Score: 17\nAway Score: 2
END:VEVENT
BEGIN:VEVENT
UID:17059916@ezleagues.ezfacility.com
DTSTAMP:20260424T044400Z
CREATED:20260424T044400Z
DTSTART:20260329T191500Z
DTEND:20260329T200000Z
LOCATION:Soccer Pups Lubbock
CONTACT:
SUMMARY:Soccer Pups Navy VS. Soccer Pups Purple
DESCRIPTION:League Name: 2026 Spring League U7-U8\nGame Type: Regular\nGame
  Status: Complete\nHome Team: Soccer Pups Navy\nAway Team: Soccer Pups Pur
 ple\nHome Score: 2\nAway Score: 5
END:VEVENT
BEGIN:VEVENT
UID:17059924@ezleagues.ezfacility.com
DTSTAMP:20260424T044400Z
CREATED:20260424T044400Z
DTSTART:20260411T204500Z
DTEND:20260411T213000Z
LOCATION:Soccer Pups Lubbock
CONTACT:
SUMMARY:Soccer Pups Red VS. Soccer Pups Purple
DESCRIPTION:League Name: 2026 Spring League U7-U8\nGame Type: Regular\nGame
  Status: Complete\nHome Team: Soccer Pups Red\nAway Team: Soccer Pups Purp
 le\nHome Score: 4\nAway Score: 7
END:VEVENT
BEGIN:VEVENT
UID:17059922@ezleagues.ezfacility.com
DTSTAMP:20260424T044400Z
CREATED:20260424T044400Z
DTSTART:20260412T191500Z
DTEND:20260412T200000Z
LOCATION:Soccer Pups Lubbock
CONTACT:
SUMMARY:Soccer Pups Purple VS. Soccer Pups Navy
DESCRIPTION:League Name: 2026 Spring League U7-U8\nGame Type: Regular\nGame
  Status: Complete\nHome Team: Soccer Pups Purple\nAway Team: Soccer Pups N
 avy\nHome Score: 7\nAway Score: 6
END:VEVENT
BEGIN:VEVENT
UID:17059919@ezleagues.ezfacility.com
DTSTAMP:20260424T044400Z
CREATED:20260424T044400Z
DTSTART:20260418T204500Z
DTEND:20260418T213000Z
LOCATION:Soccer Pups Lubbock
CONTACT:
SUMMARY:Soccer Pups Purple VS. Select Black
DESCRIPTION:League Name: 2026 Spring League U7-U8\nGame Type: Regular\nGame
  Status: Complete\nHome Team: Soccer Pups Purple\nAway Team: Select Black\
 nHome Score: 5\nAway Score: 13
END:VEVENT
BEGIN:VEVENT
UID:17059918@ezleagues.ezfacility.com
DTSTAMP:20260424T044400Z
CREATED:20260424T044400Z
DTSTART:20260419T204500Z
DTEND:20260419T213000Z
LOCATION:Soccer Pups Lubbock
CONTACT:
SUMMARY:Soccer Pups Purple VS. Soccer Pups Red
DESCRIPTION:League Name: 2026 Spring League U7-U8\nGame Type: Regular\nGame
  Status: Complete\nHome Team: Soccer Pups Purple\nAway Team: Soccer Pups R
 ed\nHome Score: 6\nAway Score: 5
END:VEVENT
END:VCALENDAR
