BEGIN:VCALENDAR
VERSION:2.0
PRODID:-//EZFacility.com, Inc.//EZL 2.5.5.28621
BEGIN:VEVENT
UID:17060523@ezleagues.ezfacility.com
DTSTAMP:20260424T041406Z
CREATED:20260424T041406Z
DTSTART:20260331T010000Z
DTEND:20260331T014500Z
LOCATION:Venue1
CONTACT:
SUMMARY:Toepoke Chicos VS. Second Chance
DESCRIPTION:League Name: Pup Stars O 30 Spring\nGame Type: Regular\nGame St
 atus: Complete\nHome Team: Toepoke Chicos\nAway Team: Second Chance\nHome 
 Score: 20\nAway Score: 24
END:VEVENT
BEGIN:VEVENT
UID:17060526@ezleagues.ezfacility.com
DTSTAMP:20260424T041406Z
CREATED:20260424T041406Z
DTSTART:20260407T010000Z
DTEND:20260407T014500Z
LOCATION:Venue1
CONTACT:
SUMMARY:Sabertooths VS. Second Chance
DESCRIPTION:League Name: Pup Stars O 30 Spring\nGame Type: Regular\nGame St
 atus: Complete\nHome Team: Sabertooths\nAway Team: Second Chance\nHome Sco
 re: 19\nAway Score: 22
END:VEVENT
BEGIN:VEVENT
UID:17069792@ezleagues.ezfacility.com
DTSTAMP:20260424T041406Z
CREATED:20260424T041406Z
DTSTART:20260414T014500Z
DTEND:20260414T023000Z
LOCATION:Venue1
CONTACT:
SUMMARY:Battered Ballers VS. Second Chance
DESCRIPTION:League Name: Pup Stars O 30 Spring\nGame Type: Regular\nGame St
 atus: Complete\nHome Team: Battered Ballers\nAway Team: Second Chance\nHom
 e Score: 14\nAway Score: 18
END:VEVENT
BEGIN:VEVENT
UID:17085232@ezleagues.ezfacility.com
DTSTAMP:20260424T041406Z
CREATED:20260424T041406Z
DTSTART:20260428T014500Z
DTEND:20260428T023000Z
LOCATION:Venue1
CONTACT:
SUMMARY:Caspian Eagles  VS. Second Chance
DESCRIPTION:League Name: Pup Stars O 30 Spring\nGame Type: Regular\nGame St
 atus: Pending\nHome Team: Caspian Eagles \nAway Team: Second Chance\n
END:VEVENT
BEGIN:VEVENT
UID:17096185@ezleagues.ezfacility.com
DTSTAMP:20260424T041406Z
CREATED:20260424T041406Z
DTSTART:20260505T010000Z
DTEND:20260505T014500Z
LOCATION:Venue1
CONTACT:
SUMMARY:Second Chance VS. Los Jefes
DESCRIPTION:League Name: Pup Stars O 30 Spring\nGame Type: Regular\nGame St
 atus: Pending\nHome Team: Second Chance\nAway Team: Los Jefes\n
END:VEVENT
BEGIN:VEVENT
UID:17096189@ezleagues.ezfacility.com
DTSTAMP:20260424T041406Z
CREATED:20260424T041406Z
DTSTART:20260512T014500Z
DTEND:20260512T023000Z
LOCATION:Venue1
CONTACT:
SUMMARY:Prime Time VS. Second Chance
DESCRIPTION:League Name: Pup Stars O 30 Spring\nGame Type: Regular\nGame St
 atus: Pending\nHome Team: Prime Time\nAway Team: Second Chance\n
END:VEVENT
END:VCALENDAR
