BEGIN:VCALENDAR
VERSION:2.0
PRODID:-//EZFacility.com, Inc.//EZL 2.5.5.28621
BEGIN:VEVENT
UID:17060521@ezleagues.ezfacility.com
DTSTAMP:20260424T041328Z
CREATED:20260424T041328Z
DTSTART:20260324T014500Z
DTEND:20260324T023000Z
LOCATION:Venue1
CONTACT:
SUMMARY:Toepoke Chicos VS. Los Jefes
DESCRIPTION:League Name: Pup Stars O 30 Spring\nGame Type: Regular\nGame St
 atus: Complete\nHome Team: Toepoke Chicos\nAway Team: Los Jefes\nHome Scor
 e: 22\nAway Score: 15
END:VEVENT
BEGIN:VEVENT
UID:17060523@ezleagues.ezfacility.com
DTSTAMP:20260424T041328Z
CREATED:20260424T041328Z
DTSTART:20260331T010000Z
DTEND:20260331T014500Z
LOCATION:Venue1
CONTACT:
SUMMARY:Toepoke Chicos VS. Second Chance
DESCRIPTION:League Name: Pup Stars O 30 Spring\nGame Type: Regular\nGame St
 atus: Complete\nHome Team: Toepoke Chicos\nAway Team: Second Chance\nHome 
 Score: 20\nAway Score: 24
END:VEVENT
BEGIN:VEVENT
UID:17060536@ezleagues.ezfacility.com
DTSTAMP:20260424T041328Z
CREATED:20260424T041328Z
DTSTART:20260407T014500Z
DTEND:20260407T023000Z
LOCATION:Venue1
CONTACT:
SUMMARY:Prime Time VS. Toepoke Chicos
DESCRIPTION:League Name: Pup Stars O 30 Spring\nGame Type: Regular\nGame St
 atus: Complete\nHome Team: Prime Time\nAway Team: Toepoke Chicos\nHome Sco
 re: 30\nAway Score: 12
END:VEVENT
BEGIN:VEVENT
UID:17085228@ezleagues.ezfacility.com
DTSTAMP:20260424T041328Z
CREATED:20260424T041328Z
DTSTART:20260421T010000Z
DTEND:20260421T014500Z
LOCATION:Venue1
CONTACT:
SUMMARY:Sabertooths VS. Toepoke Chicos
DESCRIPTION:League Name: Pup Stars O 30 Spring\nGame Type: Regular\nGame St
 atus: Complete\nHome Team: Sabertooths\nAway Team: Toepoke Chicos\nHome Sc
 ore: 13\nAway Score: 19
END:VEVENT
BEGIN:VEVENT
UID:17085233@ezleagues.ezfacility.com
DTSTAMP:20260424T041328Z
CREATED:20260424T041328Z
DTSTART:20260428T010000Z
DTEND:20260428T014500Z
LOCATION:Venue1
CONTACT:
SUMMARY:Toepoke Chicos VS. Battered Ballers
DESCRIPTION:League Name: Pup Stars O 30 Spring\nGame Type: Regular\nGame St
 atus: Pending\nHome Team: Toepoke Chicos\nAway Team: Battered Ballers\n
END:VEVENT
BEGIN:VEVENT
UID:17096187@ezleagues.ezfacility.com
DTSTAMP:20260424T041328Z
CREATED:20260424T041328Z
DTSTART:20260505T023000Z
DTEND:20260505T031500Z
LOCATION:Venue1
CONTACT:
SUMMARY:Caspian Eagles  VS. Toepoke Chicos
DESCRIPTION:League Name: Pup Stars O 30 Spring\nGame Type: Regular\nGame St
 atus: Pending\nHome Team: Caspian Eagles \nAway Team: Toepoke Chicos\n
END:VEVENT
END:VCALENDAR
