BEGIN:VCALENDAR
VERSION:2.0
PRODID:-//EZFacility.com, Inc.//EZL 2.5.5.28621
BEGIN:VEVENT
UID:17060700@ezleagues.ezfacility.com
DTSTAMP:20260426T035035Z
CREATED:20260426T035035Z
DTSTART:20260320T234500Z
DTEND:20260321T003000Z
LOCATION:FIELD
CONTACT:Hugghins
SUMMARY:MARINES FEM VS. ATHENS FC
DESCRIPTION:League Name: 2015/2016 GIRLS LEAGUE SPRING 2026\nGame Type: Reg
 ular\nGame Status: Complete\nHome Team: MARINES FEM\nAway Team: ATHENS FC\
 nHome Score: 3\nAway Score: 5
END:VEVENT
BEGIN:VEVENT
UID:17060703@ezleagues.ezfacility.com
DTSTAMP:20260426T035035Z
CREATED:20260426T035035Z
DTSTART:20260327T234500Z
DTEND:20260328T003000Z
LOCATION:FIELD
CONTACT:Zavala
SUMMARY:ATHENS FC VS. VENOMOUS VIPERS
DESCRIPTION:League Name: 2015/2016 GIRLS LEAGUE SPRING 2026\nGame Type: Reg
 ular\nGame Status: Complete\nHome Team: ATHENS FC\nAway Team: VENOMOUS VIP
 ERS\nHome Score: 12\nAway Score: 3
END:VEVENT
BEGIN:VEVENT
UID:17060709@ezleagues.ezfacility.com
DTSTAMP:20260426T035035Z
CREATED:20260426T035035Z
DTSTART:20260410T230000Z
DTEND:20260410T234500Z
LOCATION:FIELD
CONTACT:Hugghins
SUMMARY:ATHENS FC VS. THE HIVE
DESCRIPTION:League Name: 2015/2016 GIRLS LEAGUE SPRING 2026\nGame Type: Reg
 ular\nGame Status: Complete\nHome Team: ATHENS FC\nAway Team: THE HIVE\nHo
 me Score: 2\nAway Score: 6
END:VEVENT
BEGIN:VEVENT
UID:17060712@ezleagues.ezfacility.com
DTSTAMP:20260426T035035Z
CREATED:20260426T035035Z
DTSTART:20260417T234500Z
DTEND:20260418T003000Z
LOCATION:FIELD
CONTACT:Hugghins
SUMMARY:HOOLIGANS VS. ATHENS FC
DESCRIPTION:League Name: 2015/2016 GIRLS LEAGUE SPRING 2026\nGame Type: Reg
 ular\nGame Status: Complete\nHome Team: HOOLIGANS\nAway Team: ATHENS FC\nH
 ome Score: 2\nAway Score: 9
END:VEVENT
BEGIN:VEVENT
UID:17060715@ezleagues.ezfacility.com
DTSTAMP:20260426T035035Z
CREATED:20260426T035035Z
DTSTART:20260424T234500Z
DTEND:20260425T003000Z
LOCATION:FIELD
CONTACT:Hugghins
SUMMARY:ATHENS FC VS. MARINES FEM
DESCRIPTION:League Name: 2015/2016 GIRLS LEAGUE SPRING 2026\nGame Type: Reg
 ular\nGame Status: Complete\nHome Team: ATHENS FC\nAway Team: MARINES FEM\
 nHome Score: 3\nAway Score: 3
END:VEVENT
BEGIN:VEVENT
UID:17060718@ezleagues.ezfacility.com
DTSTAMP:20260426T035035Z
CREATED:20260426T035035Z
DTSTART:20260501T234500Z
DTEND:20260502T003000Z
LOCATION:FIELD
CONTACT:Jaimes
SUMMARY:VENOMOUS VIPERS VS. ATHENS FC
DESCRIPTION:League Name: 2015/2016 GIRLS LEAGUE SPRING 2026\nGame Type: Reg
 ular\nGame Status: Pending\nHome Team: VENOMOUS VIPERS\nAway Team: ATHENS 
 FC\n
END:VEVENT
END:VCALENDAR
