BEGIN:VCALENDAR
VERSION:2.0
PRODID:-//EZFacility.com, Inc.//EZL 2.5.5.28621
BEGIN:VEVENT
UID:17062794@ezleagues.ezfacility.com
DTSTAMP:20260426T034116Z
CREATED:20260426T034116Z
DTSTART:20260322T150000Z
DTEND:20260322T160000Z
LOCATION:Field 2
CONTACT:
SUMMARY:CORE 2K17 8U softball VS. Blanchard Spark 8U softball
DESCRIPTION:League Name: Soft Opening 8U Softball\nGame Type: Regular\nGame
  Status: Pending\nHome Team: CORE 2K17 8U softball\nAway Team: Blanchard S
 park 8U softball\n
END:VEVENT
BEGIN:VEVENT
UID:17062792@ezleagues.ezfacility.com
DTSTAMP:20260426T034116Z
CREATED:20260426T034116Z
DTSTART:20260322T163000Z
DTEND:20260322T173000Z
LOCATION:Field 3
CONTACT:
SUMMARY:Blanchard Spark 8U softball VS. Flash 2017 8U softball
DESCRIPTION:League Name: Soft Opening 8U Softball\nGame Type: Regular\nGame
  Status: Pending\nHome Team: Blanchard Spark 8U softball\nAway Team: Flash
  2017 8U softball\n
END:VEVENT
END:VCALENDAR
