BEGIN:VCALENDAR
VERSION:2.0
PRODID:-//EZFacility.com, Inc.//EZL 2.5.5.28621
BEGIN:VEVENT
UID:17063236@ezleagues.ezfacility.com
DTSTAMP:20260425T112230Z
CREATED:20260425T112230Z
DTSTART:20260328T201000Z
DTEND:20260328T221000Z
LOCATION:Baseball Field 2
CONTACT:
SUMMARY:Tripletown Aces (B3) VS. Warriors 11U (B2)
DESCRIPTION:League Name: Spring '26 Spring Blast Off, 11U, 3/27-29\nGame Ty
 pe: Regular\nGame Status: Complete\nHome Team: Tripletown Aces (B3)\nAway 
 Team: Warriors 11U (B2)\nHome Score: 0\nAway Score: 8
END:VEVENT
BEGIN:VEVENT
UID:17063238@ezleagues.ezfacility.com
DTSTAMP:20260425T112230Z
CREATED:20260425T112230Z
DTSTART:20260329T001000Z
DTEND:20260329T021000Z
LOCATION:Baseball Field 2
CONTACT:
SUMMARY:Warriors 11U (B2) VS. Deep Run 11u Blue (B1)
DESCRIPTION:League Name: Spring '26 Spring Blast Off, 11U, 3/27-29\nGame Ty
 pe: Regular\nGame Status: Complete\nHome Team: Warriors 11U (B2)\nAway Tea
 m: Deep Run 11u Blue (B1)\nHome Score: 4\nAway Score: 6
END:VEVENT
BEGIN:VEVENT
UID:17063240@ezleagues.ezfacility.com
DTSTAMP:20260425T112230Z
CREATED:20260425T112230Z
DTSTART:20260329T160500Z
DTEND:20260329T180500Z
LOCATION:Baseball Field 2
CONTACT:
SUMMARY:Cherry Hill National (A1) VS. Warriors 11U (B2)
DESCRIPTION:League Name: Spring '26 Spring Blast Off, 11U, 3/27-29\nGame Ty
 pe: Regular\nGame Status: Complete\nHome Team: Cherry Hill National (A1)\n
 Away Team: Warriors 11U (B2)\nHome Score: 5\nAway Score: 2
END:VEVENT
END:VCALENDAR
