BEGIN:VCALENDAR
VERSION:2.0
PRODID:-//EZFacility.com, Inc.//EZL 2.5.5.28621
BEGIN:VEVENT
UID:17063151@ezleagues.ezfacility.com
DTSTAMP:20260424T044055Z
CREATED:20260424T044055Z
DTSTART:20260320T231000Z
DTEND:20260321T000500Z
LOCATION:Field 3
CONTACT:
SUMMARY:4Fit FC (Black) VS. Phantom United (Black)
DESCRIPTION:League Name: Boys U16 - Spring\nGame Type: Regular\nGame Status
 : Complete\nHome Team: 4Fit FC (Black)\nAway Team: Phantom United (Black)\
 nHome Score: 9\nAway Score: 6
END:VEVENT
BEGIN:VEVENT
UID:17063155@ezleagues.ezfacility.com
DTSTAMP:20260424T044055Z
CREATED:20260424T044055Z
DTSTART:20260328T000500Z
DTEND:20260328T010000Z
LOCATION:Field 3
CONTACT:
SUMMARY:Phantom United (Black) VS. Celaya (Blue)
DESCRIPTION:League Name: Boys U16 - Spring\nGame Type: Regular\nGame Status
 : Complete\nHome Team: Phantom United (Black)\nAway Team: Celaya (Blue)\nH
 ome Score: 3\nAway Score: 7
END:VEVENT
BEGIN:VEVENT
UID:17063159@ezleagues.ezfacility.com
DTSTAMP:20260424T044055Z
CREATED:20260424T044055Z
DTSTART:20260403T231000Z
DTEND:20260404T000500Z
LOCATION:Field 3
CONTACT:
SUMMARY:SC Wizards (Black) VS. Phantom United (Black)
DESCRIPTION:League Name: Boys U16 - Spring\nGame Type: Regular\nGame Status
 : Complete\nHome Team: SC Wizards (Black)\nAway Team: Phantom United (Blac
 k)\nHome Score: 3\nAway Score: 13
END:VEVENT
BEGIN:VEVENT
UID:17063162@ezleagues.ezfacility.com
DTSTAMP:20260424T044055Z
CREATED:20260424T044055Z
DTSTART:20260410T231000Z
DTEND:20260411T000500Z
LOCATION:Field 1
CONTACT:
SUMMARY:San Luis (Red) VS. Phantom United (Black)
DESCRIPTION:League Name: Boys U16 - Spring\nGame Type: Regular\nGame Status
 : Complete\nHome Team: San Luis (Red)\nAway Team: Phantom United (Black)\n
 Home Score: 7\nAway Score: 1
END:VEVENT
BEGIN:VEVENT
UID:17063164@ezleagues.ezfacility.com
DTSTAMP:20260424T044055Z
CREATED:20260424T044055Z
DTSTART:20260417T231000Z
DTEND:20260418T000500Z
LOCATION:Field 3
CONTACT:
SUMMARY:Pressure (Kelly Green) VS. Phantom United (Black)
DESCRIPTION:League Name: Boys U16 - Spring\nGame Type: Regular\nGame Status
 : Complete\nHome Team: Pressure (Kelly Green)\nAway Team: Phantom United (
 Black)\nHome Score: 6\nAway Score: 3
END:VEVENT
BEGIN:VEVENT
UID:17083186@ezleagues.ezfacility.com
DTSTAMP:20260424T044055Z
CREATED:20260424T044055Z
DTSTART:20260424T231000Z
DTEND:20260425T000500Z
LOCATION:Field 1
CONTACT:
SUMMARY:Phantom United (Black) VS. SC Wizards (Black)
DESCRIPTION:League Name: Boys U16 - Spring\nGame Type: Regular\nGame Status
 : Pending\nHome Team: Phantom United (Black)\nAway Team: SC Wizards (Black
 )\n
END:VEVENT
BEGIN:VEVENT
UID:17063169@ezleagues.ezfacility.com
DTSTAMP:20260424T044055Z
CREATED:20260424T044055Z
DTSTART:20260501T231000Z
DTEND:20260502T000500Z
LOCATION:Field 3
CONTACT:
SUMMARY:Little Flying Dragons (White) VS. Phantom United (Black)
DESCRIPTION:League Name: Boys U16 - Spring\nGame Type: Regular\nGame Status
 : Pending\nHome Team: Little Flying Dragons (White)\nAway Team: Phantom Un
 ited (Black)\n
END:VEVENT
BEGIN:VEVENT
UID:17085892@ezleagues.ezfacility.com
DTSTAMP:20260424T044055Z
CREATED:20260424T044055Z
DTSTART:20260509T000500Z
DTEND:20260509T010000Z
LOCATION:Field 3
CONTACT:
SUMMARY:Prodigy FC (White) VS. Phantom United (Black)
DESCRIPTION:League Name: Boys U16 - Spring\nGame Type: Regular\nGame Status
 : Pending\nHome Team: Prodigy FC (White)\nAway Team: Phantom United (Black
 )\n
END:VEVENT
END:VCALENDAR
