BEGIN:VCALENDAR
VERSION:2.0
PRODID:-//EZFacility.com, Inc.//EZL 2.5.5.28621
BEGIN:VEVENT
UID:17063783@ezleagues.ezfacility.com
DTSTAMP:20260426T034048Z
CREATED:20260426T034048Z
DTSTART:20260409T231000Z
DTEND:20260410T000000Z
LOCATION:Field A
CONTACT:
SUMMARY:Chubby Squonks VS. Left Overs
DESCRIPTION:League Name: Summer I Co-Ed C Division\nGame Type: Regular\nGam
 e Status: Complete\nHome Team: Chubby Squonks\nAway Team: Left Overs\nHome
  Score: 4\nAway Score: 13
END:VEVENT
BEGIN:VEVENT
UID:17063789@ezleagues.ezfacility.com
DTSTAMP:20260426T034048Z
CREATED:20260426T034048Z
DTSTART:20260417T000000Z
DTEND:20260417T005000Z
LOCATION:Field A
CONTACT:
SUMMARY:Chubby Squonks VS. United FC
DESCRIPTION:League Name: Summer I Co-Ed C Division\nGame Type: Regular\nGam
 e Status: Complete\nHome Team: Chubby Squonks\nAway Team: United FC\nHome 
 Score: 6\nAway Score: 7
END:VEVENT
BEGIN:VEVENT
UID:17063795@ezleagues.ezfacility.com
DTSTAMP:20260426T034048Z
CREATED:20260426T034048Z
DTSTART:20260424T005000Z
DTEND:20260424T014000Z
LOCATION:Field A
CONTACT:
SUMMARY:Chubby Squonks VS. Purple Cobras
DESCRIPTION:League Name: Summer I Co-Ed C Division\nGame Type: Regular\nGam
 e Status: Complete\nHome Team: Chubby Squonks\nAway Team: Purple Cobras\nH
 ome Score: 7\nAway Score: 1
END:VEVENT
BEGIN:VEVENT
UID:17063801@ezleagues.ezfacility.com
DTSTAMP:20260426T034048Z
CREATED:20260426T034048Z
DTSTART:20260430T231000Z
DTEND:20260501T000000Z
LOCATION:Field A
CONTACT:
SUMMARY:Chubby Squonks VS. Jedi Council
DESCRIPTION:League Name: Summer I Co-Ed C Division\nGame Type: Regular\nGam
 e Status: Pending\nHome Team: Chubby Squonks\nAway Team: Jedi Council\n
END:VEVENT
BEGIN:VEVENT
UID:17063806@ezleagues.ezfacility.com
DTSTAMP:20260426T034048Z
CREATED:20260426T034048Z
DTSTART:20260508T023000Z
DTEND:20260508T032000Z
LOCATION:Field A
CONTACT:
SUMMARY:Cy-Kick FC VS. Chubby Squonks
DESCRIPTION:League Name: Summer I Co-Ed C Division\nGame Type: Regular\nGam
 e Status: Pending\nHome Team: Cy-Kick FC\nAway Team: Chubby Squonks\n
END:VEVENT
BEGIN:VEVENT
UID:17063810@ezleagues.ezfacility.com
DTSTAMP:20260426T034048Z
CREATED:20260426T034048Z
DTSTART:20260515T023000Z
DTEND:20260515T032000Z
LOCATION:Field A
CONTACT:
SUMMARY:Los Chiwiwis VS. Chubby Squonks
DESCRIPTION:League Name: Summer I Co-Ed C Division\nGame Type: Regular\nGam
 e Status: Pending\nHome Team: Los Chiwiwis\nAway Team: Chubby Squonks\n
END:VEVENT
BEGIN:VEVENT
UID:17063814@ezleagues.ezfacility.com
DTSTAMP:20260426T034048Z
CREATED:20260426T034048Z
DTSTART:20260522T023000Z
DTEND:20260522T032000Z
LOCATION:Field A
CONTACT:
SUMMARY:Yellow Jackets VS. Chubby Squonks
DESCRIPTION:League Name: Summer I Co-Ed C Division\nGame Type: Regular\nGam
 e Status: Pending\nHome Team: Yellow Jackets\nAway Team: Chubby Squonks\n
END:VEVENT
BEGIN:VEVENT
UID:17063818@ezleagues.ezfacility.com
DTSTAMP:20260426T034048Z
CREATED:20260426T034048Z
DTSTART:20260528T231000Z
DTEND:20260529T000000Z
LOCATION:Field A
CONTACT:
SUMMARY:Liverfools VS. Chubby Squonks
DESCRIPTION:League Name: Summer I Co-Ed C Division\nGame Type: Regular\nGam
 e Status: Pending\nHome Team: Liverfools\nAway Team: Chubby Squonks\n
END:VEVENT
BEGIN:VEVENT
UID:17063822@ezleagues.ezfacility.com
DTSTAMP:20260426T034048Z
CREATED:20260426T034048Z
DTSTART:20260605T014000Z
DTEND:20260605T023000Z
LOCATION:Field A
CONTACT:
SUMMARY:Chubby Squonks VS. About to get Messi
DESCRIPTION:League Name: Summer I Co-Ed C Division\nGame Type: Regular\nGam
 e Status: Pending\nHome Team: Chubby Squonks\nAway Team: About to get Mess
 i\n
END:VEVENT
BEGIN:VEVENT
UID:17063828@ezleagues.ezfacility.com
DTSTAMP:20260426T034048Z
CREATED:20260426T034048Z
DTSTART:20260612T005000Z
DTEND:20260612T014000Z
LOCATION:Field A
CONTACT:
SUMMARY:Chubby Squonks VS. Left Overs
DESCRIPTION:League Name: Summer I Co-Ed C Division\nGame Type: Regular\nGam
 e Status: Pending\nHome Team: Chubby Squonks\nAway Team: Left Overs\n
END:VEVENT
END:VCALENDAR
