BEGIN:VCALENDAR
VERSION:2.0
PRODID:-//EZFacility.com, Inc.//EZL 2.5.5.28621
BEGIN:VEVENT
UID:17063785@ezleagues.ezfacility.com
DTSTAMP:20260426T033801Z
CREATED:20260426T033801Z
DTSTART:20260410T005000Z
DTEND:20260410T014000Z
LOCATION:Field A
CONTACT:
SUMMARY:United FC VS. Liverfools
DESCRIPTION:League Name: Summer I Co-Ed C Division\nGame Type: Regular\nGam
 e Status: Complete\nHome Team: United FC\nAway Team: Liverfools\nHome Scor
 e: 5\nAway Score: 4
END:VEVENT
BEGIN:VEVENT
UID:17063791@ezleagues.ezfacility.com
DTSTAMP:20260426T033801Z
CREATED:20260426T033801Z
DTSTART:20260416T231000Z
DTEND:20260417T000000Z
LOCATION:Field A
CONTACT:
SUMMARY:Liverfools VS. Purple Cobras
DESCRIPTION:League Name: Summer I Co-Ed C Division\nGame Type: Regular\nGam
 e Status: Complete\nHome Team: Liverfools\nAway Team: Purple Cobras\nHome 
 Score: 17\nAway Score: 8
END:VEVENT
BEGIN:VEVENT
UID:17063796@ezleagues.ezfacility.com
DTSTAMP:20260426T033801Z
CREATED:20260426T033801Z
DTSTART:20260423T231000Z
DTEND:20260424T000000Z
LOCATION:Field A
CONTACT:
SUMMARY:Jedi Council VS. Liverfools
DESCRIPTION:League Name: Summer I Co-Ed C Division\nGame Type: Regular\nGam
 e Status: Complete\nHome Team: Jedi Council\nAway Team: Liverfools\nHome S
 core: 1\nAway Score: 12
END:VEVENT
BEGIN:VEVENT
UID:17063800@ezleagues.ezfacility.com
DTSTAMP:20260426T033801Z
CREATED:20260426T033801Z
DTSTART:20260501T005000Z
DTEND:20260501T014000Z
LOCATION:Field A
CONTACT:
SUMMARY:Cy-Kick FC VS. Liverfools
DESCRIPTION:League Name: Summer I Co-Ed C Division\nGame Type: Regular\nGam
 e Status: Pending\nHome Team: Cy-Kick FC\nAway Team: Liverfools\n
END:VEVENT
BEGIN:VEVENT
UID:17063804@ezleagues.ezfacility.com
DTSTAMP:20260426T033801Z
CREATED:20260426T033801Z
DTSTART:20260508T005000Z
DTEND:20260508T014000Z
LOCATION:Field A
CONTACT:
SUMMARY:Los Chiwiwis VS. Liverfools
DESCRIPTION:League Name: Summer I Co-Ed C Division\nGame Type: Regular\nGam
 e Status: Pending\nHome Team: Los Chiwiwis\nAway Team: Liverfools\n
END:VEVENT
BEGIN:VEVENT
UID:17063808@ezleagues.ezfacility.com
DTSTAMP:20260426T033801Z
CREATED:20260426T033801Z
DTSTART:20260514T231000Z
DTEND:20260515T000000Z
LOCATION:Field A
CONTACT:
SUMMARY:Yellow Jackets VS. Liverfools
DESCRIPTION:League Name: Summer I Co-Ed C Division\nGame Type: Regular\nGam
 e Status: Pending\nHome Team: Yellow Jackets\nAway Team: Liverfools\n
END:VEVENT
BEGIN:VEVENT
UID:17063812@ezleagues.ezfacility.com
DTSTAMP:20260426T033801Z
CREATED:20260426T033801Z
DTSTART:20260522T014000Z
DTEND:20260522T023000Z
LOCATION:Field A
CONTACT:
SUMMARY:Liverfools VS. About to get Messi
DESCRIPTION:League Name: Summer I Co-Ed C Division\nGame Type: Regular\nGam
 e Status: Pending\nHome Team: Liverfools\nAway Team: About to get Messi\n
END:VEVENT
BEGIN:VEVENT
UID:17063818@ezleagues.ezfacility.com
DTSTAMP:20260426T033801Z
CREATED:20260426T033801Z
DTSTART:20260528T231000Z
DTEND:20260529T000000Z
LOCATION:Field A
CONTACT:
SUMMARY:Liverfools VS. Chubby Squonks
DESCRIPTION:League Name: Summer I Co-Ed C Division\nGame Type: Regular\nGam
 e Status: Pending\nHome Team: Liverfools\nAway Team: Chubby Squonks\n
END:VEVENT
BEGIN:VEVENT
UID:17063824@ezleagues.ezfacility.com
DTSTAMP:20260426T033801Z
CREATED:20260426T033801Z
DTSTART:20260605T000000Z
DTEND:20260605T005000Z
LOCATION:Field A
CONTACT:
SUMMARY:Liverfools VS. Left Overs
DESCRIPTION:League Name: Summer I Co-Ed C Division\nGame Type: Regular\nGam
 e Status: Pending\nHome Team: Liverfools\nAway Team: Left Overs\n
END:VEVENT
BEGIN:VEVENT
UID:17063830@ezleagues.ezfacility.com
DTSTAMP:20260426T033801Z
CREATED:20260426T033801Z
DTSTART:20260612T000000Z
DTEND:20260612T005000Z
LOCATION:Field A
CONTACT:
SUMMARY:Liverfools VS. United FC
DESCRIPTION:League Name: Summer I Co-Ed C Division\nGame Type: Regular\nGam
 e Status: Pending\nHome Team: Liverfools\nAway Team: United FC\n
END:VEVENT
END:VCALENDAR
