BEGIN:VCALENDAR
VERSION:2.0
PRODID:-//EZFacility.com, Inc.//EZL 2.5.5.28621
BEGIN:VEVENT
UID:17081286@ezleagues.ezfacility.com
DTSTAMP:20260424T041340Z
CREATED:20260424T041340Z
DTSTART:20260408T020000Z
DTEND:20260408T024800Z
LOCATION:Field 2
CONTACT:
SUMMARY:A and S Auto VS. Cotija DDU
DESCRIPTION:League Name: Mens Over 35 League 2\nGame Type: Regular\nGame St
 atus: Complete\nHome Team: A and S Auto\nAway Team: Cotija DDU\nHome Score
 : 5\nAway Score: 0
END:VEVENT
BEGIN:VEVENT
UID:17081290@ezleagues.ezfacility.com
DTSTAMP:20260424T041340Z
CREATED:20260424T041340Z
DTSTART:20260415T030000Z
DTEND:20260415T034800Z
LOCATION:Field 2
CONTACT:
SUMMARY:Cousins VS. Cotija DDU
DESCRIPTION:League Name: Mens Over 35 League 2\nGame Type: Regular\nGame St
 atus: Complete\nHome Team: Cousins\nAway Team: Cotija DDU\nHome Score: 1\n
 Away Score: 6
END:VEVENT
BEGIN:VEVENT
UID:17081296@ezleagues.ezfacility.com
DTSTAMP:20260424T041340Z
CREATED:20260424T041340Z
DTSTART:20260422T045500Z
DTEND:20260422T054300Z
LOCATION:Field 2
CONTACT:
SUMMARY:Cotija DDU VS. Arsenal
DESCRIPTION:League Name: Mens Over 35 League 2\nGame Type: Regular\nGame St
 atus: Complete\nHome Team: Cotija DDU\nAway Team: Arsenal\nHome Score: 5\n
 Away Score: 6
END:VEVENT
BEGIN:VEVENT
UID:17081302@ezleagues.ezfacility.com
DTSTAMP:20260424T041340Z
CREATED:20260424T041340Z
DTSTART:20260429T040000Z
DTEND:20260429T044800Z
LOCATION:Field 2
CONTACT:
SUMMARY:Cotija DDU VS. Los Tigres
DESCRIPTION:League Name: Mens Over 35 League 2\nGame Type: Regular\nGame St
 atus: Pending\nHome Team: Cotija DDU\nAway Team: Los Tigres\n
END:VEVENT
BEGIN:VEVENT
UID:17081308@ezleagues.ezfacility.com
DTSTAMP:20260424T041340Z
CREATED:20260424T041340Z
DTSTART:20260506T040000Z
DTEND:20260506T044800Z
LOCATION:Field 2
CONTACT:
SUMMARY:Cotija DDU VS. Benfica
DESCRIPTION:League Name: Mens Over 35 League 2\nGame Type: Regular\nGame St
 atus: Pending\nHome Team: Cotija DDU\nAway Team: Benfica\n
END:VEVENT
BEGIN:VEVENT
UID:17081314@ezleagues.ezfacility.com
DTSTAMP:20260424T041340Z
CREATED:20260424T041340Z
DTSTART:20260513T045500Z
DTEND:20260513T054300Z
LOCATION:Field 2
CONTACT:
SUMMARY:Cotija DDU VS. Los Pandas
DESCRIPTION:League Name: Mens Over 35 League 2\nGame Type: Regular\nGame St
 atus: Pending\nHome Team: Cotija DDU\nAway Team: Los Pandas\n
END:VEVENT
BEGIN:VEVENT
UID:17081319@ezleagues.ezfacility.com
DTSTAMP:20260424T041340Z
CREATED:20260424T041340Z
DTSTART:20260520T010000Z
DTEND:20260520T014800Z
LOCATION:Field 2
CONTACT:
SUMMARY:Artilleros VS. Cotija DDU
DESCRIPTION:League Name: Mens Over 35 League 2\nGame Type: Regular\nGame St
 atus: Pending\nHome Team: Artilleros\nAway Team: Cotija DDU\n
END:VEVENT
BEGIN:VEVENT
UID:17081323@ezleagues.ezfacility.com
DTSTAMP:20260424T041340Z
CREATED:20260424T041340Z
DTSTART:20260527T040000Z
DTEND:20260527T044800Z
LOCATION:Field 2
CONTACT:
SUMMARY:Barrios VS. Cotija DDU
DESCRIPTION:League Name: Mens Over 35 League 2\nGame Type: Regular\nGame St
 atus: Pending\nHome Team: Barrios\nAway Team: Cotija DDU\n
END:VEVENT
END:VCALENDAR
