BEGIN:VCALENDAR
VERSION:2.0
PRODID:-//EZFacility.com, Inc.//EZL 2.5.5.28621
BEGIN:VEVENT
UID:17081288@ezleagues.ezfacility.com
DTSTAMP:20260424T041347Z
CREATED:20260424T041347Z
DTSTART:20260408T040000Z
DTEND:20260408T044800Z
LOCATION:Field 2
CONTACT:
SUMMARY:Los Palmas VS. Arsenal
DESCRIPTION:League Name: Mens Over 35 League 2\nGame Type: Regular\nGame St
 atus: Complete\nHome Team: Los Palmas\nAway Team: Arsenal\nHome Score: 7\n
 Away Score: 5
END:VEVENT
BEGIN:VEVENT
UID:17081292@ezleagues.ezfacility.com
DTSTAMP:20260424T041347Z
CREATED:20260424T041347Z
DTSTART:20260415T010000Z
DTEND:20260415T014800Z
LOCATION:Field 2
CONTACT:
SUMMARY:A and S Auto VS. Arsenal
DESCRIPTION:League Name: Mens Over 35 League 2\nGame Type: Regular\nGame St
 atus: Complete\nHome Team: A and S Auto\nAway Team: Arsenal\nHome Score: 4
 \nAway Score: 4
END:VEVENT
BEGIN:VEVENT
UID:17081296@ezleagues.ezfacility.com
DTSTAMP:20260424T041347Z
CREATED:20260424T041347Z
DTSTART:20260422T045500Z
DTEND:20260422T054300Z
LOCATION:Field 2
CONTACT:
SUMMARY:Cotija DDU VS. Arsenal
DESCRIPTION:League Name: Mens Over 35 League 2\nGame Type: Regular\nGame St
 atus: Complete\nHome Team: Cotija DDU\nAway Team: Arsenal\nHome Score: 5\n
 Away Score: 6
END:VEVENT
BEGIN:VEVENT
UID:17081300@ezleagues.ezfacility.com
DTSTAMP:20260424T041347Z
CREATED:20260424T041347Z
DTSTART:20260429T020000Z
DTEND:20260429T024800Z
LOCATION:Field 2
CONTACT:
SUMMARY:Cousins VS. Arsenal
DESCRIPTION:League Name: Mens Over 35 League 2\nGame Type: Regular\nGame St
 atus: Pending\nHome Team: Cousins\nAway Team: Arsenal\n
END:VEVENT
BEGIN:VEVENT
UID:17081306@ezleagues.ezfacility.com
DTSTAMP:20260424T041347Z
CREATED:20260424T041347Z
DTSTART:20260506T030000Z
DTEND:20260506T034800Z
LOCATION:Field 2
CONTACT:
SUMMARY:Arsenal VS. Los Tigres
DESCRIPTION:League Name: Mens Over 35 League 2\nGame Type: Regular\nGame St
 atus: Pending\nHome Team: Arsenal\nAway Team: Los Tigres\n
END:VEVENT
BEGIN:VEVENT
UID:17081312@ezleagues.ezfacility.com
DTSTAMP:20260424T041347Z
CREATED:20260424T041347Z
DTSTART:20260513T030000Z
DTEND:20260513T034800Z
LOCATION:Field 2
CONTACT:
SUMMARY:Arsenal VS. Benfica
DESCRIPTION:League Name: Mens Over 35 League 2\nGame Type: Regular\nGame St
 atus: Pending\nHome Team: Arsenal\nAway Team: Benfica\n
END:VEVENT
BEGIN:VEVENT
UID:17081318@ezleagues.ezfacility.com
DTSTAMP:20260424T041347Z
CREATED:20260424T041347Z
DTSTART:20260520T040000Z
DTEND:20260520T044800Z
LOCATION:Field 2
CONTACT:
SUMMARY:Arsenal VS. Los Pandas
DESCRIPTION:League Name: Mens Over 35 League 2\nGame Type: Regular\nGame St
 atus: Pending\nHome Team: Arsenal\nAway Team: Los Pandas\n
END:VEVENT
BEGIN:VEVENT
UID:17081324@ezleagues.ezfacility.com
DTSTAMP:20260424T041347Z
CREATED:20260424T041347Z
DTSTART:20260527T045500Z
DTEND:20260527T054300Z
LOCATION:Field 2
CONTACT:
SUMMARY:Arsenal VS. Artilleros
DESCRIPTION:League Name: Mens Over 35 League 2\nGame Type: Regular\nGame St
 atus: Pending\nHome Team: Arsenal\nAway Team: Artilleros\n
END:VEVENT
END:VCALENDAR
