BEGIN:VCALENDAR
VERSION:2.0
PRODID:-//EZFacility.com, Inc.//EZL 2.5.5.28621
BEGIN:VEVENT
UID:17063700@ezleagues.ezfacility.com
DTSTAMP:20260424T041459Z
CREATED:20260424T041459Z
DTSTART:20260408T023000Z
DTEND:20260408T032000Z
LOCATION:Field A
CONTACT:
SUMMARY:THUNDERCATS VS. Panthers FC
DESCRIPTION:League Name: Summer I Men 26'-Men's C Division\nGame Type: Regu
 lar\nGame Status: Complete\nHome Team: THUNDERCATS\nAway Team: Panthers FC
 \nHome Score: 3\nAway Score: 6
END:VEVENT
BEGIN:VEVENT
UID:17063702@ezleagues.ezfacility.com
DTSTAMP:20260424T041459Z
CREATED:20260424T041459Z
DTSTART:20260415T005000Z
DTEND:20260415T014000Z
LOCATION:Field A
CONTACT:
SUMMARY:THUNDERCATS VS. Los Discipulos
DESCRIPTION:League Name: Summer I Men 26'-Men's C Division\nGame Type: Regu
 lar\nGame Status: Complete\nHome Team: THUNDERCATS\nAway Team: Los Discipu
 los\nHome Score: 5\nAway Score: 3
END:VEVENT
BEGIN:VEVENT
UID:17063704@ezleagues.ezfacility.com
DTSTAMP:20260424T041459Z
CREATED:20260424T041459Z
DTSTART:20260422T014000Z
DTEND:20260422T023000Z
LOCATION:Field A
CONTACT:
SUMMARY:KS Painting VS. THUNDERCATS
DESCRIPTION:League Name: Summer I Men 26'-Men's C Division\nGame Type: Regu
 lar\nGame Status: Complete\nHome Team: KS Painting\nAway Team: THUNDERCATS
 \nHome Score: 3\nAway Score: 6
END:VEVENT
BEGIN:VEVENT
UID:17063708@ezleagues.ezfacility.com
DTSTAMP:20260424T041459Z
CREATED:20260424T041459Z
DTSTART:20260429T014000Z
DTEND:20260429T023000Z
LOCATION:Field A
CONTACT:
SUMMARY:Lobos Negro VS. THUNDERCATS
DESCRIPTION:League Name: Summer I Men 26'-Men's C Division\nGame Type: Regu
 lar\nGame Status: Pending\nHome Team: Lobos Negro\nAway Team: THUNDERCATS\
 n
END:VEVENT
BEGIN:VEVENT
UID:17063712@ezleagues.ezfacility.com
DTSTAMP:20260424T041459Z
CREATED:20260424T041459Z
DTSTART:20260506T023000Z
DTEND:20260506T032000Z
LOCATION:Field A
CONTACT:
SUMMARY:The Benchwarmers  VS. THUNDERCATS
DESCRIPTION:League Name: Summer I Men 26'-Men's C Division\nGame Type: Regu
 lar\nGame Status: Pending\nHome Team: The Benchwarmers \nAway Team: THUNDE
 RCATS\n
END:VEVENT
BEGIN:VEVENT
UID:17063715@ezleagues.ezfacility.com
DTSTAMP:20260424T041459Z
CREATED:20260424T041459Z
DTSTART:20260513T023000Z
DTEND:20260513T032000Z
LOCATION:Field A
CONTACT:
SUMMARY:Panthers FC VS. THUNDERCATS
DESCRIPTION:League Name: Summer I Men 26'-Men's C Division\nGame Type: Regu
 lar\nGame Status: Pending\nHome Team: Panthers FC\nAway Team: THUNDERCATS\
 n
END:VEVENT
BEGIN:VEVENT
UID:17063717@ezleagues.ezfacility.com
DTSTAMP:20260424T041459Z
CREATED:20260424T041459Z
DTSTART:20260520T014000Z
DTEND:20260520T023000Z
LOCATION:Field A
CONTACT:
SUMMARY:Los Discipulos VS. THUNDERCATS
DESCRIPTION:League Name: Summer I Men 26'-Men's C Division\nGame Type: Regu
 lar\nGame Status: Pending\nHome Team: Los Discipulos\nAway Team: THUNDERCA
 TS\n
END:VEVENT
BEGIN:VEVENT
UID:17063719@ezleagues.ezfacility.com
DTSTAMP:20260424T041459Z
CREATED:20260424T041459Z
DTSTART:20260527T014000Z
DTEND:20260527T023000Z
LOCATION:Field A
CONTACT:
SUMMARY:THUNDERCATS VS. KS Painting
DESCRIPTION:League Name: Summer I Men 26'-Men's C Division\nGame Type: Regu
 lar\nGame Status: Pending\nHome Team: THUNDERCATS\nAway Team: KS Painting\
 n
END:VEVENT
BEGIN:VEVENT
UID:17063723@ezleagues.ezfacility.com
DTSTAMP:20260424T041459Z
CREATED:20260424T041459Z
DTSTART:20260603T014000Z
DTEND:20260603T023000Z
LOCATION:Field A
CONTACT:
SUMMARY:THUNDERCATS VS. Lobos Negro
DESCRIPTION:League Name: Summer I Men 26'-Men's C Division\nGame Type: Regu
 lar\nGame Status: Pending\nHome Team: THUNDERCATS\nAway Team: Lobos Negro\
 n
END:VEVENT
BEGIN:VEVENT
UID:17063727@ezleagues.ezfacility.com
DTSTAMP:20260424T041459Z
CREATED:20260424T041459Z
DTSTART:20260610T014000Z
DTEND:20260610T023000Z
LOCATION:Field A
CONTACT:
SUMMARY:THUNDERCATS VS. The Benchwarmers 
DESCRIPTION:League Name: Summer I Men 26'-Men's C Division\nGame Type: Regu
 lar\nGame Status: Pending\nHome Team: THUNDERCATS\nAway Team: The Benchwar
 mers \n
END:VEVENT
END:VCALENDAR
