BEGIN:VCALENDAR
VERSION:2.0
PRODID:-//EZFacility.com, Inc.//EZL 2.5.5.28621
BEGIN:VEVENT
UID:17063865@ezleagues.ezfacility.com
DTSTAMP:20260424T081441Z
CREATED:20260424T081441Z
DTSTART:20260407T014000Z
DTEND:20260407T023000Z
LOCATION:Field A
CONTACT:
SUMMARY:Sub Bup VS. Fuego Men
DESCRIPTION:League Name: Summer I Men 26'-Men's E Division\nGame Type: Regu
 lar\nGame Status: Complete\nHome Team: Sub Bup\nAway Team: Fuego Men\nHome
  Score: 3\nAway Score: 2
END:VEVENT
BEGIN:VEVENT
UID:17063869@ezleagues.ezfacility.com
DTSTAMP:20260424T081441Z
CREATED:20260424T081441Z
DTSTART:20260414T005000Z
DTEND:20260414T014000Z
LOCATION:Field A
CONTACT:
SUMMARY:Sub Bup VS. Dadadors
DESCRIPTION:League Name: Summer I Men 26'-Men's E Division\nGame Type: Regu
 lar\nGame Status: Complete\nHome Team: Sub Bup\nAway Team: Dadadors\nHome 
 Score: 2\nAway Score: 5
END:VEVENT
BEGIN:VEVENT
UID:17063873@ezleagues.ezfacility.com
DTSTAMP:20260424T081441Z
CREATED:20260424T081441Z
DTSTART:20260421T014000Z
DTEND:20260421T023000Z
LOCATION:Field A
CONTACT:
SUMMARY:Between Thieves VS. Sub Bup
DESCRIPTION:League Name: Summer I Men 26'-Men's E Division\nGame Type: Regu
 lar\nGame Status: Complete\nHome Team: Between Thieves\nAway Team: Sub Bup
 \nHome Score: 4\nAway Score: 2
END:VEVENT
BEGIN:VEVENT
UID:17063877@ezleagues.ezfacility.com
DTSTAMP:20260424T081441Z
CREATED:20260424T081441Z
DTSTART:20260428T032000Z
DTEND:20260428T041000Z
LOCATION:Field A
CONTACT:
SUMMARY:Sub Bup VS. Wagwan Weenies 
DESCRIPTION:League Name: Summer I Men 26'-Men's E Division\nGame Type: Regu
 lar\nGame Status: Pending\nHome Team: Sub Bup\nAway Team: Wagwan Weenies \
 n
END:VEVENT
BEGIN:VEVENT
UID:17063881@ezleagues.ezfacility.com
DTSTAMP:20260424T081441Z
CREATED:20260424T081441Z
DTSTART:20260505T005000Z
DTEND:20260505T014000Z
LOCATION:Field A
CONTACT:
SUMMARY:Sub Bup VS. Chubby Squonks Mens
DESCRIPTION:League Name: Summer I Men 26'-Men's E Division\nGame Type: Regu
 lar\nGame Status: Pending\nHome Team: Sub Bup\nAway Team: Chubby Squonks M
 ens\n
END:VEVENT
BEGIN:VEVENT
UID:17063885@ezleagues.ezfacility.com
DTSTAMP:20260424T081441Z
CREATED:20260424T081441Z
DTSTART:20260512T014000Z
DTEND:20260512T023000Z
LOCATION:Field A
CONTACT:
SUMMARY:Sub Bup VS. Jorkers FC
DESCRIPTION:League Name: Summer I Men 26'-Men's E Division\nGame Type: Regu
 lar\nGame Status: Pending\nHome Team: Sub Bup\nAway Team: Jorkers FC\n
END:VEVENT
BEGIN:VEVENT
UID:17063889@ezleagues.ezfacility.com
DTSTAMP:20260424T081441Z
CREATED:20260424T081441Z
DTSTART:20260519T005000Z
DTEND:20260519T014000Z
LOCATION:Field A
CONTACT:
SUMMARY:Wolfpack 2nd Team VS. Sub Bup
DESCRIPTION:League Name: Summer I Men 26'-Men's E Division\nGame Type: Regu
 lar\nGame Status: Pending\nHome Team: Wolfpack 2nd Team\nAway Team: Sub Bu
 p\n
END:VEVENT
BEGIN:VEVENT
UID:17063897@ezleagues.ezfacility.com
DTSTAMP:20260424T081441Z
CREATED:20260424T081441Z
DTSTART:20260602T014000Z
DTEND:20260602T023000Z
LOCATION:Field A
CONTACT:
SUMMARY:Dadadors VS. Sub Bup
DESCRIPTION:League Name: Summer I Men 26'-Men's E Division\nGame Type: Regu
 lar\nGame Status: Pending\nHome Team: Dadadors\nAway Team: Sub Bup\n
END:VEVENT
BEGIN:VEVENT
UID:17063901@ezleagues.ezfacility.com
DTSTAMP:20260424T081441Z
CREATED:20260424T081441Z
DTSTART:20260609T014000Z
DTEND:20260609T023000Z
LOCATION:Field A
CONTACT:
SUMMARY:Between Thieves VS. Sub Bup
DESCRIPTION:League Name: Summer I Men 26'-Men's E Division\nGame Type: Regu
 lar\nGame Status: Pending\nHome Team: Between Thieves\nAway Team: Sub Bup\
 n
END:VEVENT
BEGIN:VEVENT
UID:17063893@ezleagues.ezfacility.com
DTSTAMP:20260424T081441Z
CREATED:20260424T081441Z
DTSTART:20260613T014000Z
DTEND:20260613T023000Z
LOCATION:Field A
CONTACT:
SUMMARY:Fuego Men VS. Sub Bup
DESCRIPTION:League Name: Summer I Men 26'-Men's E Division\nGame Type: Regu
 lar\nGame Status: Pending\nHome Team: Fuego Men\nAway Team: Sub Bup\n
END:VEVENT
END:VCALENDAR
