BEGIN:VCALENDAR
VERSION:2.0
PRODID:-//EZFacility.com, Inc.//EZL 2.5.5.28621
BEGIN:VEVENT
UID:17063947@ezleagues.ezfacility.com
DTSTAMP:20260424T041341Z
CREATED:20260424T041341Z
DTSTART:20260411T000000Z
DTEND:20260411T005000Z
LOCATION:Field A
CONTACT:
SUMMARY:Cobras FC VS. United FC Mens
DESCRIPTION:League Name: Summer I Men 26'-Men's D Division\nGame Type: Regu
 lar\nGame Status: Complete\nHome Team: Cobras FC\nAway Team: United FC Men
 s\nHome Score: 2\nAway Score: 9
END:VEVENT
BEGIN:VEVENT
UID:17063949@ezleagues.ezfacility.com
DTSTAMP:20260424T041341Z
CREATED:20260424T041341Z
DTSTART:20260417T032000Z
DTEND:20260417T041000Z
LOCATION:Field A
CONTACT:
SUMMARY:BOS VS. Cobras FC
DESCRIPTION:League Name: Summer I Men 26'-Men's D Division\nGame Type: Regu
 lar\nGame Status: Complete\nHome Team: BOS\nAway Team: Cobras FC\nHome Sco
 re: 5\nAway Score: 11
END:VEVENT
BEGIN:VEVENT
UID:17063953@ezleagues.ezfacility.com
DTSTAMP:20260424T041341Z
CREATED:20260424T041341Z
DTSTART:20260425T000000Z
DTEND:20260425T005000Z
LOCATION:Field A
CONTACT:
SUMMARY:Cobras FC VS. The Disciples
DESCRIPTION:League Name: Summer I Men 26'-Men's D Division\nGame Type: Regu
 lar\nGame Status: Pending\nHome Team: Cobras FC\nAway Team: The Disciples\
 n
END:VEVENT
BEGIN:VEVENT
UID:17063957@ezleagues.ezfacility.com
DTSTAMP:20260424T041341Z
CREATED:20260424T041341Z
DTSTART:20260502T014000Z
DTEND:20260502T023000Z
LOCATION:Field A
CONTACT:
SUMMARY:Cobras FC VS. THUNDERCATS 2.0
DESCRIPTION:League Name: Summer I Men 26'-Men's D Division\nGame Type: Regu
 lar\nGame Status: Pending\nHome Team: Cobras FC\nAway Team: THUNDERCATS 2.
 0\n
END:VEVENT
BEGIN:VEVENT
UID:17063960@ezleagues.ezfacility.com
DTSTAMP:20260424T041341Z
CREATED:20260424T041341Z
DTSTART:20260508T032000Z
DTEND:20260508T041000Z
LOCATION:Field A
CONTACT:
SUMMARY:S.O.L VS. Cobras FC
DESCRIPTION:League Name: Summer I Men 26'-Men's D Division\nGame Type: Regu
 lar\nGame Status: Pending\nHome Team: S.O.L\nAway Team: Cobras FC\n
END:VEVENT
BEGIN:VEVENT
UID:17063962@ezleagues.ezfacility.com
DTSTAMP:20260424T041341Z
CREATED:20260424T041341Z
DTSTART:20260516T000000Z
DTEND:20260516T005000Z
LOCATION:Field A
CONTACT:
SUMMARY:United FC Mens VS. Cobras FC
DESCRIPTION:League Name: Summer I Men 26'-Men's D Division\nGame Type: Regu
 lar\nGame Status: Pending\nHome Team: United FC Mens\nAway Team: Cobras FC
 \n
END:VEVENT
BEGIN:VEVENT
UID:17063964@ezleagues.ezfacility.com
DTSTAMP:20260424T041341Z
CREATED:20260424T041341Z
DTSTART:20260523T005000Z
DTEND:20260523T014000Z
LOCATION:Field A
CONTACT:
SUMMARY:Cobras FC VS. BOS
DESCRIPTION:League Name: Summer I Men 26'-Men's D Division\nGame Type: Regu
 lar\nGame Status: Pending\nHome Team: Cobras FC\nAway Team: BOS\n
END:VEVENT
BEGIN:VEVENT
UID:17063945@ezleagues.ezfacility.com
DTSTAMP:20260424T041341Z
CREATED:20260424T041341Z
DTSTART:20260528T032000Z
DTEND:20260528T041000Z
LOCATION:Field A
CONTACT:
SUMMARY:Cobras FC VS. S.O.L
DESCRIPTION:League Name: Summer I Men 26'-Men's D Division\nGame Type: Regu
 lar\nGame Status: Pending\nHome Team: Cobras FC\nAway Team: S.O.L\n
END:VEVENT
BEGIN:VEVENT
UID:17063938@ezleagues.ezfacility.com
DTSTAMP:20260424T041341Z
CREATED:20260424T041341Z
DTSTART:20260615T231000Z
DTEND:20260616T000000Z
LOCATION:Field A
CONTACT:
SUMMARY:The Disciples VS. Cobras FC
DESCRIPTION:League Name: Summer I Men 26'-Men's D Division\nGame Type: Regu
 lar\nGame Status: Pending\nHome Team: The Disciples\nAway Team: Cobras FC\
 n
END:VEVENT
BEGIN:VEVENT
UID:17063942@ezleagues.ezfacility.com
DTSTAMP:20260424T041341Z
CREATED:20260424T041341Z
DTSTART:20260616T005000Z
DTEND:20260616T014000Z
LOCATION:Field A
CONTACT:
SUMMARY:THUNDERCATS 2.0 VS. Cobras FC
DESCRIPTION:League Name: Summer I Men 26'-Men's D Division\nGame Type: Regu
 lar\nGame Status: Pending\nHome Team: THUNDERCATS 2.0\nAway Team: Cobras F
 C\n
END:VEVENT
END:VCALENDAR
