BEGIN:VCALENDAR
VERSION:2.0
PRODID:-//EZFacility.com, Inc.//EZL 2.5.5.28621
BEGIN:VEVENT
UID:17064613@ezleagues.ezfacility.com
DTSTAMP:20260421T092856Z
CREATED:20260421T092856Z
DTSTART:20260325T230000Z
DTEND:20260325T235200Z
LOCATION:FS Indoor Field 1
CONTACT:
SUMMARY:La Maquina VS. Ronoldo
DESCRIPTION:League Name: Spring Indoor 2026- Men's 30+ (Wednesday's)\nGame 
 Type: Regular\nGame Status: Complete\nHome Team: La Maquina\nAway Team: Ro
 noldo\nHome Score: 1\nAway Score: 1
END:VEVENT
BEGIN:VEVENT
UID:17064615@ezleagues.ezfacility.com
DTSTAMP:20260421T092856Z
CREATED:20260421T092856Z
DTSTART:20260401T230000Z
DTEND:20260401T235200Z
LOCATION:FS Indoor Field 1
CONTACT:
SUMMARY:La Maquina VS. Boca Juniors
DESCRIPTION:League Name: Spring Indoor 2026- Men's 30+ (Wednesday's)\nGame 
 Type: Regular\nGame Status: Complete\nHome Team: La Maquina\nAway Team: Bo
 ca Juniors\nHome Score: 3\nAway Score: 6
END:VEVENT
BEGIN:VEVENT
UID:17064617@ezleagues.ezfacility.com
DTSTAMP:20260421T092856Z
CREATED:20260421T092856Z
DTSTART:20260408T230000Z
DTEND:20260408T235200Z
LOCATION:FS Indoor Field 1
CONTACT:
SUMMARY:La Maquina VS. FC Red Card
DESCRIPTION:League Name: Spring Indoor 2026- Men's 30+ (Wednesday's)\nGame 
 Type: Regular\nGame Status: Complete\nHome Team: La Maquina\nAway Team: FC
  Red Card\nHome Score: 11\nAway Score: 3
END:VEVENT
BEGIN:VEVENT
UID:17064619@ezleagues.ezfacility.com
DTSTAMP:20260421T092856Z
CREATED:20260421T092856Z
DTSTART:20260415T235200Z
DTEND:20260416T004400Z
LOCATION:FS Indoor Field 1
CONTACT:
SUMMARY:Ronoldo VS. La Maquina
DESCRIPTION:League Name: Spring Indoor 2026- Men's 30+ (Wednesday's)\nGame 
 Type: Regular\nGame Status: Complete\nHome Team: Ronoldo\nAway Team: La Ma
 quina\nHome Score: 5\nAway Score: 11
END:VEVENT
BEGIN:VEVENT
UID:17064621@ezleagues.ezfacility.com
DTSTAMP:20260421T092856Z
CREATED:20260421T092856Z
DTSTART:20260422T235200Z
DTEND:20260423T004400Z
LOCATION:FS Indoor Field 1
CONTACT:
SUMMARY:Boca Juniors VS. La Maquina
DESCRIPTION:League Name: Spring Indoor 2026- Men's 30+ (Wednesday's)\nGame 
 Type: Regular\nGame Status: Pending\nHome Team: Boca Juniors\nAway Team: L
 a Maquina\n
END:VEVENT
BEGIN:VEVENT
UID:17064623@ezleagues.ezfacility.com
DTSTAMP:20260421T092856Z
CREATED:20260421T092856Z
DTSTART:20260429T235200Z
DTEND:20260430T004400Z
LOCATION:FS Indoor Field 1
CONTACT:
SUMMARY:FC Red Card VS. La Maquina
DESCRIPTION:League Name: Spring Indoor 2026- Men's 30+ (Wednesday's)\nGame 
 Type: Regular\nGame Status: Pending\nHome Team: FC Red Card\nAway Team: La
  Maquina\n
END:VEVENT
BEGIN:VEVENT
UID:17064625@ezleagues.ezfacility.com
DTSTAMP:20260421T092856Z
CREATED:20260421T092856Z
DTSTART:20260506T230000Z
DTEND:20260506T235200Z
LOCATION:FS Indoor Field 1
CONTACT:
SUMMARY:Ronoldo VS. La Maquina
DESCRIPTION:League Name: Spring Indoor 2026- Men's 30+ (Wednesday's)\nGame 
 Type: Regular\nGame Status: Pending\nHome Team: Ronoldo\nAway Team: La Maq
 uina\n
END:VEVENT
END:VCALENDAR
