BEGIN:VCALENDAR
VERSION:2.0
PRODID:-//EZFacility.com, Inc.//EZL 2.5.5.28621
BEGIN:VEVENT
UID:17064613@ezleagues.ezfacility.com
DTSTAMP:20260426T034816Z
CREATED:20260426T034816Z
DTSTART:20260325T230000Z
DTEND:20260325T235200Z
LOCATION:FS Indoor Field 1
CONTACT:
SUMMARY:La Maquina VS. Ronoldo
DESCRIPTION:League Name: Spring Indoor 2026- Men's 30+ (Wednesday's)\nGame 
 Type: Regular\nGame Status: Complete\nHome Team: La Maquina\nAway Team: Ro
 noldo\nHome Score: 1\nAway Score: 1
END:VEVENT
BEGIN:VEVENT
UID:17064616@ezleagues.ezfacility.com
DTSTAMP:20260426T034816Z
CREATED:20260426T034816Z
DTSTART:20260401T235200Z
DTEND:20260402T004400Z
LOCATION:FS Indoor Field 1
CONTACT:
SUMMARY:FC Red Card VS. Ronoldo
DESCRIPTION:League Name: Spring Indoor 2026- Men's 30+ (Wednesday's)\nGame 
 Type: Regular\nGame Status: Complete\nHome Team: FC Red Card\nAway Team: R
 onoldo\nHome Score: 5\nAway Score: 8
END:VEVENT
BEGIN:VEVENT
UID:17064618@ezleagues.ezfacility.com
DTSTAMP:20260426T034816Z
CREATED:20260426T034816Z
DTSTART:20260408T235200Z
DTEND:20260409T004400Z
LOCATION:FS Indoor Field 1
CONTACT:
SUMMARY:Ronoldo VS. Boca Juniors
DESCRIPTION:League Name: Spring Indoor 2026- Men's 30+ (Wednesday's)\nGame 
 Type: Regular\nGame Status: Complete\nHome Team: Ronoldo\nAway Team: Boca 
 Juniors\nHome Score: 4\nAway Score: 5
END:VEVENT
BEGIN:VEVENT
UID:17064619@ezleagues.ezfacility.com
DTSTAMP:20260426T034816Z
CREATED:20260426T034816Z
DTSTART:20260415T235200Z
DTEND:20260416T004400Z
LOCATION:FS Indoor Field 1
CONTACT:
SUMMARY:Ronoldo VS. La Maquina
DESCRIPTION:League Name: Spring Indoor 2026- Men's 30+ (Wednesday's)\nGame 
 Type: Regular\nGame Status: Complete\nHome Team: Ronoldo\nAway Team: La Ma
 quina\nHome Score: 5\nAway Score: 11
END:VEVENT
BEGIN:VEVENT
UID:17064622@ezleagues.ezfacility.com
DTSTAMP:20260426T034816Z
CREATED:20260426T034816Z
DTSTART:20260422T230000Z
DTEND:20260422T235200Z
LOCATION:FS Indoor Field 1
CONTACT:
SUMMARY:Ronoldo VS. FC Red Card
DESCRIPTION:League Name: Spring Indoor 2026- Men's 30+ (Wednesday's)\nGame 
 Type: Regular\nGame Status: Complete\nHome Team: Ronoldo\nAway Team: FC Re
 d Card\nHome Score: 12\nAway Score: 5
END:VEVENT
BEGIN:VEVENT
UID:17064624@ezleagues.ezfacility.com
DTSTAMP:20260426T034816Z
CREATED:20260426T034816Z
DTSTART:20260429T230000Z
DTEND:20260429T235200Z
LOCATION:FS Indoor Field 1
CONTACT:
SUMMARY:Boca Juniors VS. Ronoldo
DESCRIPTION:League Name: Spring Indoor 2026- Men's 30+ (Wednesday's)\nGame 
 Type: Regular\nGame Status: Pending\nHome Team: Boca Juniors\nAway Team: R
 onoldo\n
END:VEVENT
BEGIN:VEVENT
UID:17064625@ezleagues.ezfacility.com
DTSTAMP:20260426T034816Z
CREATED:20260426T034816Z
DTSTART:20260506T230000Z
DTEND:20260506T235200Z
LOCATION:FS Indoor Field 1
CONTACT:
SUMMARY:Ronoldo VS. La Maquina
DESCRIPTION:League Name: Spring Indoor 2026- Men's 30+ (Wednesday's)\nGame 
 Type: Regular\nGame Status: Pending\nHome Team: Ronoldo\nAway Team: La Maq
 uina\n
END:VEVENT
END:VCALENDAR
