BEGIN:VCALENDAR
VERSION:2.0
PRODID:-//EZFacility.com, Inc.//EZL 2.5.5.28621
BEGIN:VEVENT
UID:17077479@ezleagues.ezfacility.com
DTSTAMP:20260424T044250Z
CREATED:20260424T044250Z
DTSTART:20260330T223000Z
DTEND:20260330T231000Z
LOCATION:Court 4
CONTACT:
SUMMARY:Live Laugh Volleyball VS. Thunder Spikes (H)
DESCRIPTION:League Name: MONDAY Adult Coed 6's League 2026\nGame Type: Regu
 lar\nGame Status: Complete\nHome Team: Live Laugh Volleyball\nAway Team: T
 hunder Spikes (H)\nHome Score: 1\nAway Score: 0
END:VEVENT
BEGIN:VEVENT
UID:17077485@ezleagues.ezfacility.com
DTSTAMP:20260424T044250Z
CREATED:20260424T044250Z
DTSTART:20260330T223000Z
DTEND:20260330T231000Z
LOCATION:Court 5
CONTACT:
SUMMARY:Multiple Scoregasms VS. Thunder Spikes (H)
DESCRIPTION:League Name: MONDAY Adult Coed 6's League 2026\nGame Type: Regu
 lar\nGame Status: Complete\nHome Team: Multiple Scoregasms\nAway Team: Thu
 nder Spikes (H)\nHome Score: 1\nAway Score: 0
END:VEVENT
BEGIN:VEVENT
UID:17077490@ezleagues.ezfacility.com
DTSTAMP:20260424T044250Z
CREATED:20260424T044250Z
DTSTART:20260330T223000Z
DTEND:20260330T231000Z
LOCATION:Court 5
CONTACT:
SUMMARY:Sweet Digs (H) VS. Thunder Spikes (H)
DESCRIPTION:League Name: MONDAY Adult Coed 6's League 2026\nGame Type: Regu
 lar\nGame Status: Complete\nHome Team: Sweet Digs (H)\nAway Team: Thunder 
 Spikes (H)\nHome Score: 1\nAway Score: 0
END:VEVENT
BEGIN:VEVENT
UID:17077495@ezleagues.ezfacility.com
DTSTAMP:20260424T044250Z
CREATED:20260424T044250Z
DTSTART:20260330T223000Z
DTEND:20260330T231000Z
LOCATION:Court 5
CONTACT:
SUMMARY:Multiple Scoregasms VS. Thunder Spikes (H)
DESCRIPTION:League Name: MONDAY Adult Coed 6's League 2026\nGame Type: Regu
 lar\nGame Status: Complete\nHome Team: Multiple Scoregasms\nAway Team: Thu
 nder Spikes (H)\nHome Score: 1\nAway Score: 0
END:VEVENT
BEGIN:VEVENT
UID:17077500@ezleagues.ezfacility.com
DTSTAMP:20260424T044250Z
CREATED:20260424T044250Z
DTSTART:20260330T223000Z
DTEND:20260330T231000Z
LOCATION:Court 5
CONTACT:
SUMMARY:Sweet Digs (H) VS. Thunder Spikes (H)
DESCRIPTION:League Name: MONDAY Adult Coed 6's League 2026\nGame Type: Regu
 lar\nGame Status: Complete\nHome Team: Sweet Digs (H)\nAway Team: Thunder 
 Spikes (H)\nHome Score: 1\nAway Score: 0
END:VEVENT
BEGIN:VEVENT
UID:17077505@ezleagues.ezfacility.com
DTSTAMP:20260424T044250Z
CREATED:20260424T044250Z
DTSTART:20260330T223000Z
DTEND:20260330T231000Z
LOCATION:Court 5
CONTACT:
SUMMARY:Thunder Spikes (H) VS. Multiple Scoregasms
DESCRIPTION:League Name: MONDAY Adult Coed 6's League 2026\nGame Type: Regu
 lar\nGame Status: Complete\nHome Team: Thunder Spikes (H)\nAway Team: Mult
 iple Scoregasms\nHome Score: 1\nAway Score: 0
END:VEVENT
BEGIN:VEVENT
UID:17085786@ezleagues.ezfacility.com
DTSTAMP:20260424T044250Z
CREATED:20260424T044250Z
DTSTART:20260406T223000Z
DTEND:20260406T231000Z
LOCATION:Court 3
CONTACT:
SUMMARY:Live Laugh Volleyball VS. Thunder Spikes (H)
DESCRIPTION:League Name: MONDAY Adult Coed 6's League 2026\nGame Type: Regu
 lar\nGame Status: Complete\nHome Team: Live Laugh Volleyball\nAway Team: T
 hunder Spikes (H)\nHome Score: 1\nAway Score: 0
END:VEVENT
BEGIN:VEVENT
UID:17085781@ezleagues.ezfacility.com
DTSTAMP:20260424T044250Z
CREATED:20260424T044250Z
DTSTART:20260406T223000Z
DTEND:20260406T231000Z
LOCATION:Court 4
CONTACT:
SUMMARY:Thunder Spikes (H) VS. Multiple Scoregasms
DESCRIPTION:League Name: MONDAY Adult Coed 6's League 2026\nGame Type: Regu
 lar\nGame Status: Complete\nHome Team: Thunder Spikes (H)\nAway Team: Mult
 iple Scoregasms\nHome Score: 1\nAway Score: 0
END:VEVENT
BEGIN:VEVENT
UID:17085776@ezleagues.ezfacility.com
DTSTAMP:20260424T044250Z
CREATED:20260424T044250Z
DTSTART:20260406T223000Z
DTEND:20260406T231000Z
LOCATION:Court 5
CONTACT:
SUMMARY:Thunder Spikes (H) VS. Block Party (H)
DESCRIPTION:League Name: MONDAY Adult Coed 6's League 2026\nGame Type: Regu
 lar\nGame Status: Complete\nHome Team: Thunder Spikes (H)\nAway Team: Bloc
 k Party (H)\nHome Score: 1\nAway Score: 0
END:VEVENT
BEGIN:VEVENT
UID:17085757@ezleagues.ezfacility.com
DTSTAMP:20260424T044250Z
CREATED:20260424T044250Z
DTSTART:20260406T223000Z
DTEND:20260406T231000Z
LOCATION:Court 5
CONTACT:
SUMMARY:Don't Dink and Dive VS. Thunder Spikes (H)
DESCRIPTION:League Name: MONDAY Adult Coed 6's League 2026\nGame Type: Regu
 lar\nGame Status: Complete\nHome Team: Don't Dink and Dive\nAway Team: Thu
 nder Spikes (H)\nHome Score: 1\nAway Score: 0
END:VEVENT
BEGIN:VEVENT
UID:17085763@ezleagues.ezfacility.com
DTSTAMP:20260424T044250Z
CREATED:20260424T044250Z
DTSTART:20260406T223000Z
DTEND:20260406T231000Z
LOCATION:Court 5
CONTACT:
SUMMARY:Multiple Scoregasms VS. Thunder Spikes (H)
DESCRIPTION:League Name: MONDAY Adult Coed 6's League 2026\nGame Type: Regu
 lar\nGame Status: Complete\nHome Team: Multiple Scoregasms\nAway Team: Thu
 nder Spikes (H)\nHome Score: 1\nAway Score: 0
END:VEVENT
BEGIN:VEVENT
UID:17085770@ezleagues.ezfacility.com
DTSTAMP:20260424T044250Z
CREATED:20260424T044250Z
DTSTART:20260406T223000Z
DTEND:20260406T231000Z
LOCATION:Court 5
CONTACT:
SUMMARY:Chewblockas VS. Thunder Spikes (H)
DESCRIPTION:League Name: MONDAY Adult Coed 6's League 2026\nGame Type: Regu
 lar\nGame Status: Complete\nHome Team: Chewblockas\nAway Team: Thunder Spi
 kes (H)\nHome Score: 1\nAway Score: 0
END:VEVENT
BEGIN:VEVENT
UID:17096334@ezleagues.ezfacility.com
DTSTAMP:20260424T044250Z
CREATED:20260424T044250Z
DTSTART:20260413T223000Z
DTEND:20260413T231000Z
LOCATION:Court 5
CONTACT:
SUMMARY:Block Party (H) VS. Thunder Spikes (H)
DESCRIPTION:League Name: MONDAY Adult Coed 6's League 2026\nGame Type: Regu
 lar\nGame Status: Complete\nHome Team: Block Party (H)\nAway Team: Thunder
  Spikes (H)\nHome Score: 1\nAway Score: 0
END:VEVENT
BEGIN:VEVENT
UID:17096341@ezleagues.ezfacility.com
DTSTAMP:20260424T044250Z
CREATED:20260424T044250Z
DTSTART:20260413T223000Z
DTEND:20260413T231000Z
LOCATION:Court 5
CONTACT:
SUMMARY:Sweet Digs (H) VS. Thunder Spikes (H)
DESCRIPTION:League Name: MONDAY Adult Coed 6's League 2026\nGame Type: Regu
 lar\nGame Status: Complete\nHome Team: Sweet Digs (H)\nAway Team: Thunder 
 Spikes (H)\nHome Score: 1\nAway Score: 0
END:VEVENT
BEGIN:VEVENT
UID:17096348@ezleagues.ezfacility.com
DTSTAMP:20260424T044250Z
CREATED:20260424T044250Z
DTSTART:20260413T223000Z
DTEND:20260413T231000Z
LOCATION:Court 5
CONTACT:
SUMMARY:Chewblockas VS. Thunder Spikes (H)
DESCRIPTION:League Name: MONDAY Adult Coed 6's League 2026\nGame Type: Regu
 lar\nGame Status: Complete\nHome Team: Chewblockas\nAway Team: Thunder Spi
 kes (H)\nHome Score: 1\nAway Score: 0
END:VEVENT
BEGIN:VEVENT
UID:17096353@ezleagues.ezfacility.com
DTSTAMP:20260424T044250Z
CREATED:20260424T044250Z
DTSTART:20260413T223000Z
DTEND:20260413T231000Z
LOCATION:Court 5
CONTACT:
SUMMARY:Multiple Scoregasms VS. Thunder Spikes (H)
DESCRIPTION:League Name: MONDAY Adult Coed 6's League 2026\nGame Type: Regu
 lar\nGame Status: Complete\nHome Team: Multiple Scoregasms\nAway Team: Thu
 nder Spikes (H)\nHome Score: 1\nAway Score: 0
END:VEVENT
BEGIN:VEVENT
UID:17096358@ezleagues.ezfacility.com
DTSTAMP:20260424T044250Z
CREATED:20260424T044250Z
DTSTART:20260413T223000Z
DTEND:20260413T231000Z
LOCATION:Court 5
CONTACT:
SUMMARY:Block Party (H) VS. Thunder Spikes (H)
DESCRIPTION:League Name: MONDAY Adult Coed 6's League 2026\nGame Type: Regu
 lar\nGame Status: Complete\nHome Team: Block Party (H)\nAway Team: Thunder
  Spikes (H)\nHome Score: 1\nAway Score: 0
END:VEVENT
BEGIN:VEVENT
UID:17096363@ezleagues.ezfacility.com
DTSTAMP:20260424T044250Z
CREATED:20260424T044250Z
DTSTART:20260413T223000Z
DTEND:20260413T231000Z
LOCATION:Court 5
CONTACT:
SUMMARY:Multiple Scoregasms VS. Thunder Spikes (H)
DESCRIPTION:League Name: MONDAY Adult Coed 6's League 2026\nGame Type: Regu
 lar\nGame Status: Complete\nHome Team: Multiple Scoregasms\nAway Team: Thu
 nder Spikes (H)\nHome Score: 1\nAway Score: 0
END:VEVENT
BEGIN:VEVENT
UID:17103891@ezleagues.ezfacility.com
DTSTAMP:20260424T044250Z
CREATED:20260424T044250Z
DTSTART:20260420T223000Z
DTEND:20260420T231000Z
LOCATION:Court 3
CONTACT:
SUMMARY:Chewblockas VS. Thunder Spikes (H)
DESCRIPTION:League Name: MONDAY Adult Coed 6's League 2026\nGame Type: Regu
 lar\nGame Status: Complete\nHome Team: Chewblockas\nAway Team: Thunder Spi
 kes (H)\nHome Score: 1\nAway Score: 0
END:VEVENT
BEGIN:VEVENT
UID:17103897@ezleagues.ezfacility.com
DTSTAMP:20260424T044250Z
CREATED:20260424T044250Z
DTSTART:20260420T223000Z
DTEND:20260420T231000Z
LOCATION:Court 4
CONTACT:
SUMMARY:Rally Rebels VS. Thunder Spikes (H)
DESCRIPTION:League Name: MONDAY Adult Coed 6's League 2026\nGame Type: Regu
 lar\nGame Status: Complete\nHome Team: Rally Rebels\nAway Team: Thunder Sp
 ikes (H)\nHome Score: 1\nAway Score: 0
END:VEVENT
BEGIN:VEVENT
UID:17103887@ezleagues.ezfacility.com
DTSTAMP:20260424T044250Z
CREATED:20260424T044250Z
DTSTART:20260420T223000Z
DTEND:20260420T231000Z
LOCATION:Court 4
CONTACT:
SUMMARY:Thunder Spikes (H) VS. Rally Rebels
DESCRIPTION:League Name: MONDAY Adult Coed 6's League 2026\nGame Type: Regu
 lar\nGame Status: Complete\nHome Team: Thunder Spikes (H)\nAway Team: Rall
 y Rebels\nHome Score: 1\nAway Score: 0
END:VEVENT
BEGIN:VEVENT
UID:17103877@ezleagues.ezfacility.com
DTSTAMP:20260424T044250Z
CREATED:20260424T044250Z
DTSTART:20260420T223000Z
DTEND:20260420T231000Z
LOCATION:Court 4
CONTACT:
SUMMARY:Rally Rebels VS. Thunder Spikes (H)
DESCRIPTION:League Name: MONDAY Adult Coed 6's League 2026\nGame Type: Regu
 lar\nGame Status: Complete\nHome Team: Rally Rebels\nAway Team: Thunder Sp
 ikes (H)\nHome Score: 1\nAway Score: 0
END:VEVENT
BEGIN:VEVENT
UID:17103873@ezleagues.ezfacility.com
DTSTAMP:20260424T044250Z
CREATED:20260424T044250Z
DTSTART:20260420T223000Z
DTEND:20260420T231000Z
LOCATION:Court 5
CONTACT:
SUMMARY:Thunder Spikes (H) VS. Block Party (H)
DESCRIPTION:League Name: MONDAY Adult Coed 6's League 2026\nGame Type: Regu
 lar\nGame Status: Complete\nHome Team: Thunder Spikes (H)\nAway Team: Bloc
 k Party (H)\nHome Score: 1\nAway Score: 0
END:VEVENT
BEGIN:VEVENT
UID:17103883@ezleagues.ezfacility.com
DTSTAMP:20260424T044250Z
CREATED:20260424T044250Z
DTSTART:20260420T223000Z
DTEND:20260420T231000Z
LOCATION:Court 5
CONTACT:
SUMMARY:Thunder Spikes (H) VS. Block Party (H)
DESCRIPTION:League Name: MONDAY Adult Coed 6's League 2026\nGame Type: Regu
 lar\nGame Status: Complete\nHome Team: Thunder Spikes (H)\nAway Team: Bloc
 k Party (H)\nHome Score: 1\nAway Score: 0
END:VEVENT
END:VCALENDAR
