BEGIN:VCALENDAR
VERSION:2.0
PRODID:-//EZFacility.com, Inc.//EZL 2.5.5.28621
BEGIN:VEVENT
UID:17065460@ezleagues.ezfacility.com
DTSTAMP:20260426T034835Z
CREATED:20260426T034835Z
DTSTART:20260404T180000Z
DTEND:20260404T185500Z
LOCATION:Field 4B
CONTACT:
SUMMARY:Dorris 5/6B - Andreatta VS. Ferguson/Mix 5/6B - Johnson
DESCRIPTION:League Name: 2026 Spring Rec Soccer -5/6 Grade Boys\nGame Type:
  Regular\nGame Status: Pending\nHome Team: Dorris 5/6B - Andreatta\nAway T
 eam: Ferguson/Mix 5/6B - Johnson\n
END:VEVENT
BEGIN:VEVENT
UID:17065420@ezleagues.ezfacility.com
DTSTAMP:20260426T034835Z
CREATED:20260426T034835Z
DTSTART:20260411T013000Z
DTEND:20260411T022500Z
LOCATION:Field 4B
CONTACT:
SUMMARY:City 5/6 Boys - M. Ramirez VS. Dorris 5/6B - Andreatta
DESCRIPTION:League Name: 2026 Spring Rec Soccer -5/6 Grade Boys\nGame Type:
  Regular\nGame Status: Pending\nHome Team: City 5/6 Boys - M. Ramirez\nAwa
 y Team: Dorris 5/6B - Andreatta\n
END:VEVENT
BEGIN:VEVENT
UID:17065463@ezleagues.ezfacility.com
DTSTAMP:20260426T034835Z
CREATED:20260426T034835Z
DTSTART:20260411T180000Z
DTEND:20260411T185500Z
LOCATION:Field 4B
CONTACT:
SUMMARY:County Mix 5/6B - Herrera VS. Dorris 5/6B - Andreatta
DESCRIPTION:League Name: 2026 Spring Rec Soccer -5/6 Grade Boys\nGame Type:
  Regular\nGame Status: Pending\nHome Team: County Mix 5/6B - Herrera\nAway
  Team: Dorris 5/6B - Andreatta\n
END:VEVENT
BEGIN:VEVENT
UID:17065465@ezleagues.ezfacility.com
DTSTAMP:20260426T034835Z
CREATED:20260426T034835Z
DTSTART:20260418T180000Z
DTEND:20260418T185500Z
LOCATION:Field 4B
CONTACT:
SUMMARY:Dorris 5/6B - Andreatta VS. Mills 5/6B - Ruelas
DESCRIPTION:League Name: 2026 Spring Rec Soccer -5/6 Grade Boys\nGame Type:
  Regular\nGame Status: Pending\nHome Team: Dorris 5/6B - Andreatta\nAway T
 eam: Mills 5/6B - Ruelas\n
END:VEVENT
BEGIN:VEVENT
UID:17065496@ezleagues.ezfacility.com
DTSTAMP:20260426T034835Z
CREATED:20260426T034835Z
DTSTART:20260425T180000Z
DTEND:20260425T185500Z
LOCATION:Field 4B
CONTACT:
SUMMARY:Dorris 5/6B - Andreatta VS. Shasta/Peterson 5/6B - Summers
DESCRIPTION:League Name: 2026 Spring Rec Soccer -5/6 Grade Boys\nGame Type:
  Regular\nGame Status: Pending\nHome Team: Dorris 5/6B - Andreatta\nAway T
 eam: Shasta/Peterson 5/6B - Summers\n
END:VEVENT
BEGIN:VEVENT
UID:17065416@ezleagues.ezfacility.com
DTSTAMP:20260426T034835Z
CREATED:20260426T034835Z
DTSTART:20260502T003000Z
DTEND:20260502T012500Z
LOCATION:Field 4B
CONTACT:
SUMMARY:Dorris 5/6B - Andreatta VS. Hornets 5/6B - Wedam
DESCRIPTION:League Name: 2026 Spring Rec Soccer -5/6 Grade Boys\nGame Type:
  Regular\nGame Status: Pending\nHome Team: Dorris 5/6B - Andreatta\nAway T
 eam: Hornets 5/6B - Wedam\n
END:VEVENT
BEGIN:VEVENT
UID:17065470@ezleagues.ezfacility.com
DTSTAMP:20260426T034835Z
CREATED:20260426T034835Z
DTSTART:20260509T180000Z
DTEND:20260509T185500Z
LOCATION:Field 4B
CONTACT:
SUMMARY:Dorris 5/6B - Andreatta VS. Tulelake 5/6B - Perez
DESCRIPTION:League Name: 2026 Spring Rec Soccer -5/6 Grade Boys\nGame Type:
  Regular\nGame Status: Pending\nHome Team: Dorris 5/6B - Andreatta\nAway T
 eam: Tulelake 5/6B - Perez\n
END:VEVENT
BEGIN:VEVENT
UID:17065471@ezleagues.ezfacility.com
DTSTAMP:20260426T034835Z
CREATED:20260426T034835Z
DTSTART:20260516T180000Z
DTEND:20260516T185500Z
LOCATION:Field 4B
CONTACT:
SUMMARY:Dorris 5/6B - Andreatta VS. Honkers 5/6B - Perez
DESCRIPTION:League Name: 2026 Spring Rec Soccer -5/6 Grade Boys\nGame Type:
  Regular\nGame Status: Pending\nHome Team: Dorris 5/6B - Andreatta\nAway T
 eam: Honkers 5/6B - Perez\n
END:VEVENT
END:VCALENDAR
