BEGIN:VCALENDAR
VERSION:2.0
PRODID:-//EZFacility.com, Inc.//EZL 2.5.5.28621
BEGIN:VEVENT
UID:17065506@ezleagues.ezfacility.com
DTSTAMP:20260426T033900Z
CREATED:20260426T033900Z
DTSTART:20260404T003000Z
DTEND:20260404T012500Z
LOCATION:Field 4A
CONTACT:
SUMMARY:Peterson 5/6G - Aguirre VS. Shasta 5/6G - N. Smith
DESCRIPTION:League Name: 2026 Spring Rec Soccer -5/6 Grade Girls\nGame Type
 : Regular\nGame Status: Pending\nHome Team: Peterson 5/6G - Aguirre\nAway 
 Team: Shasta 5/6G - N. Smith\n
END:VEVENT
BEGIN:VEVENT
UID:17065528@ezleagues.ezfacility.com
DTSTAMP:20260426T033900Z
CREATED:20260426T033900Z
DTSTART:20260411T170000Z
DTEND:20260411T175500Z
LOCATION:Field 4A
CONTACT:
SUMMARY:Dorris 5/6G - Andreatta VS. Peterson 5/6G - Aguirre
DESCRIPTION:League Name: 2026 Spring Rec Soccer -5/6 Grade Girls\nGame Type
 : Regular\nGame Status: Pending\nHome Team: Dorris 5/6G - Andreatta\nAway 
 Team: Peterson 5/6G - Aguirre\n
END:VEVENT
BEGIN:VEVENT
UID:17065508@ezleagues.ezfacility.com
DTSTAMP:20260426T033900Z
CREATED:20260426T033900Z
DTSTART:20260418T003000Z
DTEND:20260418T012500Z
LOCATION:Field 4A
CONTACT:
SUMMARY:City 5/6G - Owens VS. Peterson 5/6G - Aguirre
DESCRIPTION:League Name: 2026 Spring Rec Soccer -5/6 Grade Girls\nGame Type
 : Regular\nGame Status: Pending\nHome Team: City 5/6G - Owens\nAway Team: 
 Peterson 5/6G - Aguirre\n
END:VEVENT
BEGIN:VEVENT
UID:17065523@ezleagues.ezfacility.com
DTSTAMP:20260426T033900Z
CREATED:20260426T033900Z
DTSTART:20260425T160000Z
DTEND:20260425T165500Z
LOCATION:Field 4A
CONTACT:
SUMMARY:Ferguson 5/6G - Couchman VS. Peterson 5/6G - Aguirre
DESCRIPTION:League Name: 2026 Spring Rec Soccer -5/6 Grade Girls\nGame Type
 : Regular\nGame Status: Pending\nHome Team: Ferguson 5/6G - Couchman\nAway
  Team: Peterson 5/6G - Aguirre\n
END:VEVENT
BEGIN:VEVENT
UID:17065517@ezleagues.ezfacility.com
DTSTAMP:20260426T033900Z
CREATED:20260426T033900Z
DTSTART:20260502T013000Z
DTEND:20260502T022500Z
LOCATION:Field 4A
CONTACT:
SUMMARY:Peterson 5/6G - Aguirre VS. Tulelake 5/6G - Morales
DESCRIPTION:League Name: 2026 Spring Rec Soccer -5/6 Grade Girls\nGame Type
 : Regular\nGame Status: Pending\nHome Team: Peterson 5/6G - Aguirre\nAway 
 Team: Tulelake 5/6G - Morales\n
END:VEVENT
BEGIN:VEVENT
UID:17065524@ezleagues.ezfacility.com
DTSTAMP:20260426T033900Z
CREATED:20260426T033900Z
DTSTART:20260502T160000Z
DTEND:20260502T165500Z
LOCATION:Field 4A
CONTACT:
SUMMARY:Peterson 5/6G - Aguirre VS. County Mix 5/6 Girls - J. Ruiz
DESCRIPTION:League Name: 2026 Spring Rec Soccer -5/6 Grade Girls\nGame Type
 : Regular\nGame Status: Pending\nHome Team: Peterson 5/6G - Aguirre\nAway 
 Team: County Mix 5/6 Girls - J. Ruiz\n
END:VEVENT
BEGIN:VEVENT
UID:17065511@ezleagues.ezfacility.com
DTSTAMP:20260426T033900Z
CREATED:20260426T033900Z
DTSTART:20260509T003000Z
DTEND:20260509T012500Z
LOCATION:Field 4A
CONTACT:
SUMMARY:Peterson 5/6G - Aguirre VS. Shasta 5/6G - N. Smith
DESCRIPTION:League Name: 2026 Spring Rec Soccer -5/6 Grade Girls\nGame Type
 : Regular\nGame Status: Pending\nHome Team: Peterson 5/6G - Aguirre\nAway 
 Team: Shasta 5/6G - N. Smith\n
END:VEVENT
BEGIN:VEVENT
UID:17065533@ezleagues.ezfacility.com
DTSTAMP:20260426T033900Z
CREATED:20260426T033900Z
DTSTART:20260516T170000Z
DTEND:20260516T175500Z
LOCATION:Field 4A
CONTACT:
SUMMARY:Dorris 5/6G - Andreatta VS. Peterson 5/6G - Aguirre
DESCRIPTION:League Name: 2026 Spring Rec Soccer -5/6 Grade Girls\nGame Type
 : Regular\nGame Status: Pending\nHome Team: Dorris 5/6G - Andreatta\nAway 
 Team: Peterson 5/6G - Aguirre\n
END:VEVENT
END:VCALENDAR
