BEGIN:VCALENDAR
VERSION:2.0
PRODID:-//EZFacility.com, Inc.//EZL 2.5.5.28621
BEGIN:VEVENT
UID:17067666@ezleagues.ezfacility.com
DTSTAMP:20260425T115021Z
CREATED:20260425T115021Z
DTSTART:20260325T010000Z
DTEND:20260325T020000Z
LOCATION:Court 2
CONTACT:
SUMMARY:mitten boyz VS. Cade N Em
DESCRIPTION:League Name: SPRING BASKETBALL MENS 18 UP DIVISION 1\nGame Type
 : Regular\nGame Status: Complete\nHome Team: mitten boyz\nAway Team: Cade 
 N Em\nHome Score: 83\nAway Score: 62
END:VEVENT
BEGIN:VEVENT
UID:17067671@ezleagues.ezfacility.com
DTSTAMP:20260425T115021Z
CREATED:20260425T115021Z
DTSTART:20260401T010000Z
DTEND:20260401T020000Z
LOCATION:Court 2
CONTACT:
SUMMARY:Cade N Em VS. M.C.D
DESCRIPTION:League Name: SPRING BASKETBALL MENS 18 UP DIVISION 1\nGame Type
 : Regular\nGame Status: Complete\nHome Team: Cade N Em\nAway Team: M.C.D\n
 Home Score: 0\nAway Score: 2
END:VEVENT
BEGIN:VEVENT
UID:17067676@ezleagues.ezfacility.com
DTSTAMP:20260425T115021Z
CREATED:20260425T115021Z
DTSTART:20260408T020000Z
DTEND:20260408T030000Z
LOCATION:Court 2
CONTACT:
SUMMARY:Cade N Em VS. Goon Squad
DESCRIPTION:League Name: SPRING BASKETBALL MENS 18 UP DIVISION 1\nGame Type
 : Regular\nGame Status: Complete\nHome Team: Cade N Em\nAway Team: Goon Sq
 uad\nHome Score: 78\nAway Score: 75
END:VEVENT
BEGIN:VEVENT
UID:17067680@ezleagues.ezfacility.com
DTSTAMP:20260425T115021Z
CREATED:20260425T115021Z
DTSTART:20260415T010000Z
DTEND:20260415T020000Z
LOCATION:Court 2
CONTACT:
SUMMARY:Eagle Eye VS. Cade N Em
DESCRIPTION:League Name: SPRING BASKETBALL MENS 18 UP DIVISION 1\nGame Type
 : Regular\nGame Status: Complete\nHome Team: Eagle Eye\nAway Team: Cade N 
 Em\nHome Score: 67\nAway Score: 59
END:VEVENT
BEGIN:VEVENT
UID:17067683@ezleagues.ezfacility.com
DTSTAMP:20260425T115021Z
CREATED:20260425T115021Z
DTSTART:20260422T010000Z
DTEND:20260422T020000Z
LOCATION:Court 2
CONTACT:
SUMMARY:Tune Squad VS. Cade N Em
DESCRIPTION:League Name: SPRING BASKETBALL MENS 18 UP DIVISION 1\nGame Type
 : Regular\nGame Status: Complete\nHome Team: Tune Squad\nAway Team: Cade N
  Em\nHome Score: 52\nAway Score: 54
END:VEVENT
BEGIN:VEVENT
UID:17067686@ezleagues.ezfacility.com
DTSTAMP:20260425T115021Z
CREATED:20260425T115021Z
DTSTART:20260429T020000Z
DTEND:20260429T030000Z
LOCATION:Court 2
CONTACT:
SUMMARY:The Dawg Pound VS. Cade N Em
DESCRIPTION:League Name: SPRING BASKETBALL MENS 18 UP DIVISION 1\nGame Type
 : Regular\nGame Status: Pending\nHome Team: The Dawg Pound\nAway Team: Cad
 e N Em\n
END:VEVENT
BEGIN:VEVENT
UID:17067689@ezleagues.ezfacility.com
DTSTAMP:20260425T115021Z
CREATED:20260425T115021Z
DTSTART:20260506T030000Z
DTEND:20260506T040000Z
LOCATION:Court 2
CONTACT:
SUMMARY:Cade N Em VS. BBQ Sauce
DESCRIPTION:League Name: SPRING BASKETBALL MENS 18 UP DIVISION 1\nGame Type
 : Regular\nGame Status: Pending\nHome Team: Cade N Em\nAway Team: BBQ Sauc
 e\n
END:VEVENT
BEGIN:VEVENT
UID:17067694@ezleagues.ezfacility.com
DTSTAMP:20260425T115021Z
CREATED:20260425T115021Z
DTSTART:20260513T010000Z
DTEND:20260513T020000Z
LOCATION:Court 2
CONTACT:
SUMMARY:Cade N Em VS. mitten boyz
DESCRIPTION:League Name: SPRING BASKETBALL MENS 18 UP DIVISION 1\nGame Type
 : Regular\nGame Status: Pending\nHome Team: Cade N Em\nAway Team: mitten b
 oyz\n
END:VEVENT
END:VCALENDAR
