BEGIN:VCALENDAR
VERSION:2.0
PRODID:-//EZFacility.com, Inc.//EZL 2.5.5.28621
BEGIN:VEVENT
UID:17067666@ezleagues.ezfacility.com
DTSTAMP:20260424T044113Z
CREATED:20260424T044113Z
DTSTART:20260325T010000Z
DTEND:20260325T020000Z
LOCATION:Court 2
CONTACT:
SUMMARY:mitten boyz VS. Cade N Em
DESCRIPTION:League Name: SPRING BASKETBALL MENS 18 UP DIVISION 1\nGame Type
 : Regular\nGame Status: Complete\nHome Team: mitten boyz\nAway Team: Cade 
 N Em\nHome Score: 83\nAway Score: 62
END:VEVENT
BEGIN:VEVENT
UID:17067669@ezleagues.ezfacility.com
DTSTAMP:20260424T044113Z
CREATED:20260424T044113Z
DTSTART:20260401T020000Z
DTEND:20260401T030000Z
LOCATION:Court 2
CONTACT:
SUMMARY:BBQ Sauce VS. mitten boyz
DESCRIPTION:League Name: SPRING BASKETBALL MENS 18 UP DIVISION 1\nGame Type
 : Regular\nGame Status: Complete\nHome Team: BBQ Sauce\nAway Team: mitten 
 boyz\nHome Score: 75\nAway Score: 87
END:VEVENT
BEGIN:VEVENT
UID:17067674@ezleagues.ezfacility.com
DTSTAMP:20260424T044113Z
CREATED:20260424T044113Z
DTSTART:20260408T000000Z
DTEND:20260408T010000Z
LOCATION:Court 2
CONTACT:
SUMMARY:mitten boyz VS. M.C.D
DESCRIPTION:League Name: SPRING BASKETBALL MENS 18 UP DIVISION 1\nGame Type
 : Regular\nGame Status: Complete\nHome Team: mitten boyz\nAway Team: M.C.D
 \nHome Score: 56\nAway Score: 65
END:VEVENT
BEGIN:VEVENT
UID:17067679@ezleagues.ezfacility.com
DTSTAMP:20260424T044113Z
CREATED:20260424T044113Z
DTSTART:20260415T020000Z
DTEND:20260415T030000Z
LOCATION:Court 2
CONTACT:
SUMMARY:mitten boyz VS. Goon Squad
DESCRIPTION:League Name: SPRING BASKETBALL MENS 18 UP DIVISION 1\nGame Type
 : Regular\nGame Status: Complete\nHome Team: mitten boyz\nAway Team: Goon 
 Squad\nHome Score: 78\nAway Score: 63
END:VEVENT
BEGIN:VEVENT
UID:17067684@ezleagues.ezfacility.com
DTSTAMP:20260424T044113Z
CREATED:20260424T044113Z
DTSTART:20260422T000000Z
DTEND:20260422T010000Z
LOCATION:Court 2
CONTACT:
SUMMARY:mitten boyz VS. Eagle Eye
DESCRIPTION:League Name: SPRING BASKETBALL MENS 18 UP DIVISION 1\nGame Type
 : Regular\nGame Status: Complete\nHome Team: mitten boyz\nAway Team: Eagle
  Eye\nHome Score: 109\nAway Score: 72
END:VEVENT
BEGIN:VEVENT
UID:17067688@ezleagues.ezfacility.com
DTSTAMP:20260424T044113Z
CREATED:20260424T044113Z
DTSTART:20260429T010000Z
DTEND:20260429T020000Z
LOCATION:Court 2
CONTACT:
SUMMARY:Tune Squad VS. mitten boyz
DESCRIPTION:League Name: SPRING BASKETBALL MENS 18 UP DIVISION 1\nGame Type
 : Regular\nGame Status: Pending\nHome Team: Tune Squad\nAway Team: mitten 
 boyz\n
END:VEVENT
BEGIN:VEVENT
UID:17067691@ezleagues.ezfacility.com
DTSTAMP:20260424T044113Z
CREATED:20260424T044113Z
DTSTART:20260506T000000Z
DTEND:20260506T010000Z
LOCATION:Court 2
CONTACT:
SUMMARY:The Dawg Pound VS. mitten boyz
DESCRIPTION:League Name: SPRING BASKETBALL MENS 18 UP DIVISION 1\nGame Type
 : Regular\nGame Status: Pending\nHome Team: The Dawg Pound\nAway Team: mit
 ten boyz\n
END:VEVENT
BEGIN:VEVENT
UID:17067694@ezleagues.ezfacility.com
DTSTAMP:20260424T044113Z
CREATED:20260424T044113Z
DTSTART:20260513T010000Z
DTEND:20260513T020000Z
LOCATION:Court 2
CONTACT:
SUMMARY:Cade N Em VS. mitten boyz
DESCRIPTION:League Name: SPRING BASKETBALL MENS 18 UP DIVISION 1\nGame Type
 : Regular\nGame Status: Pending\nHome Team: Cade N Em\nAway Team: mitten b
 oyz\n
END:VEVENT
END:VCALENDAR
