BEGIN:VCALENDAR
VERSION:2.0
PRODID:-//EZFacility.com, Inc.//EZL 2.5.5.28621
BEGIN:VEVENT
UID:17094937@ezleagues.ezfacility.com
DTSTAMP:20260424T041415Z
CREATED:20260424T041415Z
DTSTART:20260418T173000Z
DTEND:20260418T183000Z
LOCATION:Legends Ballpark Field 2
CONTACT:
SUMMARY:FTB PHILLIES DB9 12U VS. Slims Chance Bulldogs 12U maroon
DESCRIPTION:League Name: OPENING DAY 12uB - 2026 SPRING\nGame Type: Regular
 \nGame Status: Complete\nHome Team: FTB PHILLIES DB9 12U\nAway Team: Slims
  Chance Bulldogs 12U maroon\nHome Score: 3\nAway Score: 19
END:VEVENT
BEGIN:VEVENT
UID:17094943@ezleagues.ezfacility.com
DTSTAMP:20260424T041415Z
CREATED:20260424T041415Z
DTSTART:20260418T211000Z
DTEND:20260418T221000Z
LOCATION:Legends Ballpark Field 2
CONTACT:
SUMMARY:Slims Chance Bulldogs 12U maroon VS. Pioneers Baseball 12U White
DESCRIPTION:League Name: OPENING DAY 12uB - 2026 SPRING\nGame Type: Regular
 \nGame Status: Complete\nHome Team: Slims Chance Bulldogs 12U maroon\nAway
  Team: Pioneers Baseball 12U White\nHome Score: 2\nAway Score: 10
END:VEVENT
BEGIN:VEVENT
UID:17094955@ezleagues.ezfacility.com
DTSTAMP:20260424T041415Z
CREATED:20260424T041415Z
DTSTART:20260419T163000Z
DTEND:20260419T173000Z
LOCATION:Ella Harris Park Field #9
CONTACT:
SUMMARY:Slims Chance Bulldogs 12U maroon VS. Delaware Elite Baseball Club
DESCRIPTION:League Name: OPENING DAY 12uB - 2026 SPRING\nGame Type: Regular
 \nGame Status: Pending\nHome Team: Slims Chance Bulldogs 12U maroon\nAway 
 Team: Delaware Elite Baseball Club\n
END:VEVENT
END:VCALENDAR
