BEGIN:VCALENDAR
VERSION:2.0
PRODID:-//EZFacility.com, Inc.//EZL 2.5.5.28621
BEGIN:VEVENT
UID:17067420@ezleagues.ezfacility.com
DTSTAMP:20260426T033755Z
CREATED:20260426T033755Z
DTSTART:20260320T190000Z
DTEND:20260320T200000Z
LOCATION:Field 3 BLD
CONTACT:
SUMMARY:Conegitos VS. Hormiguitas
DESCRIPTION:League Name: CORONA FC *Peques B* VIERNES 3/20\nGame Type: Regu
 lar\nGame Status: Complete\nHome Team: Conegitos\nAway Team: Hormiguitas\n
 Home Score: 6\nAway Score: 5
END:VEVENT
BEGIN:VEVENT
UID:17080239@ezleagues.ezfacility.com
DTSTAMP:20260426T033755Z
CREATED:20260426T033755Z
DTSTART:20260327T170000Z
DTEND:20260327T180000Z
LOCATION:Field 1 BLD
CONTACT:
SUMMARY:Ardillitas VS. Conegitos
DESCRIPTION:League Name: CORONA FC *Peques B* VIERNES 3/20\nGame Type: Regu
 lar\nGame Status: Complete\nHome Team: Ardillitas\nAway Team: Conegitos\nH
 ome Score: 9\nAway Score: 13
END:VEVENT
BEGIN:VEVENT
UID:17096015@ezleagues.ezfacility.com
DTSTAMP:20260426T033755Z
CREATED:20260426T033755Z
DTSTART:20260410T180000Z
DTEND:20260410T190000Z
LOCATION:11vs11 Field 1 BET/H
CONTACT:
SUMMARY:Tiburoncitos VS. Conegitos
DESCRIPTION:League Name: CORONA FC *Peques B* VIERNES 3/20\nGame Type: Regu
 lar\nGame Status: Complete\nHome Team: Tiburoncitos\nAway Team: Conegitos\
 nHome Score: 4\nAway Score: 7
END:VEVENT
BEGIN:VEVENT
UID:17102930@ezleagues.ezfacility.com
DTSTAMP:20260426T033755Z
CREATED:20260426T033755Z
DTSTART:20260417T200000Z
DTEND:20260417T210000Z
LOCATION:11vs11 Field 1 BET/H
CONTACT:
SUMMARY:Conegitos VS. Hormiguitas
DESCRIPTION:League Name: CORONA FC *Peques B* VIERNES 3/20\nGame Type: Regu
 lar\nGame Status: Complete\nHome Team: Conegitos\nAway Team: Hormiguitas\n
 Home Score: 3\nAway Score: 8
END:VEVENT
BEGIN:VEVENT
UID:17106749@ezleagues.ezfacility.com
DTSTAMP:20260426T033755Z
CREATED:20260426T033755Z
DTSTART:20260424T190000Z
DTEND:20260424T200000Z
LOCATION:11vs11 Field 1 BET/H
CONTACT:
SUMMARY:Conegitos VS. Ardillitas
DESCRIPTION:League Name: CORONA FC *Peques B* VIERNES 3/20\nGame Type: Regu
 lar\nGame Status: Complete\nHome Team: Conegitos\nAway Team: Ardillitas\nH
 ome Score: 2\nAway Score: 12
END:VEVENT
END:VCALENDAR
