BEGIN:VCALENDAR
VERSION:2.0
PRODID:-//EZFacility.com, Inc.//EZL 2.5.5.28621
BEGIN:VEVENT
UID:17067871@ezleagues.ezfacility.com
DTSTAMP:20260421T210209Z
CREATED:20260421T210209Z
DTSTART:20260412T120000Z
DTEND:20260412T125200Z
LOCATION:Field   ID 2
CONTACT:
SUMMARY:Gigondas Red VS. United
DESCRIPTION:League Name: Spring Indoor 2026 Men's 40+ (White) (Sundays)\nGa
 me Type: Regular\nGame Status: Complete\nHome Team: Gigondas Red\nAway Tea
 m: United\nHome Score: 3\nAway Score: 5
END:VEVENT
BEGIN:VEVENT
UID:17067876@ezleagues.ezfacility.com
DTSTAMP:20260421T210209Z
CREATED:20260421T210209Z
DTSTART:20260419T143600Z
DTEND:20260419T152800Z
LOCATION:Field   ID 2
CONTACT:
SUMMARY:United VS. FC Cuervos
DESCRIPTION:League Name: Spring Indoor 2026 Men's 40+ (White) (Sundays)\nGa
 me Type: Regular\nGame Status: Complete\nHome Team: United\nAway Team: FC 
 Cuervos\nHome Score: 3\nAway Score: 0
END:VEVENT
BEGIN:VEVENT
UID:17067881@ezleagues.ezfacility.com
DTSTAMP:20260421T210209Z
CREATED:20260421T210209Z
DTSTART:20260426T125200Z
DTEND:20260426T134400Z
LOCATION:Field   ID 2
CONTACT:
SUMMARY:Old Man Raptors VS. United
DESCRIPTION:League Name: Spring Indoor 2026 Men's 40+ (White) (Sundays)\nGa
 me Type: Regular\nGame Status: Pending\nHome Team: Old Man Raptors\nAway T
 eam: United\n
END:VEVENT
BEGIN:VEVENT
UID:17067886@ezleagues.ezfacility.com
DTSTAMP:20260421T210209Z
CREATED:20260421T210209Z
DTSTART:20260503T125200Z
DTEND:20260503T134400Z
LOCATION:Field   ID 2
CONTACT:
SUMMARY:United VS. Grey Wolves
DESCRIPTION:League Name: Spring Indoor 2026 Men's 40+ (White) (Sundays)\nGa
 me Type: Regular\nGame Status: Pending\nHome Team: United\nAway Team: Grey
  Wolves\n
END:VEVENT
BEGIN:VEVENT
UID:17067891@ezleagues.ezfacility.com
DTSTAMP:20260421T210209Z
CREATED:20260421T210209Z
DTSTART:20260510T134400Z
DTEND:20260510T143600Z
LOCATION:Field   ID 2
CONTACT:
SUMMARY:United VS. Atrophy
DESCRIPTION:League Name: Spring Indoor 2026 Men's 40+ (White) (Sundays)\nGa
 me Type: Regular\nGame Status: Pending\nHome Team: United\nAway Team: Atro
 phy\n
END:VEVENT
BEGIN:VEVENT
UID:17067866@ezleagues.ezfacility.com
DTSTAMP:20260421T210209Z
CREATED:20260421T210209Z
DTSTART:20260517T152800Z
DTEND:20260517T162000Z
LOCATION:Field   ID 2
CONTACT:
SUMMARY:United VS. Shamrock Rovers
DESCRIPTION:League Name: Spring Indoor 2026 Men's 40+ (White) (Sundays)\nGa
 me Type: Regular\nGame Status: Pending\nHome Team: United\nAway Team: Sham
 rock Rovers\n
END:VEVENT
BEGIN:VEVENT
UID:17072367@ezleagues.ezfacility.com
DTSTAMP:20260421T210209Z
CREATED:20260421T210209Z
DTSTART:20260531T152800Z
DTEND:20260531T162000Z
LOCATION:Field   ID 2
CONTACT:
SUMMARY:United VS. FC Cuervos
DESCRIPTION:League Name: Spring Indoor 2026 Men's 40+ (White) (Sundays)\nGa
 me Type: Regular\nGame Status: Pending\nHome Team: United\nAway Team: FC C
 uervos\n
END:VEVENT
END:VCALENDAR
