BEGIN:VCALENDAR
VERSION:2.0
PRODID:-//EZFacility.com, Inc.//EZL 2.5.5.28621
BEGIN:VEVENT
UID:17067958@ezleagues.ezfacility.com
DTSTAMP:20260424T044117Z
CREATED:20260424T044117Z
DTSTART:20260329T171200Z
DTEND:20260329T180400Z
LOCATION:Field   ID 3
CONTACT:
SUMMARY:Tide VS. Sacks and Racks
DESCRIPTION:League Name: Spring Indoor 2026 Coed Open (Sundays)\nGame Type:
  Regular\nGame Status: Complete\nHome Team: Tide\nAway Team: Sacks and Rac
 ks\nHome Score: 2\nAway Score: 8
END:VEVENT
BEGIN:VEVENT
UID:17067949@ezleagues.ezfacility.com
DTSTAMP:20260424T044117Z
CREATED:20260424T044117Z
DTSTART:20260412T162000Z
DTEND:20260412T171200Z
LOCATION:Field   ID 1
CONTACT:
SUMMARY:Sacks and Racks VS. Unc FC
DESCRIPTION:League Name: Spring Indoor 2026 Coed Open (Sundays)\nGame Type:
  Regular\nGame Status: Complete\nHome Team: Sacks and Racks\nAway Team: Un
 c FC\nHome Score: 6\nAway Score: 5
END:VEVENT
BEGIN:VEVENT
UID:17067954@ezleagues.ezfacility.com
DTSTAMP:20260424T044117Z
CREATED:20260424T044117Z
DTSTART:20260419T162000Z
DTEND:20260419T171200Z
LOCATION:Field   ID 1
CONTACT:
SUMMARY:Sacks and Racks VS. Power Ball
DESCRIPTION:League Name: Spring Indoor 2026 Coed Open (Sundays)\nGame Type:
  Regular\nGame Status: Complete\nHome Team: Sacks and Racks\nAway Team: Po
 wer Ball\nHome Score: 3\nAway Score: 0
END:VEVENT
BEGIN:VEVENT
UID:17067944@ezleagues.ezfacility.com
DTSTAMP:20260424T044117Z
CREATED:20260424T044117Z
DTSTART:20260426T171200Z
DTEND:20260426T180400Z
LOCATION:Field   ID 1
CONTACT:
SUMMARY:Yeetus FC VS. Sacks and Racks
DESCRIPTION:League Name: Spring Indoor 2026 Coed Open (Sundays)\nGame Type:
  Regular\nGame Status: Pending\nHome Team: Yeetus FC\nAway Team: Sacks and
  Racks\n
END:VEVENT
BEGIN:VEVENT
UID:17067964@ezleagues.ezfacility.com
DTSTAMP:20260424T044117Z
CREATED:20260424T044117Z
DTSTART:20260510T162000Z
DTEND:20260510T171200Z
LOCATION:Field   ID 2
CONTACT:
SUMMARY:Shinguardiam Leviosa VS. Sacks and Racks
DESCRIPTION:League Name: Spring Indoor 2026 Coed Open (Sundays)\nGame Type:
  Regular\nGame Status: Pending\nHome Team: Shinguardiam Leviosa\nAway Team
 : Sacks and Racks\n
END:VEVENT
BEGIN:VEVENT
UID:17067967@ezleagues.ezfacility.com
DTSTAMP:20260424T044117Z
CREATED:20260424T044117Z
DTSTART:20260517T162000Z
DTEND:20260517T171200Z
LOCATION:Field   ID 2
CONTACT:
SUMMARY:Medcats VS. Sacks and Racks
DESCRIPTION:League Name: Spring Indoor 2026 Coed Open (Sundays)\nGame Type:
  Regular\nGame Status: Pending\nHome Team: Medcats\nAway Team: Sacks and R
 acks\n
END:VEVENT
BEGIN:VEVENT
UID:17067972@ezleagues.ezfacility.com
DTSTAMP:20260424T044117Z
CREATED:20260424T044117Z
DTSTART:20260531T143600Z
DTEND:20260531T152800Z
LOCATION:Field   ID 1
CONTACT:
SUMMARY:Sacks and Racks VS. Yeetus FC
DESCRIPTION:League Name: Spring Indoor 2026 Coed Open (Sundays)\nGame Type:
  Regular\nGame Status: Pending\nHome Team: Sacks and Racks\nAway Team: Yee
 tus FC\n
END:VEVENT
END:VCALENDAR
