BEGIN:VCALENDAR
VERSION:2.0
PRODID:-//EZFacility.com, Inc.//EZL 2.5.5.28621
BEGIN:VEVENT
UID:17068014@ezleagues.ezfacility.com
DTSTAMP:20260421T130405Z
CREATED:20260421T130405Z
DTSTART:20260325T001000Z
DTEND:20260325T010000Z
LOCATION:Indoor: Big Field
CONTACT:
SUMMARY:Brian Ritter FC (Pink)   VS. Leftovers ( Neon Yellow ) 
DESCRIPTION:League Name: Adult Men's Over 35 - Indoor 6v6 - TUE - MARCH 202
 6\nGame Type: Regular\nGame Status: Complete\nHome Team: Brian Ritter FC (
 Pink)  \nAway Team: Leftovers ( Neon Yellow ) \nHome Score: 12\nAway Score
 : 5
END:VEVENT
BEGIN:VEVENT
UID:17068018@ezleagues.ezfacility.com
DTSTAMP:20260421T130405Z
CREATED:20260421T130405Z
DTSTART:20260401T001000Z
DTEND:20260401T010000Z
LOCATION:Indoor: Big Field
CONTACT:
SUMMARY:Brian Ritter FC (Pink)   VS. Lightning (Grey)
DESCRIPTION:League Name: Adult Men's Over 35 - Indoor 6v6 - TUE - MARCH 202
 6\nGame Type: Regular\nGame Status: Complete\nHome Team: Brian Ritter FC (
 Pink)  \nAway Team: Lightning (Grey)\nHome Score: 13\nAway Score: 3
END:VEVENT
BEGIN:VEVENT
UID:17068020@ezleagues.ezfacility.com
DTSTAMP:20260421T130405Z
CREATED:20260421T130405Z
DTSTART:20260408T010000Z
DTEND:20260408T015000Z
LOCATION:Indoor: Big Field
CONTACT:
SUMMARY:Brian Ritter FC (Pink)   VS. Next Level Exhaust (Blue) 
DESCRIPTION:League Name: Adult Men's Over 35 - Indoor 6v6 - TUE - MARCH 202
 6\nGame Type: Regular\nGame Status: Complete\nHome Team: Brian Ritter FC (
 Pink)  \nAway Team: Next Level Exhaust (Blue) \nHome Score: 8\nAway Score:
  3
END:VEVENT
BEGIN:VEVENT
UID:17068024@ezleagues.ezfacility.com
DTSTAMP:20260421T130405Z
CREATED:20260421T130405Z
DTSTART:20260415T010000Z
DTEND:20260415T015000Z
LOCATION:Indoor: Big Field
CONTACT:
SUMMARY:Brian Ritter FC (Pink)   VS. Nomedigas (Red)
DESCRIPTION:League Name: Adult Men's Over 35 - Indoor 6v6 - TUE - MARCH 202
 6\nGame Type: Regular\nGame Status: Complete\nHome Team: Brian Ritter FC (
 Pink)  \nAway Team: Nomedigas (Red)\nHome Score: 7\nAway Score: 5
END:VEVENT
BEGIN:VEVENT
UID:17068030@ezleagues.ezfacility.com
DTSTAMP:20260421T130405Z
CREATED:20260421T130405Z
DTSTART:20260422T024000Z
DTEND:20260422T033000Z
LOCATION:Indoor: Big Field
CONTACT:
SUMMARY:Los Primos (Black)   VS. Brian Ritter FC (Pink)  
DESCRIPTION:League Name: Adult Men's Over 35 - Indoor 6v6 - TUE - MARCH 202
 6\nGame Type: Regular\nGame Status: Pending\nHome Team: Los Primos (Black)
   \nAway Team: Brian Ritter FC (Pink)  \n
END:VEVENT
BEGIN:VEVENT
UID:17068034@ezleagues.ezfacility.com
DTSTAMP:20260421T130405Z
CREATED:20260421T130405Z
DTSTART:20260429T001000Z
DTEND:20260429T010000Z
LOCATION:Indoor: Big Field
CONTACT:
SUMMARY:Leon FC (Yellow) VS. Brian Ritter FC (Pink)  
DESCRIPTION:League Name: Adult Men's Over 35 - Indoor 6v6 - TUE - MARCH 202
 6\nGame Type: Regular\nGame Status: Pending\nHome Team: Leon FC (Yellow)\n
 Away Team: Brian Ritter FC (Pink)  \n
END:VEVENT
BEGIN:VEVENT
UID:17068037@ezleagues.ezfacility.com
DTSTAMP:20260421T130405Z
CREATED:20260421T130405Z
DTSTART:20260506T015000Z
DTEND:20260506T024000Z
LOCATION:Indoor: Big Field
CONTACT:
SUMMARY:KM Vets (Orange) VS. Brian Ritter FC (Pink)  
DESCRIPTION:League Name: Adult Men's Over 35 - Indoor 6v6 - TUE - MARCH 202
 6\nGame Type: Regular\nGame Status: Pending\nHome Team: KM Vets (Orange)\n
 Away Team: Brian Ritter FC (Pink)  \n
END:VEVENT
END:VCALENDAR
