BEGIN:VCALENDAR
VERSION:2.0
PRODID:-//EZFacility.com, Inc.//EZL 2.5.5.28621
BEGIN:VEVENT
UID:17069029@ezleagues.ezfacility.com
DTSTAMP:20260419T154741Z
CREATED:20260419T154741Z
DTSTART:20260325T000000Z
DTEND:20260325T010000Z
LOCATION:Terwilligar A
CONTACT:
SUMMARY:Team 05 VS. Team 02
DESCRIPTION:League Name: Spring Mens 40+ League\nGame Type: Regular\nGame S
 tatus: Pending\nHome Team: Team 05\nAway Team: Team 02\n
END:VEVENT
BEGIN:VEVENT
UID:17069035@ezleagues.ezfacility.com
DTSTAMP:20260419T154741Z
CREATED:20260419T154741Z
DTSTART:20260401T010000Z
DTEND:20260401T020000Z
LOCATION:Terwilligar A
CONTACT:
SUMMARY:Team 02 VS. Team 09
DESCRIPTION:League Name: Spring Mens 40+ League\nGame Type: Regular\nGame S
 tatus: Pending\nHome Team: Team 02\nAway Team: Team 09\n
END:VEVENT
BEGIN:VEVENT
UID:17069041@ezleagues.ezfacility.com
DTSTAMP:20260419T154741Z
CREATED:20260419T154741Z
DTSTART:20260409T230000Z
DTEND:20260410T000000Z
LOCATION:Terwilligar A
CONTACT:
SUMMARY:Team 08 VS. Team 02
DESCRIPTION:League Name: Spring Mens 40+ League\nGame Type: Regular\nGame S
 tatus: Pending\nHome Team: Team 08\nAway Team: Team 02\n
END:VEVENT
BEGIN:VEVENT
UID:17069047@ezleagues.ezfacility.com
DTSTAMP:20260419T154741Z
CREATED:20260419T154741Z
DTSTART:20260415T000000Z
DTEND:20260415T010000Z
LOCATION:Terwilligar A
CONTACT:
SUMMARY:Team 02 VS. Team 04
DESCRIPTION:League Name: Spring Mens 40+ League\nGame Type: Regular\nGame S
 tatus: Pending\nHome Team: Team 02\nAway Team: Team 04\n
END:VEVENT
BEGIN:VEVENT
UID:17069052@ezleagues.ezfacility.com
DTSTAMP:20260419T154741Z
CREATED:20260419T154741Z
DTSTART:20260422T000000Z
DTEND:20260422T010000Z
LOCATION:Terwilligar A
CONTACT:
SUMMARY:Team 03 VS. Team 02
DESCRIPTION:League Name: Spring Mens 40+ League\nGame Type: Regular\nGame S
 tatus: Pending\nHome Team: Team 03\nAway Team: Team 02\n
END:VEVENT
BEGIN:VEVENT
UID:17069056@ezleagues.ezfacility.com
DTSTAMP:20260419T154741Z
CREATED:20260419T154741Z
DTSTART:20260428T230000Z
DTEND:20260429T000000Z
LOCATION:Terwilligar A
CONTACT:
SUMMARY:Team 07 VS. Team 02
DESCRIPTION:League Name: Spring Mens 40+ League\nGame Type: Regular\nGame S
 tatus: Pending\nHome Team: Team 07\nAway Team: Team 02\n
END:VEVENT
BEGIN:VEVENT
UID:17069060@ezleagues.ezfacility.com
DTSTAMP:20260419T154741Z
CREATED:20260419T154741Z
DTSTART:20260508T000000Z
DTEND:20260508T010000Z
LOCATION:Terwilligar A
CONTACT:
SUMMARY:Team 10 VS. Team 02
DESCRIPTION:League Name: Spring Mens 40+ League\nGame Type: Regular\nGame S
 tatus: Pending\nHome Team: Team 10\nAway Team: Team 02\n
END:VEVENT
BEGIN:VEVENT
UID:17069064@ezleagues.ezfacility.com
DTSTAMP:20260419T154741Z
CREATED:20260419T154741Z
DTSTART:20260513T010000Z
DTEND:20260513T020000Z
LOCATION:Terwilligar A
CONTACT:
SUMMARY:Team 06 VS. Team 02
DESCRIPTION:League Name: Spring Mens 40+ League\nGame Type: Regular\nGame S
 tatus: Pending\nHome Team: Team 06\nAway Team: Team 02\n
END:VEVENT
BEGIN:VEVENT
UID:17069068@ezleagues.ezfacility.com
DTSTAMP:20260419T154741Z
CREATED:20260419T154741Z
DTSTART:20260521T230000Z
DTEND:20260522T000000Z
LOCATION:Terwilligar A
CONTACT:
SUMMARY:Team 02 VS. Team 01
DESCRIPTION:League Name: Spring Mens 40+ League\nGame Type: Regular\nGame S
 tatus: Pending\nHome Team: Team 02\nAway Team: Team 01\n
END:VEVENT
BEGIN:VEVENT
UID:17069074@ezleagues.ezfacility.com
DTSTAMP:20260419T154741Z
CREATED:20260419T154741Z
DTSTART:20260527T010000Z
DTEND:20260527T020000Z
LOCATION:Terwilligar A
CONTACT:
SUMMARY:Team 02 VS. Team 05
DESCRIPTION:League Name: Spring Mens 40+ League\nGame Type: Regular\nGame S
 tatus: Pending\nHome Team: Team 02\nAway Team: Team 05\n
END:VEVENT
BEGIN:VEVENT
UID:17069080@ezleagues.ezfacility.com
DTSTAMP:20260419T154741Z
CREATED:20260419T154741Z
DTSTART:20260604T230000Z
DTEND:20260605T000000Z
LOCATION:Terwilligar A
CONTACT:
SUMMARY:Team 02 VS. Team 09
DESCRIPTION:League Name: Spring Mens 40+ League\nGame Type: Regular\nGame S
 tatus: Pending\nHome Team: Team 02\nAway Team: Team 09\n
END:VEVENT
BEGIN:VEVENT
UID:17069086@ezleagues.ezfacility.com
DTSTAMP:20260419T154741Z
CREATED:20260419T154741Z
DTSTART:20260609T230000Z
DTEND:20260610T000000Z
LOCATION:Terwilligar A
CONTACT:
SUMMARY:Team 02 VS. Team 08
DESCRIPTION:League Name: Spring Mens 40+ League\nGame Type: Regular\nGame S
 tatus: Pending\nHome Team: Team 02\nAway Team: Team 08\n
END:VEVENT
END:VCALENDAR
