BEGIN:VCALENDAR
VERSION:2.0
PRODID:-//EZFacility.com, Inc.//EZL 2.5.5.28621
BEGIN:VEVENT
UID:17069032@ezleagues.ezfacility.com
DTSTAMP:20260422T104257Z
CREATED:20260422T104257Z
DTSTART:20260327T000000Z
DTEND:20260327T010000Z
LOCATION:Terwilligar A
CONTACT:
SUMMARY:Team 10 VS. Team 08
DESCRIPTION:League Name: Spring Mens 40+ League\nGame Type: Regular\nGame S
 tatus: Pending\nHome Team: Team 10\nAway Team: Team 08\n
END:VEVENT
BEGIN:VEVENT
UID:17069036@ezleagues.ezfacility.com
DTSTAMP:20260422T104257Z
CREATED:20260422T104257Z
DTSTART:20260331T230000Z
DTEND:20260401T000000Z
LOCATION:Terwilligar A
CONTACT:
SUMMARY:Team 04 VS. Team 10
DESCRIPTION:League Name: Spring Mens 40+ League\nGame Type: Regular\nGame S
 tatus: Pending\nHome Team: Team 04\nAway Team: Team 10\n
END:VEVENT
BEGIN:VEVENT
UID:17069040@ezleagues.ezfacility.com
DTSTAMP:20260422T104257Z
CREATED:20260422T104257Z
DTSTART:20260407T230000Z
DTEND:20260408T000000Z
LOCATION:Terwilligar A
CONTACT:
SUMMARY:Team 03 VS. Team 10
DESCRIPTION:League Name: Spring Mens 40+ League\nGame Type: Regular\nGame S
 tatus: Pending\nHome Team: Team 03\nAway Team: Team 10\n
END:VEVENT
BEGIN:VEVENT
UID:17069044@ezleagues.ezfacility.com
DTSTAMP:20260422T104257Z
CREATED:20260422T104257Z
DTSTART:20260416T230000Z
DTEND:20260417T000000Z
LOCATION:Terwilligar A
CONTACT:
SUMMARY:Team 07 VS. Team 10
DESCRIPTION:League Name: Spring Mens 40+ League\nGame Type: Regular\nGame S
 tatus: Pending\nHome Team: Team 07\nAway Team: Team 10\n
END:VEVENT
BEGIN:VEVENT
UID:17069048@ezleagues.ezfacility.com
DTSTAMP:20260422T104257Z
CREATED:20260422T104257Z
DTSTART:20260422T010000Z
DTEND:20260422T020000Z
LOCATION:Terwilligar A
CONTACT:
SUMMARY:Team 10 VS. Team 01
DESCRIPTION:League Name: Spring Mens 40+ League\nGame Type: Regular\nGame S
 tatus: Pending\nHome Team: Team 10\nAway Team: Team 01\n
END:VEVENT
BEGIN:VEVENT
UID:17069054@ezleagues.ezfacility.com
DTSTAMP:20260422T104257Z
CREATED:20260422T104257Z
DTSTART:20260429T000000Z
DTEND:20260429T010000Z
LOCATION:Terwilligar A
CONTACT:
SUMMARY:Team 10 VS. Team 06
DESCRIPTION:League Name: Spring Mens 40+ League\nGame Type: Regular\nGame S
 tatus: Pending\nHome Team: Team 10\nAway Team: Team 06\n
END:VEVENT
BEGIN:VEVENT
UID:17069060@ezleagues.ezfacility.com
DTSTAMP:20260422T104257Z
CREATED:20260422T104257Z
DTSTART:20260508T000000Z
DTEND:20260508T010000Z
LOCATION:Terwilligar A
CONTACT:
SUMMARY:Team 10 VS. Team 02
DESCRIPTION:League Name: Spring Mens 40+ League\nGame Type: Regular\nGame S
 tatus: Pending\nHome Team: Team 10\nAway Team: Team 02\n
END:VEVENT
BEGIN:VEVENT
UID:17069066@ezleagues.ezfacility.com
DTSTAMP:20260422T104257Z
CREATED:20260422T104257Z
DTSTART:20260512T230000Z
DTEND:20260513T000000Z
LOCATION:Terwilligar A
CONTACT:
SUMMARY:Team 10 VS. Team 05
DESCRIPTION:League Name: Spring Mens 40+ League\nGame Type: Regular\nGame S
 tatus: Pending\nHome Team: Team 10\nAway Team: Team 05\n
END:VEVENT
BEGIN:VEVENT
UID:17069072@ezleagues.ezfacility.com
DTSTAMP:20260422T104257Z
CREATED:20260422T104257Z
DTSTART:20260519T230000Z
DTEND:20260520T000000Z
LOCATION:Terwilligar A
CONTACT:
SUMMARY:Team 10 VS. Team 09
DESCRIPTION:League Name: Spring Mens 40+ League\nGame Type: Regular\nGame S
 tatus: Pending\nHome Team: Team 10\nAway Team: Team 09\n
END:VEVENT
BEGIN:VEVENT
UID:17069077@ezleagues.ezfacility.com
DTSTAMP:20260422T104257Z
CREATED:20260422T104257Z
DTSTART:20260527T000000Z
DTEND:20260527T010000Z
LOCATION:Terwilligar A
CONTACT:
SUMMARY:Team 08 VS. Team 10
DESCRIPTION:League Name: Spring Mens 40+ League\nGame Type: Regular\nGame S
 tatus: Pending\nHome Team: Team 08\nAway Team: Team 10\n
END:VEVENT
BEGIN:VEVENT
UID:17069081@ezleagues.ezfacility.com
DTSTAMP:20260422T104257Z
CREATED:20260422T104257Z
DTSTART:20260603T000000Z
DTEND:20260603T010000Z
LOCATION:Terwilligar A
CONTACT:
SUMMARY:Team 04 VS. Team 10
DESCRIPTION:League Name: Spring Mens 40+ League\nGame Type: Regular\nGame S
 tatus: Pending\nHome Team: Team 04\nAway Team: Team 10\n
END:VEVENT
BEGIN:VEVENT
UID:17069085@ezleagues.ezfacility.com
DTSTAMP:20260422T104257Z
CREATED:20260422T104257Z
DTSTART:20260611T230000Z
DTEND:20260612T000000Z
LOCATION:Terwilligar A
CONTACT:
SUMMARY:Team 03 VS. Team 10
DESCRIPTION:League Name: Spring Mens 40+ League\nGame Type: Regular\nGame S
 tatus: Pending\nHome Team: Team 03\nAway Team: Team 10\n
END:VEVENT
END:VCALENDAR
