BEGIN:VCALENDAR
VERSION:2.0
PRODID:-//EZFacility.com, Inc.//EZL 2.5.5.28621
BEGIN:VEVENT
UID:17069517@ezleagues.ezfacility.com
DTSTAMP:20260426T034826Z
CREATED:20260426T034826Z
DTSTART:20260326T233000Z
DTEND:20260327T003000Z
LOCATION:Indoor Field #2
CONTACT:
SUMMARY:Lighthouse City VS. CAVFC
DESCRIPTION:League Name: Winter Session III Mens Lower Division\nGame Type:
  Regular\nGame Status: Complete\nHome Team: Lighthouse City\nAway Team: CA
 VFC\nHome Score: 8\nAway Score: 5
END:VEVENT
BEGIN:VEVENT
UID:17069525@ezleagues.ezfacility.com
DTSTAMP:20260426T034826Z
CREATED:20260426T034826Z
DTSTART:20260402T010000Z
DTEND:20260402T020000Z
LOCATION:Indoor Field #1
CONTACT:
SUMMARY:Lighthouse City VS. The Wicked Toucans
DESCRIPTION:League Name: Winter Session III Mens Lower Division\nGame Type:
  Regular\nGame Status: Complete\nHome Team: Lighthouse City\nAway Team: Th
 e Wicked Toucans\nHome Score: 5\nAway Score: 6
END:VEVENT
BEGIN:VEVENT
UID:17069533@ezleagues.ezfacility.com
DTSTAMP:20260426T034826Z
CREATED:20260426T034826Z
DTSTART:20260409T003000Z
DTEND:20260409T013000Z
LOCATION:Indoor Field #2
CONTACT:
SUMMARY:Lighthouse City VS. Shrimp Juice Boys
DESCRIPTION:League Name: Winter Session III Mens Lower Division\nGame Type:
  Regular\nGame Status: Complete\nHome Team: Lighthouse City\nAway Team: Sh
 rimp Juice Boys\nHome Score: 8\nAway Score: 9
END:VEVENT
BEGIN:VEVENT
UID:17069540@ezleagues.ezfacility.com
DTSTAMP:20260426T034826Z
CREATED:20260426T034826Z
DTSTART:20260416T013000Z
DTEND:20260416T023000Z
LOCATION:Indoor Field #3
CONTACT:
SUMMARY:Gladiators VS. Lighthouse City
DESCRIPTION:League Name: Winter Session III Mens Lower Division\nGame Type:
  Regular\nGame Status: Complete\nHome Team: Gladiators\nAway Team: Lightho
 use City\nHome Score: 5\nAway Score: 6
END:VEVENT
BEGIN:VEVENT
UID:17069546@ezleagues.ezfacility.com
DTSTAMP:20260426T034826Z
CREATED:20260426T034826Z
DTSTART:20260423T013000Z
DTEND:20260423T023000Z
LOCATION:Indoor Field #3
CONTACT:
SUMMARY:Backstreet Boys VS. Lighthouse City
DESCRIPTION:League Name: Winter Session III Mens Lower Division\nGame Type:
  Regular\nGame Status: Complete\nHome Team: Backstreet Boys\nAway Team: Li
 ghthouse City\nHome Score: 1\nAway Score: 9
END:VEVENT
BEGIN:VEVENT
UID:17069558@ezleagues.ezfacility.com
DTSTAMP:20260426T034826Z
CREATED:20260426T034826Z
DTSTART:20260506T233000Z
DTEND:20260507T003000Z
LOCATION:Indoor Field #2
CONTACT:
SUMMARY:Premature Shooters VS. Lighthouse City
DESCRIPTION:League Name: Winter Session III Mens Lower Division\nGame Type:
  Regular\nGame Status: Pending\nHome Team: Premature Shooters\nAway Team: 
 Lighthouse City\n
END:VEVENT
BEGIN:VEVENT
UID:17069552@ezleagues.ezfacility.com
DTSTAMP:20260426T034826Z
CREATED:20260426T034826Z
DTSTART:20260514T000000Z
DTEND:20260514T010000Z
LOCATION:Indoor Field #1
CONTACT:
SUMMARY:Futbollerz VS. Lighthouse City
DESCRIPTION:League Name: Winter Session III Mens Lower Division\nGame Type:
  Regular\nGame Status: Pending\nHome Team: Futbollerz\nAway Team: Lighthou
 se City\n
END:VEVENT
END:VCALENDAR
